{"text_format":"1","workbook":"xlsx","n_sheets":13,"sheets":["Podstawowe Informacje","Harmonogram produkcji ","Wykaz obiektów","Dla inspektorów ","Dane","Odstępstwa ","Podwykonawcy","Czyności zlecane","Karta Analiz ","Rejestr Reklamacji","Ocena Ryzyka","Deklaracja ","Uzupełnia Jednostka "],"not_rendered":{"charts":0,"images":1,"macros":1,"external_links":0,"defined_names":10,"comments":1,"pivot_tables":0},"unopened":[],"bounds":{"document_bytes":16777216,"sheet_cells":100000,"rows_first":2000,"rows_last":500,"rows_between":2000,"halvings":0,"cell_chars":16384,"cell_head_chars":4096},"cells_cut":0,"cells_raw":0,"read":"whole","date_system":"1900"}

{"sheet":"Podstawowe Informacje","index":0,"n_rows":103,"n_cols":9,"rows_kept":103,"cut":false,"hidden":false,"merged":[[58,2,58,6],[94,0,95,0],[94,1,94,6],[95,1,95,6],[102,0,103,0],[102,1,102,6],[103,1,103,6],[98,0,99,0],[98,1,98,6],[99,1,99,6],[100,0,101,0],[100,1,100,6],[101,1,101,6],[78,0,79,0],[78,1,78,6],[79,1,79,6],[96,0,97,0],[96,1,96,6],[97,1,97,6],[82,0,83,0],[82,1,82,6],[83,1,83,6],[84,0,85,0],[84,1,84,6],[85,1,85,6],[86,0,87,0],[86,1,86,6],[87,1,87,6],[88,0,89,0],[88,1,88,6],[89,1,89,6],[90,0,91,0],[90,1,90,6],[91,1,91,6],[92,0,93,0],[92,1,92,6],[93,1,93,6],[62,0,63,0],[62,1,62,6],[63,1,63,6],[80,0,81,0],[80,1,80,6],[81,1,81,6],[66,0,67,0],[66,1,66,6],[67,1,67,6],[68,0,69,0],[68,1,68,6],[69,1,69,6],[70,0,71,0],[70,1,70,6],[71,1,71,6],[72,0,73,0],[72,1,72,6],[73,1,73,6],[74,0,75,0],[74,1,74,6],[75,1,75,6],[76,0,77,0],[76,1,76,6],[77,1,77,6],[44,4,44,6],[64,0,65,0],[64,1,64,6],[65,1,65,6],[46,1,46,3],[46,4,46,6],[47,1,47,3],[47,4,47,6],[48,0,49,0],[48,1,49,3],[48,4,48,5],[49,4,49,5],[50,0,50,6],[51,2,51,6],[52,2,52,6],[53,2,53,6],[54,2,54,6],[55,2,55,6],[56,2,56,6],[57,2,57,6],[59,0,59,6],[60,0,61,0],[60,1,60,6],[61,1,61,6],[31,4,31,6],[32,0,32,3],[32,4,32,6],[45,1,45,3],[45,4,45,6],[34,0,34,3],[34,4,34,6],[35,0,35,3],[35,4,35,6],[36,1,36,3],[36,4,36,6],[37,1,37,3],[37,4,37,6],[38,0,38,2],[38,4,38,5],[39,0,39,2],[39,4,39,5],[40,0,40,6],[41,0,41,6],[42,1,42,3],[42,4,42,6],[43,1,43,3],[43,4,43,6],[44,1,44,3],[14,0,14,1],[14,2,14,6],[15,0,15,1],[33,0,33,3],[33,4,33,6],[19,0,22,2],[22,3,22,6],[23,0,23,3],[23,4,23,6],[24,0,24,3],[24,4,24,6],[25,0,25,3],[25,4,25,6],[26,0,26,3],[26,4,26,6],[27,0,27,3],[27,4,27,6],[28,0,28,3],[28,4,28,6],[29,0,29,3],[29,4,29,6],[30,0,30,3],[30,4,30,6],[31,0,31,3],[8,0,8,6],[9,0,9,3],[9,5,9,6],[10,0,10,1],[10,2,10,3],[11,0,11,1],[11,2,11,3],[12,0,12,6],[13,0,13,1],[13,2,13,6],[19,4,19,6],[21,4,21,6],[20,4,20,6],[1,0,1,2],[1,3,1,6],[2,0,2,6],[3,0,3,1],[3,3,3,6],[0,2,0,6],[0,0,0,1],[16,0,16,1],[16,2,16,6],[15,2,15,6],[17,0,17,6],[18,0,18,2],[18,3,18,6],[4,0,5,1],[4,2,5,2],[4,3,5,3],[4,6,5,6],[6,0,6,1],[6,3,6,6],[7,0,7,1],[7,3,7,6]]}
[null,null,"Prosimy o wypełnienie niniejszego wniosku jak najdokładniej w miarę posiadanych informacji. Wszystkie informacje będą traktowane jako poufne i objęte ochroną.Uzupełniony i podpisany wniosek prosimy odesłać na adres: Bureau Veritas ul. Migdałowa 4, 02-796 Warszawa lub przesłać drogą elektroniczną na adres e-mail agrocert@bureauveritas.com, strona www www.bureauveritas.pl"]
["Rok\n(proszę wpisac rok lub wybrac z listy rozwijanej)",null,null,null,null,null,null,null,"Przygotuj do druku wszystkie arkusze"]
["Wniosek dotyczy:",null,null,null,null,null,null,null,"(Wymagana koniecznośc zezwolenia na makra)"]
[null,null,"Pierwsza Certyfikacja","Prosimy uzupełnić cały wniosek."]
[null,null,"Kontynuacja Certyfikacji","Czy zaistniały zmiany w stosunku do roku ubiegłego/ ostatniej przeprowadzonej kontroli (np. liczba jednostek produkcyjnych, produkty, sposób zachowania statusu produktu ekologicznego)?",null,"Tak","W przypadku zaistniałych zmian prosimy wypełnić tylko te pytania/obszary, które obejmują zmiany."]
[null,null,null,null,null,"Nie"]
[null,null,"Rozszerzenie – zwiększenie wielkości produktów objętych zakresem certyfikacji","Dotyczy tylko w przypadku zwiększenia wielkości produkcji na certyfikacie"]
[null,null,"Zmiana zakresu certyfikacji","Prosimy wypełnić tylko te pytania/obszary, które obejmują zmiany. Dotyczyć to może np. dodanie nowych jednostek produkcyjnych, zmiana zgłoszonych działalności w stosunku do zakresu objętego procesem certyfikacji. "]
["Zakres prowadzonej działalności"]
["Rodzaje działalności",null,null,null,null,"Podwykonawstwo"]
[null,null,"Produkcja roślinna ",null,null,null,"Prowadzenie działań jako podwykonawca na rzecz innych podmiotów gospodarczych"]
[null,null,"Produkcja zwierzęca, w tym pszczelarstwo",null,null,null,"Prowadzenie działań z wykorzystaniem podwykonawców"]
["Kategorie Produktów zgłaszanych do certyfikacji"]
[null,null,"nieprzetworzone rośliny i produkty roślinne, w tym nasiona i inny materiał do reprodukcji roślin"]
[null,null,"zwierzęta gospodarskie i nieprzetworzone produkty zwierzęce"]
[null,null,"pasze "]
[null,null,"inne produkty wymienione w złączniku nr 1 do Rozporządzenia (UE) nr 2018/848 lub nieobjęte poprzednimi kategoriami"]
["Sekcja I Dane Kontaktowe"]
["Imię i Nazwisko/ Nazwa Wnioskodawcy:\n(nazwa widoczna na certyfikacie i zgodna z statusem prawnym podmiotu) "]
["Status Prawny Wnioskodawcy",null,null,null," osoba fizyczna"]
[null,null,null,null," osoba fizyczna prowadząca działalność gospodarczą "]
[null,null,null,null," osobowość prawna"]
[null,null,null,"Prosimy wyraźnie określić status prawny oraz Imię i Nazwisko lub Nazwa Wnioskodawcy.Prosimy o poprawne wprowadzenie danych do faktury (poniżej) – dane powinny być takie same. "]
["Dane do faktury \n(nazwa, adres, NIP):"]
["Adres siedziby (producenta):\n(województwo, gmina, powiat, kod pocztowy, miejscowość, ulica, numer)"]
["Adres Korespondencyjny:\n(województwo, gmina, powiat, kod pocztowy, miejscowość, ulica, numer)"]
["Adres Gospodarstwa\n(województwo, gmina, powiat, kod pocztowy, miejscowość, ulica, numer)"]
["PESEL:"]
["Nr ARiMR:"]
["NIP:"]
["REGON:"]
["Reprezentant Prawny:"]
["Telefon stacjonarny: "]
["Telefon komórkowy:"]
["E-mail:"]
["Osoba do kontaktu z jednostką certyfikująca"]
[null,"Telefon do osoby kontaktowej"]
[null,"e-mail do osoby kontaktowej"]
["Czy wyrażają Państwo zgodę. aby komunikacja z jednostką certyfikująca prowadzona była tylko drogą elektroniczną?\n(proszę wybrać z listy rozwijanej lub wpisać Tak/Nie)",null,null,null,"Jeśli tak, proszę podać adres"]
["Czy miała miejsce wcześniejsza certyfikacja poprzez inną jednostkę certyfikacyjną?\n(proszę wybrać z listy rozwijanej lub wpisać Tak/Nie)",null,null,null,"Jeśli tak, proszę podać nazwę poprzedniej jednostki certyfikującej:"]
["Certyfikacja Indywidulana "]
["Sekcja I Ogólne Informacje "]
["1.","Powierzchnia całkowita gospodarstwa (ha)"]
["2.","Powierzchnia upraw zgłaszanych do Rolnictwa Ekologicznego (ha)"]
["3.","Powierzchnia użytków rolnych własnych zgłaszanych do certyfikacji (ha)"]
["4.","Powierzchnia użytków rolnych w dzierżawie zgłaszanych do certyfikacji (ha)"]
["5.","Czy w gospodarstwie znajdują się zwierzęta?"]
["6.","Liczba osób zatrudnionych w Gospodarstwie?"]
["7.      ","Status prawny zgłaszanych użytków rolnych:",null,null,null,null," własność producenta"]
[null,null,null,null,null,null," dzierżawa"]
["Sekcja II Załączniki"]
["1.      ",null,"Zgłoszenie podjęcia działalności w zakresie rolnictwa ekologicznego\nZgłoszenie jest formularzem opracowanym przez Właściwy organ za pomocą, którego, zgłaszają Państwo informacje o prowadzonych działaniach w rolnictwie ekologicznym. W przypadku jakichkolwiek zmian, zobowiązani są Państwo do niezwłocznego zaktualizowania tych informacji i przedłożenia do jednostki certyfikującej."]
["2.      ",null,"Umowa certyfikacyjna / Aneks do umowy "]
["3.      ",null,"Kopia wniosku o przyznanie płatności za bieżący rok wraz z ortofotomapami "]
["4.      ",null,"Kopie wypisów z ewidencji gruntów i budynków "]
["5.      ",null,"Kopie umów dzierżawy (jeżeli dotyczy)"]
["6.      ",null,"Kopie map ewidencyjnych (w przypadku braku ortofotomap)"]
["7.      ",null,"Kopia ostatniego certyfikatu oraz raportu z kontroli (w przypadu zmiany jednostki certyfikującej)"]
["8.      ",null,"Dowód złożenia wypowiedzenia umowy do poprzedniej jednostki certyfikującej (w przypadu zmiany jednostki certyfikującej)"]
["Sekcja III Opis gospodarstwa "]
["1.      ","Opisz stosowane techniki uprawy:"]
[]
["2.      ","Opisz jaki materiał przeznaczony do reprodukcji roślin został użyty w gospodarstwie na gruntach zgłoszonych do certyfikacji ekologicznej(konwencjonalny, z okresu konwersji, ekologiczny)"]
[]
["3.      ","Opisz prowadzoną dokumentację w produkcji roślinnej."]
[]
["4.      ","Opisz plan stosowania nawozów naturalnych na gruntach zgłoszonych do certyfikacji:"]
[]
["5.      ","Opisz jakie środki ochrony roślin są stosowane w gospodarstwie na gruntach zgłoszonych do certyfikacji ekologicznej"]
[]
["6.      ","Czy zgłoszone działki do certyfikacji ekologicznej znajdują się w sąsiedztwie działek konwencjonalnych, jeżeli tak, to w jaki sposób jest niwelowane ryzyko zanieczyszczenia upraw/gruntów zgłoszonych do certyfikacji?"]
[]
["7.      ","Opisz stosowane techniki hodowli:"]
[]
["8.      ","Opisz prowadzoną dokumentację przy produkcji zwierzęcej:"]
[]
["9.      ","Opisz sposób żywienia zwierząt i pochodzenia paszy:"]
[]
["10.    ","Opisz instalację i sposób składowania nawozów naturalnych:"]
[]
["11.    ","Opisz pomieszczenia i praktyki gospodarstwem w prowadzonej produkcji zwierzęcej"]
[]
["12.    ","Czy w gospodarstwie stosuje się produkty zawierające GMO?"]
[]
["13.    ","Opisz sposób informowania jednostki certyfikującej o planie stosowania nawozów naturalnych:"]
[]
["14.    ","Opisz postępowanie, w przypadku \n•            \tpodejrzenia niezgodności dla produktu, który został wyprodukowany lub który został dostarczony przez inny podmiot gospodarczy\n•            \tuzasadnionego podejrzenia niezgodności lub gdy nie można go wykluczyć dla produktu, który został wyprodukowany lub który został dostarczony przez inny podmiot gospodarczy\nz zakresu rolnictwa ekologicznego:"]
[]
["15.    ","Opisz sposób znakowania produktów ekologicznych wyprodukowanych w jednostce produkcyjnej:"]
[]
["16.    ","Opisz sposób transportu produktów w gospodarstwie jak i poza gospodarstwo. Jakie dokumenty/zapisy są przechowywane w gospodarstwie. Jakie działania podjęto na etapie transportu własnego lub zewnętrznego aby zabezpieczyć produkt ekologiczny przed zanieczyszczeniem innymi produktami lub niedozwolonymi substancjami:"]
[]
["17.    ","Opisz środki podejmowane w celu zapewnienia zgodności z zasadami rolnictwa ekologicznego:"]
[]
["18.    ","Opisz postępowanie w przypadku otrzymania reklamacji:"]
[]
["19.    ","Opisz, w jaki sposób zarządza się pomieszczeniami do składowania produktów ekologicznych i/lub w okresie konwersjo Czy zapewniona jest możliwość jednoznacznej identyfikacji produktów w dowolnym momencie:"]
[]
["20.    ","Opisz podejmowane środki ostrożności w przypadku prowadzenia magazynowania produktów z odniesieniami do ekologicznej metody produkcji, w przypadku gdy magazynowane są również produkty konwencjonalne lub gdy magazynuje się produkty z odniesieniami do ekologicznej metody produkcji, na rzecz innego podmiotu gospodarczego:"]
[]
["21.    ","Opisz wdrożone środki ostrożności w przypadku, gdy obok prowadzonej produkcji ekologicznej, prowadzona jest produkcja konwencjonalna:"]
[]
["22.    ","Opisz wdrożone środki ostrozności aby zapobiec zanieczyszczeniu produktami lub substancjami, które nie zostały dopuszczone do stosowania w produkcji ekologicznej"]

{"sheet":"Harmonogram produkcji ","index":1,"n_rows":50,"n_cols":40,"rows_kept":50,"cut":false,"hidden":false,"merged":[[1,23,2,23],[0,0,0,26],[1,0,2,0],[1,1,2,1],[1,2,2,2],[1,3,2,3],[1,4,2,4],[1,5,2,5],[1,6,1,10],[1,11,2,11],[1,12,2,12],[1,24,2,24],[1,25,2,25],[1,26,2,26],[1,13,2,13],[1,14,2,14],[1,15,2,15],[1,16,2,16],[1,17,1,20],[1,21,2,21],[1,22,2,22]]}
["Harmonogram Produkcji\n*(w razie potrzeby dodać wiersze)",null,null,null,null,null,null,null,null,null,null,null,null,null,null,null,null,null,null,null,null,null,null,null,null,null,null,null,null,null,null,null,null,null,null,"Nr działki ","Powierzchnia",null,"Nr działki ","Powierzchnia na podstawie kolumny E "]
["Lp.","Oznaczenie działki rolnej (według oznaczeń ARiMR jeśli dotyczy)","Powierzchnia działki rolnej w ha (0,00)","Nr działki ewidencyjnej, na której jest położona działka rolna","Powierzchnia działki rolnej w granicach działki ewidencyjnej w ha (0,00)","Data zgłoszenia/powiadomienia prowadzenia na działce produkcji ekologicznej","Status działki\n(wstawić x lub wybrać z listy rozwijanej)",null,null,null,null,"\nNazwa uprawy głównej\n(proszę wybrać z listy rozwijanej)\n(Lista została opracowana na podstawie słownika ARiMR)","Nazwa uprawy współrzędnej (jeśli dotyczy)","Wsiewka / Poplon\n[Tak/Nie]","Zastosowane nawozy naturalne \n[Tak/Nie]","Ilość wysiana /wysadzona\nuprawa główna \n[tony lub sztuki]","Ilość wysiana /wysadzona\nuprawa współrzędna \n[tony lub sztuki]","Status użytego materiał przeznaczonego do reprodukcji roślin \n(wstawić x)",null,null,null,"Data wysiania/ wysadzenia","Planowany zbiór\nuprawa główna \n[t]","Planowany zbiór\nuprawa współrzędna\n[t]","Nazwa uzyskanego produktu\nuprawa główna","Nazwa uzyskanego produktu\nuprawa współrzędna ","Przeznaczenie plonu \n(np. użytek własny, sprzedaż)",null,null,null,null,null,null,null,null,null,{"$f":"SUM(AK3:AK159)","v":0},null,null,{"$f":"SUM(AN3:AN50)","v":0}]
[null,null,null,null,null,null,"1 rok konwersji","2 rok konwersji","3 rok konwersji","Ekologiczna","Konwencjonapna ",null,null,null,null,null,null,"Ekologiczny ","Nieekologiczy za zgodą WIORIN","Z własnego gospodarstwa ekologicznego ","Uprawa wieloletnia ",null,null,null,null,null,null,null,null,null,null,null,{"$f":"IFERROR(INDEX($D$4:$D$161,MATCH(0,COUNTIF($AG$2:AG2,$D$4:$D$161))),\"\")","v":0},{"$f":"IFERROR(INDEX($D$4:$D$161,MATCH(0,COUNTIF($AH$2:AH2,$D$4:$D$161))),\"\")","v":0},null,{"$f":"AG4","v":""},{"$f":"IF(AJ3=\"\",\"\",SUMIFS($C$4:$C$159,$D$4:$D$159,AJ3))","v":""},null,{"$f":"AG4","v":""},{"$f":"IF(AM3=\"\",\"\",SUMIFS($E$4:$E$159,$D$4:$D$159,AM3))","v":""}]
["1. ",null,null,null,null,null,null,null,null,null,null,null,null,null,null,null,null,null,null,null,null,null,null,null,null,null,null,null,null,null,null,null,{"$f":"IFERROR(INDEX($D$4:$D$161,MATCH(0,COUNTIF($AG$2:AG3,$D$4:$D$161),0)),\"\")","v":""},{"$f":"IFERROR(INDEX($D$4:$D$161,MATCH(0,COUNTIF($AH$2:AH3,$D$4:$D$161),0)),\"\")","v":""},null,{"$f":"AG5","v":""},{"$f":"IF(AJ4=\"\",\"\",SUMIFS($C$4:$C$159,$D$4:$D$159,AJ4))","v":""},null,{"$f":"AG5","v":""},{"$f":"IF(AM4=\"\",\"\",SUMIFS($E$4:$E$159,$D$4:$D$159,AM4))","v":""}]
["2. ",null,null,null,null,null,null,null,null,null,null,null,null,null,null,null,null,null,null,null,null,null,null,null,null,null,null,null,null,null,null,null,{"$f":"IFERROR(INDEX($D$4:$D$161,MATCH(0,COUNTIF($AG$2:AG4,$D$4:$D$161),0)),\"\")","v":""},{"$f":"IFERROR(INDEX($D$4:$D$161,MATCH(0,COUNTIF($AH$2:AH4,$D$4:$D$161),0)),\"\")","v":""},null,"","",null,"",""]
["3. ",null,null,null,null,null,null,null,null,null,null,null,null,null,null,null,null,null,null,null,null,null,null,null,null,null,null,null,null,null,null,null,{"$f":"IFERROR(INDEX($D$4:$D$161,MATCH(0,COUNTIF($AG$2:AG5,$D$4:$D$161),0)),\"\")","v":""},{"$f":"IFERROR(INDEX($D$4:$D$161,MATCH(0,COUNTIF($AH$2:AH5,$D$4:$D$161),0)),\"\")","v":""},null,"","",null,"",""]
["4. ",null,null,null,null,null,null,null,null,null,null,null,null,null,null,null,null,null,null,null,null,null,null,null,null,null,null,null,null,null,null,null,{"$f":"IFERROR(INDEX($D$4:$D$161,MATCH(0,COUNTIF($AG$2:AG6,$D$4:$D$161),0)),\"\")","v":""},{"$f":"IFERROR(INDEX($D$4:$D$161,MATCH(0,COUNTIF($AH$2:AH6,$D$4:$D$161),0)),\"\")","v":""},null,"","",null,"",""]
["5. ",null,null,null,null,null,null,null,null,null,null,null,null,null,null,null,null,null,null,null,null,null,null,null,null,null,null,null,null,null,null,null,{"$f":"IFERROR(INDEX($D$4:$D$161,MATCH(0,COUNTIF($AG$2:AG7,$D$4:$D$161),0)),\"\")","v":""},{"$f":"IFERROR(INDEX($D$4:$D$161,MATCH(0,COUNTIF($AH$2:AH7,$D$4:$D$161),0)),\"\")","v":""},null,"","",null,"",""]
["6. ",null,null,null,null,null,null,null,null,null,null,null,null,null,null,null,null,null,null,null,null,null,null,null,null,null,null,null,null,null,null,null,{"$f":"IFERROR(INDEX($D$4:$D$161,MATCH(0,COUNTIF($AG$2:AG8,$D$4:$D$161),0)),\"\")","v":""},{"$f":"IFERROR(INDEX($D$4:$D$161,MATCH(0,COUNTIF($AH$2:AH8,$D$4:$D$161),0)),\"\")","v":""},null,"","",null,"",""]
["7. ",null,null,null,null,null,null,null,null,null,null,null,null,null,null,null,null,null,null,null,null,null,null,null,null,null,null,null,null,null,null,null,{"$f":"IFERROR(INDEX($D$4:$D$161,MATCH(0,COUNTIF($AG$2:AG9,$D$4:$D$161),0)),\"\")","v":""},{"$f":"IFERROR(INDEX($D$4:$D$161,MATCH(0,COUNTIF($AH$2:AH9,$D$4:$D$161),0)),\"\")","v":""},null,"","",null,"",""]
["8. ",null,null,null,null,null,null,null,null,null,null,null,null,null,null,null,null,null,null,null,null,null,null,null,null,null,null,null,null,null,null,null,{"$f":"IFERROR(INDEX($D$4:$D$161,MATCH(0,COUNTIF($AG$2:AG10,$D$4:$D$161),0)),\"\")","v":""},{"$f":"IFERROR(INDEX($D$4:$D$161,MATCH(0,COUNTIF($AH$2:AH10,$D$4:$D$161),0)),\"\")","v":""},null,"","",null,"",""]
["9. ",null,null,null,null,null,null,null,null,null,null,null,null,null,null,null,null,null,null,null,null,null,null,null,null,null,null,null,null,null,null,null,{"$f":"IFERROR(INDEX($D$4:$D$161,MATCH(0,COUNTIF($AG$2:AG11,$D$4:$D$161),0)),\"\")","v":""},{"$f":"IFERROR(INDEX($D$4:$D$161,MATCH(0,COUNTIF($AH$2:AH11,$D$4:$D$161),0)),\"\")","v":""},null,"","",null,"",""]
["10. ",null,null,null,null,null,null,null,null,null,null,null,null,null,null,null,null,null,null,null,null,null,null,null,null,null,null,null,null,null,null,null,{"$f":"IFERROR(INDEX($D$4:$D$161,MATCH(0,COUNTIF($AG$2:AG12,$D$4:$D$161),0)),\"\")","v":""},{"$f":"IFERROR(INDEX($D$4:$D$161,MATCH(0,COUNTIF($AH$2:AH12,$D$4:$D$161),0)),\"\")","v":""},null,"","",null,"",""]
["11. ",null,null,null,null,null,null,null,null,null,null,null,null,null,null,null,null,null,null,null,null,null,null,null,null,null,null,null,null,null,null,null,{"$f":"IFERROR(INDEX($D$4:$D$161,MATCH(0,COUNTIF($AG$2:AG13,$D$4:$D$161),0)),\"\")","v":""},{"$f":"IFERROR(INDEX($D$4:$D$161,MATCH(0,COUNTIF($AH$2:AH13,$D$4:$D$161),0)),\"\")","v":""},null,"","",null,"",""]
["12. ",null,null,null,null,null,null,null,null,null,null,null,null,null,null,null,null,null,null,null,null,null,null,null,null,null,null,null,null,null,null,null,{"$f":"IFERROR(INDEX($D$4:$D$161,MATCH(0,COUNTIF($AG$2:AG14,$D$4:$D$161),0)),\"\")","v":""},{"$f":"IFERROR(INDEX($D$4:$D$161,MATCH(0,COUNTIF($AH$2:AH14,$D$4:$D$161),0)),\"\")","v":""},null,"","",null,"",""]
["13. ",null,null,null,null,null,null,null,null,null,null,null,null,null,null,null,null,null,null,null,null,null,null,null,null,null,null,null,null,null,null,null,{"$f":"IFERROR(INDEX($D$4:$D$161,MATCH(0,COUNTIF($AG$2:AG15,$D$4:$D$161),0)),\"\")","v":""},{"$f":"IFERROR(INDEX($D$4:$D$161,MATCH(0,COUNTIF($AH$2:AH15,$D$4:$D$161),0)),\"\")","v":""},null,"","",null,"",""]
["14. ",null,null,null,null,null,null,null,null,null,null,null,null,null,null,null,null,null,null,null,null,null,null,null,null,null,null,null,null,null,null,null,{"$f":"IFERROR(INDEX($D$4:$D$161,MATCH(0,COUNTIF($AG$2:AG16,$D$4:$D$161),0)),\"\")","v":""},{"$f":"IFERROR(INDEX($D$4:$D$161,MATCH(0,COUNTIF($AH$2:AH16,$D$4:$D$161),0)),\"\")","v":""},null,"","",null,"",""]
["15. ",null,null,null,null,null,null,null,null,null,null,null,null,null,null,null,null,null,null,null,null,null,null,null,null,null,null,null,null,null,null,null,{"$f":"IFERROR(INDEX($D$4:$D$161,MATCH(0,COUNTIF($AG$2:AG17,$D$4:$D$161),0)),\"\")","v":""},{"$f":"IFERROR(INDEX($D$4:$D$161,MATCH(0,COUNTIF($AH$2:AH17,$D$4:$D$161),0)),\"\")","v":""},null,"","",null,"",""]
["16. ",null,null,null,null,null,null,null,null,null,null,null,null,null,null,null,null,null,null,null,null,null,null,null,null,null,null,null,null,null,null,null,{"$f":"IFERROR(INDEX($D$4:$D$161,MATCH(0,COUNTIF($AG$2:AG18,$D$4:$D$161),0)),\"\")","v":""},{"$f":"IFERROR(INDEX($D$4:$D$161,MATCH(0,COUNTIF($AH$2:AH18,$D$4:$D$161),0)),\"\")","v":""},null,"","",null,"",""]
["17. ",null,null,null,null,null,null,null,null,null,null,null,null,null,null,null,null,null,null,null,null,null,null,null,null,null,null,null,null,null,null,null,{"$f":"IFERROR(INDEX($D$4:$D$161,MATCH(0,COUNTIF($AG$2:AG19,$D$4:$D$161),0)),\"\")","v":""},{"$f":"IFERROR(INDEX($D$4:$D$161,MATCH(0,COUNTIF($AH$2:AH19,$D$4:$D$161),0)),\"\")","v":""},null,"","",null,"",""]
["18. ",null,null,null,null,null,null,null,null,null,null,null,null,null,null,null,null,null,null,null,null,null,null,null,null,null,null,null,null,null,null,null,{"$f":"IFERROR(INDEX($D$4:$D$161,MATCH(0,COUNTIF($AG$2:AG20,$D$4:$D$161),0)),\"\")","v":""},{"$f":"IFERROR(INDEX($D$4:$D$161,MATCH(0,COUNTIF($AH$2:AH20,$D$4:$D$161),0)),\"\")","v":""},null,"","",null,"",""]
["19. ",null,null,null,null,null,null,null,null,null,null,null,null,null,null,null,null,null,null,null,null,null,null,null,null,null,null,null,null,null,null,null,{"$f":"IFERROR(INDEX($D$4:$D$161,MATCH(0,COUNTIF($AG$2:AG21,$D$4:$D$161),0)),\"\")","v":""},{"$f":"IFERROR(INDEX($D$4:$D$161,MATCH(0,COUNTIF($AH$2:AH21,$D$4:$D$161),0)),\"\")","v":""},null,"","",null,"",""]
["20. ",null,null,null,null,null,null,null,null,null,null,null,null,null,null,null,null,null,null,null,null,null,null,null,null,null,null,null,null,null,null,null,{"$f":"IFERROR(INDEX($D$4:$D$161,MATCH(0,COUNTIF($AG$2:AG22,$D$4:$D$161),0)),\"\")","v":""},{"$f":"IFERROR(INDEX($D$4:$D$161,MATCH(0,COUNTIF($AH$2:AH22,$D$4:$D$161),0)),\"\")","v":""},null,"","",null,"",""]
["21. ",null,null,null,null,null,null,null,null,null,null,null,null,null,null,null,null,null,null,null,null,null,null,null,null,null,null,null,null,null,null,null,{"$f":"IFERROR(INDEX($D$4:$D$161,MATCH(0,COUNTIF($AG$2:AG23,$D$4:$D$161),0)),\"\")","v":""},{"$f":"IFERROR(INDEX($D$4:$D$161,MATCH(0,COUNTIF($AH$2:AH23,$D$4:$D$161),0)),\"\")","v":""},null,"","",null,"",""]
["22. ",null,null,null,null,null,null,null,null,null,null,null,null,null,null,null,null,null,null,null,null,null,null,null,null,null,null,null,null,null,null,null,{"$f":"IFERROR(INDEX($D$4:$D$161,MATCH(0,COUNTIF($AG$2:AG24,$D$4:$D$161),0)),\"\")","v":""},{"$f":"IFERROR(INDEX($D$4:$D$161,MATCH(0,COUNTIF($AH$2:AH24,$D$4:$D$161),0)),\"\")","v":""},null,"","",null,"",""]
["23. ",null,null,null,null,null,null,null,null,null,null,null,null,null,null,null,null,null,null,null,null,null,null,null,null,null,null,null,null,null,null,null,{"$f":"IFERROR(INDEX($D$4:$D$161,MATCH(0,COUNTIF($AG$2:AG25,$D$4:$D$161),0)),\"\")","v":""},{"$f":"IFERROR(INDEX($D$4:$D$161,MATCH(0,COUNTIF($AH$2:AH25,$D$4:$D$161),0)),\"\")","v":""},null,"","",null,"",""]
["24. ",null,null,null,null,null,null,null,null,null,null,null,null,null,null,null,null,null,null,null,null,null,null,null,null,null,null,null,null,null,null,null,{"$f":"IFERROR(INDEX($D$4:$D$161,MATCH(0,COUNTIF($AG$2:AG26,$D$4:$D$161),0)),\"\")","v":""},{"$f":"IFERROR(INDEX($D$4:$D$161,MATCH(0,COUNTIF($AH$2:AH26,$D$4:$D$161),0)),\"\")","v":""},null,"","",null,"",""]
["25. ",null,null,null,null,null,null,null,null,null,null,null,null,null,null,null,null,null,null,null,null,null,null,null,null,null,null,null,null,null,null,null,{"$f":"IFERROR(INDEX($D$4:$D$161,MATCH(0,COUNTIF($AG$2:AG27,$D$4:$D$161),0)),\"\")","v":""},{"$f":"IFERROR(INDEX($D$4:$D$161,MATCH(0,COUNTIF($AH$2:AH27,$D$4:$D$161),0)),\"\")","v":""},null,"","",null,"",""]
["26. ",null,null,null,null,null,null,null,null,null,null,null,null,null,null,null,null,null,null,null,null,null,null,null,null,null,null,null,null,null,null,null,{"$f":"IFERROR(INDEX($D$4:$D$161,MATCH(0,COUNTIF($AG$2:AG28,$D$4:$D$161),0)),\"\")","v":""},{"$f":"IFERROR(INDEX($D$4:$D$161,MATCH(0,COUNTIF($AH$2:AH28,$D$4:$D$161),0)),\"\")","v":""},null,"","",null,"",""]
["27. ",null,null,null,null,null,null,null,null,null,null,null,null,null,null,null,null,null,null,null,null,null,null,null,null,null,null,null,null,null,null,null,{"$f":"IFERROR(INDEX($D$4:$D$161,MATCH(0,COUNTIF($AG$2:AG29,$D$4:$D$161),0)),\"\")","v":""},{"$f":"IFERROR(INDEX($D$4:$D$161,MATCH(0,COUNTIF($AH$2:AH29,$D$4:$D$161),0)),\"\")","v":""},null,"","",null,"",""]
["28. ",null,null,null,null,null,null,null,null,null,null,null,null,null,null,null,null,null,null,null,null,null,null,null,null,null,null,null,null,null,null,null,{"$f":"IFERROR(INDEX($D$4:$D$161,MATCH(0,COUNTIF($AG$2:AG30,$D$4:$D$161),0)),\"\")","v":""},{"$f":"IFERROR(INDEX($D$4:$D$161,MATCH(0,COUNTIF($AH$2:AH30,$D$4:$D$161),0)),\"\")","v":""},null,"","",null,"",""]
["29. ",null,null,null,null,null,null,null,null,null,null,null,null,null,null,null,null,null,null,null,null,null,null,null,null,null,null,null,null,null,null,null,{"$f":"IFERROR(INDEX($D$4:$D$161,MATCH(0,COUNTIF($AG$2:AG31,$D$4:$D$161),0)),\"\")","v":""},{"$f":"IFERROR(INDEX($D$4:$D$161,MATCH(0,COUNTIF($AH$2:AH31,$D$4:$D$161),0)),\"\")","v":""},null,"","",null,"",""]
["30. ",null,null,null,null,null,null,null,null,null,null,null,null,null,null,null,null,null,null,null,null,null,null,null,null,null,null,null,null,null,null,null,{"$f":"IFERROR(INDEX($D$4:$D$161,MATCH(0,COUNTIF($AG$2:AG32,$D$4:$D$161),0)),\"\")","v":""},{"$f":"IFERROR(INDEX($D$4:$D$161,MATCH(0,COUNTIF($AH$2:AH32,$D$4:$D$161),0)),\"\")","v":""},null,"","",null,"",""]
["31. ",null,null,null,null,null,null,null,null,null,null,null,null,null,null,null,null,null,null,null,null,null,null,null,null,null,null,null,null,null,null,null,{"$f":"IFERROR(INDEX($D$4:$D$161,MATCH(0,COUNTIF($AG$2:AG33,$D$4:$D$161),0)),\"\")","v":""},{"$f":"IFERROR(INDEX($D$4:$D$161,MATCH(0,COUNTIF($AH$2:AH33,$D$4:$D$161),0)),\"\")","v":""},null,"","",null,"",""]
["32. ",null,null,null,null,null,null,null,null,null,null,null,null,null,null,null,null,null,null,null,null,null,null,null,null,null,null,null,null,null,null,null,{"$f":"IFERROR(INDEX($D$4:$D$161,MATCH(0,COUNTIF($AG$2:AG34,$D$4:$D$161),0)),\"\")","v":""},{"$f":"IFERROR(INDEX($D$4:$D$161,MATCH(0,COUNTIF($AH$2:AH34,$D$4:$D$161),0)),\"\")","v":""},null,"","",null,"",""]
["33. ",null,null,null,null,null,null,null,null,null,null,null,null,null,null,null,null,null,null,null,null,null,null,null,null,null,null,null,null,null,null,null,{"$f":"IFERROR(INDEX($D$4:$D$161,MATCH(0,COUNTIF($AG$2:AG35,$D$4:$D$161),0)),\"\")","v":""},{"$f":"IFERROR(INDEX($D$4:$D$161,MATCH(0,COUNTIF($AH$2:AH35,$D$4:$D$161),0)),\"\")","v":""},null,"","",null,"",""]
["34. ",null,null,null,null,null,null,null,null,null,null,null,null,null,null,null,null,null,null,null,null,null,null,null,null,null,null,null,null,null,null,null,{"$f":"IFERROR(INDEX($D$4:$D$161,MATCH(0,COUNTIF($AG$2:AG36,$D$4:$D$161),0)),\"\")","v":""},{"$f":"IFERROR(INDEX($D$4:$D$161,MATCH(0,COUNTIF($AH$2:AH36,$D$4:$D$161),0)),\"\")","v":""},null,"","",null,"",""]
["35. ",null,null,null,null,null,null,null,null,null,null,null,null,null,null,null,null,null,null,null,null,null,null,null,null,null,null,null,null,null,null,null,{"$f":"IFERROR(INDEX($D$4:$D$161,MATCH(0,COUNTIF($AG$2:AG37,$D$4:$D$161),0)),\"\")","v":""},{"$f":"IFERROR(INDEX($D$4:$D$161,MATCH(0,COUNTIF($AH$2:AH37,$D$4:$D$161),0)),\"\")","v":""},null,"","",null,"",""]
["36. ",null,null,null,null,null,null,null,null,null,null,null,null,null,null,null,null,null,null,null,null,null,null,null,null,null,null,null,null,null,null,null,{"$f":"IFERROR(INDEX($D$4:$D$161,MATCH(0,COUNTIF($AG$2:AG38,$D$4:$D$161),0)),\"\")","v":""},{"$f":"IFERROR(INDEX($D$4:$D$161,MATCH(0,COUNTIF($AH$2:AH38,$D$4:$D$161),0)),\"\")","v":""},null,"","",null,"",""]
["37. ",null,null,null,null,null,null,null,null,null,null,null,null,null,null,null,null,null,null,null,null,null,null,null,null,null,null,null,null,null,null,null,{"$f":"IFERROR(INDEX($D$4:$D$161,MATCH(0,COUNTIF($AG$2:AG39,$D$4:$D$161),0)),\"\")","v":""},{"$f":"IFERROR(INDEX($D$4:$D$161,MATCH(0,COUNTIF($AH$2:AH39,$D$4:$D$161),0)),\"\")","v":""},null,"","",null,"",""]
["38. ",null,null,null,null,null,null,null,null,null,null,null,null,null,null,null,null,null,null,null,null,null,null,null,null,null,null,null,null,null,null,null,{"$f":"IFERROR(INDEX($D$4:$D$161,MATCH(0,COUNTIF($AG$2:AG40,$D$4:$D$161),0)),\"\")","v":""},{"$f":"IFERROR(INDEX($D$4:$D$161,MATCH(0,COUNTIF($AH$2:AH40,$D$4:$D$161),0)),\"\")","v":""},null,"","",null,"",""]
["39. ",null,null,null,null,null,null,null,null,null,null,null,null,null,null,null,null,null,null,null,null,null,null,null,null,null,null,null,null,null,null,null,{"$f":"IFERROR(INDEX($D$4:$D$161,MATCH(0,COUNTIF($AG$2:AG41,$D$4:$D$161),0)),\"\")","v":""},{"$f":"IFERROR(INDEX($D$4:$D$161,MATCH(0,COUNTIF($AH$2:AH41,$D$4:$D$161),0)),\"\")","v":""},null,"","",null,"",""]
["40. ",null,null,null,null,null,null,null,null,null,null,null,null,null,null,null,null,null,null,null,null,null,null,null,null,null,null,null,null,null,null,null,{"$f":"IFERROR(INDEX($D$4:$D$161,MATCH(0,COUNTIF($AG$2:AG42,$D$4:$D$161),0)),\"\")","v":""},{"$f":"IFERROR(INDEX($D$4:$D$161,MATCH(0,COUNTIF($AH$2:AH42,$D$4:$D$161),0)),\"\")","v":""},null,"","",null,"",""]
["41. ",null,null,null,null,null,null,null,null,null,null,null,null,null,null,null,null,null,null,null,null,null,null,null,null,null,null,null,null,null,null,null,{"$f":"IFERROR(INDEX($D$4:$D$161,MATCH(0,COUNTIF($AG$2:AG43,$D$4:$D$161),0)),\"\")","v":""},{"$f":"IFERROR(INDEX($D$4:$D$161,MATCH(0,COUNTIF($AH$2:AH43,$D$4:$D$161),0)),\"\")","v":""},null,"","",null,"",""]
["42. ",null,null,null,null,null,null,null,null,null,null,null,null,null,null,null,null,null,null,null,null,null,null,null,null,null,null,null,null,null,null,null,{"$f":"IFERROR(INDEX($D$4:$D$161,MATCH(0,COUNTIF($AG$2:AG44,$D$4:$D$161),0)),\"\")","v":""},{"$f":"IFERROR(INDEX($D$4:$D$161,MATCH(0,COUNTIF($AH$2:AH44,$D$4:$D$161),0)),\"\")","v":""},null,"","",null,"",""]
["43. ",null,null,null,null,null,null,null,null,null,null,null,null,null,null,null,null,null,null,null,null,null,null,null,null,null,null,null,null,null,null,null,{"$f":"IFERROR(INDEX($D$4:$D$161,MATCH(0,COUNTIF($AG$2:AG45,$D$4:$D$161),0)),\"\")","v":""},{"$f":"IFERROR(INDEX($D$4:$D$161,MATCH(0,COUNTIF($AH$2:AH45,$D$4:$D$161),0)),\"\")","v":""},null,"","",null,"",""]
["44. ",null,null,null,null,null,null,null,null,null,null,null,null,null,null,null,null,null,null,null,null,null,null,null,null,null,null,null,null,null,null,null,{"$f":"IFERROR(INDEX($D$4:$D$161,MATCH(0,COUNTIF($AG$2:AG46,$D$4:$D$161),0)),\"\")","v":""},{"$f":"IFERROR(INDEX($D$4:$D$161,MATCH(0,COUNTIF($AH$2:AH46,$D$4:$D$161),0)),\"\")","v":""},null,"","",null,"",""]
["45. ",null,null,null,null,null,null,null,null,null,null,null,null,null,null,null,null,null,null,null,null,null,null,null,null,null,null,null,null,null,null,null,{"$f":"IFERROR(INDEX($D$4:$D$161,MATCH(0,COUNTIF($AG$2:AG47,$D$4:$D$161),0)),\"\")","v":""},{"$f":"IFERROR(INDEX($D$4:$D$161,MATCH(0,COUNTIF($AH$2:AH47,$D$4:$D$161),0)),\"\")","v":""},null,"","",null,"",""]
["46. ",null,null,null,null,null,null,null,null,null,null,null,null,null,null,null,null,null,null,null,null,null,null,null,null,null,null,null,null,null,null,null,{"$f":"IFERROR(INDEX($D$4:$D$161,MATCH(0,COUNTIF($AG$2:AG48,$D$4:$D$161),0)),\"\")","v":""},{"$f":"IFERROR(INDEX($D$4:$D$161,MATCH(0,COUNTIF($AH$2:AH48,$D$4:$D$161),0)),\"\")","v":""},null,"","",null,"",""]
["47. ",null,null,null,null,null,null,null,null,null,null,null,null,null,null,null,null,null,null,null,null,null,null,null,null,null,null,null,null,null,null,null,{"$f":"IFERROR(INDEX($D$4:$D$161,MATCH(0,COUNTIF($AG$2:AG49,$D$4:$D$161),0)),\"\")","v":""},{"$f":"IFERROR(INDEX($D$4:$D$161,MATCH(0,COUNTIF($AH$2:AH49,$D$4:$D$161),0)),\"\")","v":""},null,0,0,null,0,0]

{"sheet":"Wykaz obiektów","index":2,"n_rows":11,"n_cols":7,"rows_kept":11,"cut":false,"hidden":false,"merged":[[0,0,0,6],[1,0,2,0],[1,1,2,1],[1,3,2,3],[1,4,1,5],[1,6,2,6],[1,2,2,2]]}
["Wykaz Obiektów\nNależy podać wszystkie obiekty należące do podmiotu\n*(w razie potrzeby dodać wiersze)"]
["LP.","Nazwa obiektu","Adres lub geolokalizacja ","Przeznaczenie","Wykorzystanie\n(wstawić x)",null,"Należy opisać środki ostrożności podejmowane w celu ograniczenia zagrożenia zanieczyszczeniem niezatwierdzonymi substancjami lub produktami oraz środki podjęte w celu zachowania czystości w miejscach składowania oraz podczas całego cyklu produkcyjnego podmiotu gospodarczego."]
[null,null,null,null,"Produkcja Ekologiczna lub produkcja w Okresie konwersji","Produkcja Konwencjonalna"]
["1. "]
["2.      "]
["3.      "]
["4.      "]
["5.      "]
["6.      "]
["7.      "]
["()*"]

{"sheet":"Dla inspektorów ","index":3,"n_rows":324,"n_cols":22,"rows_kept":324,"cut":false,"hidden":true,"merged":[[0,19,2,19],[0,20,2,20],[0,21,2,21],[0,12,2,12],[0,14,2,14],[0,15,2,15],[0,16,2,16],[0,17,2,17],[0,18,2,18],[0,11,2,11],[0,0,2,0],[0,1,2,1],[0,2,2,2],[0,3,2,3],[0,4,2,4],[0,5,2,5],[0,6,2,6],[0,7,2,7],[0,8,2,8],[0,9,2,9],[0,10,2,10]]}
["Oznaczenie działki rolnej \n(według oznaczeń ARiMR jeśli dotyczy)","Powierzchnia działki rolnej w ha  (0,00)","Nr działki ewidencyjnej, na której jest położona działka rolna","Powierzchnia działki rolnej w granicach działki ewidencyjnej\nw ha (0,00)","Status działki","Nazwa uprawy głównej","Nazwa uprawy współrzędnej (jeśli dotyczy)","Pochodzenie materiału przeznaczonego  do reprodukcji roślin","Ilość wysiana /wysadzona\nPodajemy wartość Kg/ha","Ilość wysiana /wysadzona\nuprawa wspołrzędna  \nPodajemy wartość Kg/ha","Status użytego materiału ","Data wysiania/ wysadzenia","Data objęcia systemem kontroli ","Czy zachowano okres konwersji, co najmniej:","Status uprawy","Status uzyskanego produktu","Nazwa uzyskanego produktu","Nazwa uzyskanego produktu w przypadku uprawy współrzędnej \n(jeśli dotyczy)","Masa uzyskanego produktu [ton]\n(ilość przewidywana lub faktycznie zebrana) ","Masa uzyskanego produktu w przypadku uprawy współrzednej [ton]\n(ilość przewidywana lub faktycznie zebrana) ","Czy produkt już zebrano? ","Produkt zgłaszany/ Produkty zgłaszane do certyfikacji \n(Wstawić tak lub nie)"]
[null,null,null,null,null,null,null,null,null,null,null,null,null,"• 2 lat przed wysiewem dla upraw jednorocznych? \n_______________________________________\n•2 lat w przypadku łąki lub upraw roślin wieloletnich, przed ich wykorzystaniem jako paszy?\n_______________________________________\n• 3 lat przez zbiorem dla upraw roślin wieloletnich innych niż rośliny na pasze?\n"]
[null,null,null,null,null,null,null,null,null,null,null,null,null,"(Wstawić tak lub nie)"]
[{"$f":"'Harmonogram produkcji '!B4","v":0},{"$f":"'Harmonogram produkcji '!C4","v":0},{"$f":"'Harmonogram produkcji '!D4","v":0},{"$f":"'Harmonogram produkcji '!E4","v":0},{"$f":"IF('Harmonogram produkcji '!G4=\"X\",\"z pierwszych 12 miesiecy okresu konwersji\",IF('Harmonogram produkcji '!H4=\"X\",\"W okresie konwersji 2 rok \",IF('Harmonogram produkcji '!I4=\"X\",\"W okresie konwersji 3 rok \",IF('Harmonogram produkcji '!J4=\"X\",\"Ekologiczny \"))))","v":false},{"$f":"'Harmonogram produkcji '!L4","v":0},{"$f":"'Harmonogram produkcji '!M4","v":0},null,{"$f":"'Harmonogram produkcji '!P4","v":0},{"$f":"'Harmonogram produkcji '!Q4","v":0},{"$f":"IF('Harmonogram produkcji '!R4=\"X\",\"ekologiczny \",IF('Harmonogram produkcji '!S4=\"X\",\"nieekologiczny\",IF('Harmonogram produkcji '!T4=\"X\",\"z własnego gospodarstwa\",IF('Harmonogram produkcji '!U4=\"X\",\"ND, uprawa zastana\"))))","v":false},{"$f":"'Harmonogram produkcji '!V4","v":"00:00:00"},{"$f":"'Harmonogram produkcji '!F4","v":"00:00:00"},null,null,null,{"$f":"'Harmonogram produkcji '!Y4","v":0},{"$f":"'Harmonogram produkcji '!Z4","v":0},{"$f":"'Harmonogram produkcji '!W4","v":0},{"$f":"'Harmonogram produkcji '!X4","v":0}]
[{"$f":"'Harmonogram produkcji '!B5","v":0},{"$f":"'Harmonogram produkcji '!C5","v":0},{"$f":"'Harmonogram produkcji '!D5","v":0},{"$f":"'Harmonogram produkcji '!E5","v":0},{"$f":"IF('Harmonogram produkcji '!G5=\"X\",\"z pierwszych 12 miesiecy okresu konwersji\",IF('Harmonogram produkcji '!H5=\"X\",\"W okresie konwersji 2 rok \",IF('Harmonogram produkcji '!I5=\"X\",\"W okresie konwersji 3 rok \",IF('Harmonogram produkcji '!J5=\"X\",\"Ekologiczny \"))))","v":false},{"$f":"'Harmonogram produkcji '!L5","v":0},{"$f":"'Harmonogram produkcji '!M5","v":0},null,{"$f":"'Harmonogram produkcji '!P5","v":0},{"$f":"'Harmonogram produkcji '!Q5","v":0},{"$f":"IF('Harmonogram produkcji '!R5=\"X\",\"ekologiczny \",IF('Harmonogram produkcji '!S5=\"X\",\"nieekologiczny\",IF('Harmonogram produkcji '!T5=\"X\",\"z własnego gospodarstwa\",IF('Harmonogram produkcji '!U5=\"X\",\"ND, uprawa zastana\"))))","v":false},{"$f":"'Harmonogram produkcji '!V5","v":"00:00:00"},{"$f":"'Harmonogram produkcji '!F5","v":"00:00:00"},null,null,null,{"$f":"'Harmonogram produkcji '!Y5","v":0},{"$f":"'Harmonogram produkcji '!Z5","v":0},{"$f":"'Harmonogram produkcji '!W5","v":0},{"$f":"'Harmonogram produkcji '!X5","v":0}]
[{"$f":"'Harmonogram produkcji '!B6","v":0},{"$f":"'Harmonogram produkcji '!C6","v":0},{"$f":"'Harmonogram produkcji '!D6","v":0},{"$f":"'Harmonogram produkcji '!E6","v":0},{"$f":"IF('Harmonogram produkcji '!G6=\"X\",\"z pierwszych 12 miesiecy okresu konwersji\",IF('Harmonogram produkcji '!H6=\"X\",\"W okresie konwersji 2 rok \",IF('Harmonogram produkcji '!I6=\"X\",\"W okresie konwersji 3 rok \",IF('Harmonogram produkcji '!J6=\"X\",\"Ekologiczny \"))))","v":false},{"$f":"'Harmonogram produkcji '!L6","v":0},{"$f":"'Harmonogram produkcji '!M6","v":0},null,{"$f":"'Harmonogram produkcji '!P6","v":0},{"$f":"'Harmonogram produkcji '!Q6","v":0},{"$f":"IF('Harmonogram produkcji '!R6=\"X\",\"ekologiczny \",IF('Harmonogram produkcji '!S6=\"X\",\"nieekologiczny\",IF('Harmonogram produkcji '!T6=\"X\",\"z własnego gospodarstwa\",IF('Harmonogram produkcji '!U6=\"X\",\"ND, uprawa zastana\"))))","v":false},{"$f":"'Harmonogram produkcji '!V6","v":"00:00:00"},{"$f":"'Harmonogram produkcji '!F6","v":"00:00:00"},null,null,null,{"$f":"'Harmonogram produkcji '!Y6","v":0},{"$f":"'Harmonogram produkcji '!Z6","v":0},{"$f":"'Harmonogram produkcji '!W6","v":0},{"$f":"'Harmonogram produkcji '!X6","v":0}]
[{"$f":"'Harmonogram produkcji '!B7","v":0},{"$f":"'Harmonogram produkcji '!C7","v":0},{"$f":"'Harmonogram produkcji '!D7","v":0},{"$f":"'Harmonogram produkcji '!E7","v":0},{"$f":"IF('Harmonogram produkcji '!G7=\"X\",\"z pierwszych 12 miesiecy okresu konwersji\",IF('Harmonogram produkcji '!H7=\"X\",\"W okresie konwersji 2 rok \",IF('Harmonogram produkcji '!I7=\"X\",\"W okresie konwersji 3 rok \",IF('Harmonogram produkcji '!J7=\"X\",\"Ekologiczny \"))))","v":false},{"$f":"'Harmonogram produkcji '!L7","v":0},{"$f":"'Harmonogram produkcji '!M7","v":0},null,{"$f":"'Harmonogram produkcji '!P7","v":0},{"$f":"'Harmonogram produkcji '!Q7","v":0},{"$f":"IF('Harmonogram produkcji '!R7=\"X\",\"ekologiczny \",IF('Harmonogram produkcji '!S7=\"X\",\"nieekologiczny\",IF('Harmonogram produkcji '!T7=\"X\",\"z własnego gospodarstwa\",IF('Harmonogram produkcji '!U7=\"X\",\"ND, uprawa zastana\"))))","v":false},{"$f":"'Harmonogram produkcji '!V7","v":"00:00:00"},{"$f":"'Harmonogram produkcji '!F7","v":"00:00:00"},null,null,null,{"$f":"'Harmonogram produkcji '!Y7","v":0},{"$f":"'Harmonogram produkcji '!Z7","v":0},{"$f":"'Harmonogram produkcji '!W7","v":0},{"$f":"'Harmonogram produkcji '!X7","v":0}]
[{"$f":"'Harmonogram produkcji '!B8","v":0},{"$f":"'Harmonogram produkcji '!C8","v":0},{"$f":"'Harmonogram produkcji '!D8","v":0},{"$f":"'Harmonogram produkcji '!E8","v":0},{"$f":"IF('Harmonogram produkcji '!G8=\"X\",\"z pierwszych 12 miesiecy okresu konwersji\",IF('Harmonogram produkcji '!H8=\"X\",\"W okresie konwersji 2 rok \",IF('Harmonogram produkcji '!I8=\"X\",\"W okresie konwersji 3 rok \",IF('Harmonogram produkcji '!J8=\"X\",\"Ekologiczny \"))))","v":false},{"$f":"'Harmonogram produkcji '!L8","v":0},{"$f":"'Harmonogram produkcji '!M8","v":0},null,{"$f":"'Harmonogram produkcji '!P8","v":0},{"$f":"'Harmonogram produkcji '!Q8","v":0},{"$f":"IF('Harmonogram produkcji '!R8=\"X\",\"ekologiczny \",IF('Harmonogram produkcji '!S8=\"X\",\"nieekologiczny\",IF('Harmonogram produkcji '!T8=\"X\",\"z własnego gospodarstwa\",IF('Harmonogram produkcji '!U8=\"X\",\"ND, uprawa zastana\"))))","v":false},{"$f":"'Harmonogram produkcji '!V8","v":"00:00:00"},{"$f":"'Harmonogram produkcji '!F8","v":"00:00:00"},null,null,null,{"$f":"'Harmonogram produkcji '!Y8","v":0},{"$f":"'Harmonogram produkcji '!Z8","v":0},{"$f":"'Harmonogram produkcji '!W8","v":0},{"$f":"'Harmonogram produkcji '!X8","v":0}]
[{"$f":"'Harmonogram produkcji '!B9","v":0},{"$f":"'Harmonogram produkcji '!C9","v":0},{"$f":"'Harmonogram produkcji '!D9","v":0},{"$f":"'Harmonogram produkcji '!E9","v":0},{"$f":"IF('Harmonogram produkcji '!G9=\"X\",\"z pierwszych 12 miesiecy okresu konwersji\",IF('Harmonogram produkcji '!H9=\"X\",\"W okresie konwersji 2 rok \",IF('Harmonogram produkcji '!I9=\"X\",\"W okresie konwersji 3 rok \",IF('Harmonogram produkcji '!J9=\"X\",\"Ekologiczny \"))))","v":false},{"$f":"'Harmonogram produkcji '!L9","v":0},{"$f":"'Harmonogram produkcji '!M9","v":0},null,{"$f":"'Harmonogram produkcji '!P9","v":0},{"$f":"'Harmonogram produkcji '!Q9","v":0},{"$f":"IF('Harmonogram produkcji '!R9=\"X\",\"ekologiczny \",IF('Harmonogram produkcji '!S9=\"X\",\"nieekologiczny\",IF('Harmonogram produkcji '!T9=\"X\",\"z własnego gospodarstwa\",IF('Harmonogram produkcji '!U9=\"X\",\"ND, uprawa zastana\"))))","v":false},{"$f":"'Harmonogram produkcji '!V9","v":"00:00:00"},{"$f":"'Harmonogram produkcji '!F9","v":"00:00:00"},null,null,null,{"$f":"'Harmonogram produkcji '!Y9","v":0},{"$f":"'Harmonogram produkcji '!Z9","v":0},{"$f":"'Harmonogram produkcji '!W9","v":0},{"$f":"'Harmonogram produkcji '!X9","v":0}]
[{"$f":"'Harmonogram produkcji '!B10","v":0},{"$f":"'Harmonogram produkcji '!C10","v":0},{"$f":"'Harmonogram produkcji '!D10","v":0},{"$f":"'Harmonogram produkcji '!E10","v":0},{"$f":"IF('Harmonogram produkcji '!G10=\"X\",\"z pierwszych 12 miesiecy okresu konwersji\",IF('Harmonogram produkcji '!H10=\"X\",\"W okresie konwersji 2 rok \",IF('Harmonogram produkcji '!I10=\"X\",\"W okresie konwersji 3 rok \",IF('Harmonogram produkcji '!J10=\"X\",\"Ekologiczny \"))))","v":false},{"$f":"'Harmonogram produkcji '!L10","v":0},{"$f":"'Harmonogram produkcji '!M10","v":0},null,{"$f":"'Harmonogram produkcji '!P10","v":0},{"$f":"'Harmonogram produkcji '!Q10","v":0},{"$f":"IF('Harmonogram produkcji '!R10=\"X\",\"ekologiczny \",IF('Harmonogram produkcji '!S10=\"X\",\"nieekologiczny\",IF('Harmonogram produkcji '!T10=\"X\",\"z własnego gospodarstwa\",IF('Harmonogram produkcji '!U10=\"X\",\"ND, uprawa zastana\"))))","v":false},{"$f":"'Harmonogram produkcji '!V10","v":"00:00:00"},{"$f":"'Harmonogram produkcji '!F10","v":"00:00:00"},null,null,null,{"$f":"'Harmonogram produkcji '!Y10","v":0},{"$f":"'Harmonogram produkcji '!Z10","v":0},{"$f":"'Harmonogram produkcji '!W10","v":0},{"$f":"'Harmonogram produkcji '!X10","v":0}]
[{"$f":"'Harmonogram produkcji '!B11","v":0},{"$f":"'Harmonogram produkcji '!C11","v":0},{"$f":"'Harmonogram produkcji '!D11","v":0},{"$f":"'Harmonogram produkcji '!E11","v":0},{"$f":"IF('Harmonogram produkcji '!G11=\"X\",\"z pierwszych 12 miesiecy okresu konwersji\",IF('Harmonogram produkcji '!H11=\"X\",\"W okresie konwersji 2 rok \",IF('Harmonogram produkcji '!I11=\"X\",\"W okresie konwersji 3 rok \",IF('Harmonogram produkcji '!J11=\"X\",\"Ekologiczny \"))))","v":false},{"$f":"'Harmonogram produkcji '!L11","v":0},{"$f":"'Harmonogram produkcji '!M11","v":0},null,{"$f":"'Harmonogram produkcji '!P11","v":0},{"$f":"'Harmonogram produkcji '!Q11","v":0},{"$f":"IF('Harmonogram produkcji '!R11=\"X\",\"ekologiczny \",IF('Harmonogram produkcji '!S11=\"X\",\"nieekologiczny\",IF('Harmonogram produkcji '!T11=\"X\",\"z własnego gospodarstwa\",IF('Harmonogram produkcji '!U11=\"X\",\"ND, uprawa zastana\"))))","v":false},{"$f":"'Harmonogram produkcji '!V11","v":"00:00:00"},{"$f":"'Harmonogram produkcji '!F11","v":"00:00:00"},null,null,null,{"$f":"'Harmonogram produkcji '!Y11","v":0},{"$f":"'Harmonogram produkcji '!Z11","v":0},{"$f":"'Harmonogram produkcji '!W11","v":0},{"$f":"'Harmonogram produkcji '!X11","v":0}]
[{"$f":"'Harmonogram produkcji '!B12","v":0},{"$f":"'Harmonogram produkcji '!C12","v":0},{"$f":"'Harmonogram produkcji '!D12","v":0},{"$f":"'Harmonogram produkcji '!E12","v":0},{"$f":"IF('Harmonogram produkcji '!G12=\"X\",\"z pierwszych 12 miesiecy okresu konwersji\",IF('Harmonogram produkcji '!H12=\"X\",\"W okresie konwersji 2 rok \",IF('Harmonogram produkcji '!I12=\"X\",\"W okresie konwersji 3 rok \",IF('Harmonogram produkcji '!J12=\"X\",\"Ekologiczny \"))))","v":false},{"$f":"'Harmonogram produkcji '!L12","v":0},{"$f":"'Harmonogram produkcji '!M12","v":0},null,{"$f":"'Harmonogram produkcji '!P12","v":0},{"$f":"'Harmonogram produkcji '!Q12","v":0},{"$f":"IF('Harmonogram produkcji '!R12=\"X\",\"ekologiczny \",IF('Harmonogram produkcji '!S12=\"X\",\"nieekologiczny\",IF('Harmonogram produkcji '!T12=\"X\",\"z własnego gospodarstwa\",IF('Harmonogram produkcji '!U12=\"X\",\"ND, uprawa zastana\"))))","v":false},{"$f":"'Harmonogram produkcji '!V12","v":"00:00:00"},{"$f":"'Harmonogram produkcji '!F12","v":"00:00:00"},null,null,null,{"$f":"'Harmonogram produkcji '!Y12","v":0},{"$f":"'Harmonogram produkcji '!Z12","v":0},{"$f":"'Harmonogram produkcji '!W12","v":0},{"$f":"'Harmonogram produkcji '!X12","v":0}]
[{"$f":"'Harmonogram produkcji '!B13","v":0},{"$f":"'Harmonogram produkcji '!C13","v":0},{"$f":"'Harmonogram produkcji '!D13","v":0},{"$f":"'Harmonogram produkcji '!E13","v":0},{"$f":"IF('Harmonogram produkcji '!G13=\"X\",\"z pierwszych 12 miesiecy okresu konwersji\",IF('Harmonogram produkcji '!H13=\"X\",\"W okresie konwersji 2 rok \",IF('Harmonogram produkcji '!I13=\"X\",\"W okresie konwersji 3 rok \",IF('Harmonogram produkcji '!J13=\"X\",\"Ekologiczny \"))))","v":false},{"$f":"'Harmonogram produkcji '!L13","v":0},{"$f":"'Harmonogram produkcji '!M13","v":0},null,{"$f":"'Harmonogram produkcji '!P13","v":0},{"$f":"'Harmonogram produkcji '!Q13","v":0},{"$f":"IF('Harmonogram produkcji '!R13=\"X\",\"ekologiczny \",IF('Harmonogram produkcji '!S13=\"X\",\"nieekologiczny\",IF('Harmonogram produkcji '!T13=\"X\",\"z własnego gospodarstwa\",IF('Harmonogram produkcji '!U13=\"X\",\"ND, uprawa zastana\"))))","v":false},{"$f":"'Harmonogram produkcji '!V13","v":"00:00:00"},{"$f":"'Harmonogram produkcji '!F13","v":"00:00:00"},null,null,null,{"$f":"'Harmonogram produkcji '!Y13","v":0},{"$f":"'Harmonogram produkcji '!Z13","v":0},{"$f":"'Harmonogram produkcji '!W13","v":0},{"$f":"'Harmonogram produkcji '!X13","v":0}]
[{"$f":"'Harmonogram produkcji '!B14","v":0},{"$f":"'Harmonogram produkcji '!C14","v":0},{"$f":"'Harmonogram produkcji '!D14","v":0},{"$f":"'Harmonogram produkcji '!E14","v":0},{"$f":"IF('Harmonogram produkcji '!G14=\"X\",\"z pierwszych 12 miesiecy okresu konwersji\",IF('Harmonogram produkcji '!H14=\"X\",\"W okresie konwersji 2 rok \",IF('Harmonogram produkcji '!I14=\"X\",\"W okresie konwersji 3 rok \",IF('Harmonogram produkcji '!J14=\"X\",\"Ekologiczny \"))))","v":false},{"$f":"'Harmonogram produkcji '!L14","v":0},{"$f":"'Harmonogram produkcji '!M14","v":0},null,{"$f":"'Harmonogram produkcji '!P14","v":0},{"$f":"'Harmonogram produkcji '!Q14","v":0},{"$f":"IF('Harmonogram produkcji '!R14=\"X\",\"ekologiczny \",IF('Harmonogram produkcji '!S14=\"X\",\"nieekologiczny\",IF('Harmonogram produkcji '!T14=\"X\",\"z własnego gospodarstwa\",IF('Harmonogram produkcji '!U14=\"X\",\"ND, uprawa zastana\"))))","v":false},{"$f":"'Harmonogram produkcji '!V14","v":"00:00:00"},{"$f":"'Harmonogram produkcji '!F14","v":"00:00:00"},null,null,null,{"$f":"'Harmonogram produkcji '!Y14","v":0},{"$f":"'Harmonogram produkcji '!Z14","v":0},{"$f":"'Harmonogram produkcji '!W14","v":0},{"$f":"'Harmonogram produkcji '!X14","v":0}]
[{"$f":"'Harmonogram produkcji '!B15","v":0},{"$f":"'Harmonogram produkcji '!C15","v":0},{"$f":"'Harmonogram produkcji '!D15","v":0},{"$f":"'Harmonogram produkcji '!E15","v":0},{"$f":"IF('Harmonogram produkcji '!G15=\"X\",\"z pierwszych 12 miesiecy okresu konwersji\",IF('Harmonogram produkcji '!H15=\"X\",\"W okresie konwersji 2 rok \",IF('Harmonogram produkcji '!I15=\"X\",\"W okresie konwersji 3 rok \",IF('Harmonogram produkcji '!J15=\"X\",\"Ekologiczny \"))))","v":false},{"$f":"'Harmonogram produkcji '!L15","v":0},{"$f":"'Harmonogram produkcji '!M15","v":0},null,{"$f":"'Harmonogram produkcji '!P15","v":0},{"$f":"'Harmonogram produkcji '!Q15","v":0},{"$f":"IF('Harmonogram produkcji '!R15=\"X\",\"ekologiczny \",IF('Harmonogram produkcji '!S15=\"X\",\"nieekologiczny\",IF('Harmonogram produkcji '!T15=\"X\",\"z własnego gospodarstwa\",IF('Harmonogram produkcji '!U15=\"X\",\"ND, uprawa zastana\"))))","v":false},{"$f":"'Harmonogram produkcji '!V15","v":"00:00:00"},{"$f":"'Harmonogram produkcji '!F15","v":"00:00:00"},null,null,null,{"$f":"'Harmonogram produkcji '!Y15","v":0},{"$f":"'Harmonogram produkcji '!Z15","v":0},{"$f":"'Harmonogram produkcji '!W15","v":0},{"$f":"'Harmonogram produkcji '!X15","v":0}]
[{"$f":"'Harmonogram produkcji '!B16","v":0},{"$f":"'Harmonogram produkcji '!C16","v":0},{"$f":"'Harmonogram produkcji '!D16","v":0},{"$f":"'Harmonogram produkcji '!E16","v":0},{"$f":"IF('Harmonogram produkcji '!G16=\"X\",\"z pierwszych 12 miesiecy okresu konwersji\",IF('Harmonogram produkcji '!H16=\"X\",\"W okresie konwersji 2 rok \",IF('Harmonogram produkcji '!I16=\"X\",\"W okresie konwersji 3 rok \",IF('Harmonogram produkcji '!J16=\"X\",\"Ekologiczny \"))))","v":false},{"$f":"'Harmonogram produkcji '!L16","v":0},{"$f":"'Harmonogram produkcji '!M16","v":0},null,{"$f":"'Harmonogram produkcji '!P16","v":0},{"$f":"'Harmonogram produkcji '!Q16","v":0},{"$f":"IF('Harmonogram produkcji '!R16=\"X\",\"ekologiczny \",IF('Harmonogram produkcji '!S16=\"X\",\"nieekologiczny\",IF('Harmonogram produkcji '!T16=\"X\",\"z własnego gospodarstwa\",IF('Harmonogram produkcji '!U16=\"X\",\"ND, uprawa zastana\"))))","v":false},{"$f":"'Harmonogram produkcji '!V16","v":"00:00:00"},{"$f":"'Harmonogram produkcji '!F16","v":"00:00:00"},null,null,null,{"$f":"'Harmonogram produkcji '!Y16","v":0},{"$f":"'Harmonogram produkcji '!Z16","v":0},{"$f":"'Harmonogram produkcji '!W16","v":0},{"$f":"'Harmonogram produkcji '!X16","v":0}]
[{"$f":"'Harmonogram produkcji '!B17","v":0},{"$f":"'Harmonogram produkcji '!C17","v":0},{"$f":"'Harmonogram produkcji '!D17","v":0},{"$f":"'Harmonogram produkcji '!E17","v":0},{"$f":"IF('Harmonogram produkcji '!G17=\"X\",\"z pierwszych 12 miesiecy okresu konwersji\",IF('Harmonogram produkcji '!H17=\"X\",\"W okresie konwersji 2 rok \",IF('Harmonogram produkcji '!I17=\"X\",\"W okresie konwersji 3 rok \",IF('Harmonogram produkcji '!J17=\"X\",\"Ekologiczny \"))))","v":false},{"$f":"'Harmonogram produkcji '!L17","v":0},{"$f":"'Harmonogram produkcji '!M17","v":0},null,{"$f":"'Harmonogram produkcji '!P17","v":0},{"$f":"'Harmonogram produkcji '!Q17","v":0},{"$f":"IF('Harmonogram produkcji '!R17=\"X\",\"ekologiczny \",IF('Harmonogram produkcji '!S17=\"X\",\"nieekologiczny\",IF('Harmonogram produkcji '!T17=\"X\",\"z własnego gospodarstwa\",IF('Harmonogram produkcji '!U17=\"X\",\"ND, uprawa zastana\"))))","v":false},{"$f":"'Harmonogram produkcji '!V17","v":"00:00:00"},{"$f":"'Harmonogram produkcji '!F17","v":"00:00:00"},null,null,null,{"$f":"'Harmonogram produkcji '!Y17","v":0},{"$f":"'Harmonogram produkcji '!Z17","v":0},{"$f":"'Harmonogram produkcji '!W17","v":0},{"$f":"'Harmonogram produkcji '!X17","v":0}]
[{"$f":"'Harmonogram produkcji '!B18","v":0},{"$f":"'Harmonogram produkcji '!C18","v":0},{"$f":"'Harmonogram produkcji '!D18","v":0},{"$f":"'Harmonogram produkcji '!E18","v":0},{"$f":"IF('Harmonogram produkcji '!G18=\"X\",\"z pierwszych 12 miesiecy okresu konwersji\",IF('Harmonogram produkcji '!H18=\"X\",\"W okresie konwersji 2 rok \",IF('Harmonogram produkcji '!I18=\"X\",\"W okresie konwersji 3 rok \",IF('Harmonogram produkcji '!J18=\"X\",\"Ekologiczny \"))))","v":false},{"$f":"'Harmonogram produkcji '!L18","v":0},{"$f":"'Harmonogram produkcji '!M18","v":0},null,{"$f":"'Harmonogram produkcji '!P18","v":0},{"$f":"'Harmonogram produkcji '!Q18","v":0},{"$f":"IF('Harmonogram produkcji '!R18=\"X\",\"ekologiczny \",IF('Harmonogram produkcji '!S18=\"X\",\"nieekologiczny\",IF('Harmonogram produkcji '!T18=\"X\",\"z własnego gospodarstwa\",IF('Harmonogram produkcji '!U18=\"X\",\"ND, uprawa zastana\"))))","v":false},{"$f":"'Harmonogram produkcji '!V18","v":"00:00:00"},{"$f":"'Harmonogram produkcji '!F18","v":"00:00:00"},null,null,null,{"$f":"'Harmonogram produkcji '!Y18","v":0},{"$f":"'Harmonogram produkcji '!Z18","v":0},{"$f":"'Harmonogram produkcji '!W18","v":0},{"$f":"'Harmonogram produkcji '!X18","v":0}]
[{"$f":"'Harmonogram produkcji '!B19","v":0},{"$f":"'Harmonogram produkcji '!C19","v":0},{"$f":"'Harmonogram produkcji '!D19","v":0},{"$f":"'Harmonogram produkcji '!E19","v":0},{"$f":"IF('Harmonogram produkcji '!G19=\"X\",\"z pierwszych 12 miesiecy okresu konwersji\",IF('Harmonogram produkcji '!H19=\"X\",\"W okresie konwersji 2 rok \",IF('Harmonogram produkcji '!I19=\"X\",\"W okresie konwersji 3 rok \",IF('Harmonogram produkcji '!J19=\"X\",\"Ekologiczny \"))))","v":false},{"$f":"'Harmonogram produkcji '!L19","v":0},{"$f":"'Harmonogram produkcji '!M19","v":0},null,{"$f":"'Harmonogram produkcji '!P19","v":0},{"$f":"'Harmonogram produkcji '!Q19","v":0},{"$f":"IF('Harmonogram produkcji '!R19=\"X\",\"ekologiczny \",IF('Harmonogram produkcji '!S19=\"X\",\"nieekologiczny\",IF('Harmonogram produkcji '!T19=\"X\",\"z własnego gospodarstwa\",IF('Harmonogram produkcji '!U19=\"X\",\"ND, uprawa zastana\"))))","v":false},{"$f":"'Harmonogram produkcji '!V19","v":"00:00:00"},{"$f":"'Harmonogram produkcji '!F19","v":"00:00:00"},null,null,null,{"$f":"'Harmonogram produkcji '!Y19","v":0},{"$f":"'Harmonogram produkcji '!Z19","v":0},{"$f":"'Harmonogram produkcji '!W19","v":0},{"$f":"'Harmonogram produkcji '!X19","v":0}]
[{"$f":"'Harmonogram produkcji '!B20","v":0},{"$f":"'Harmonogram produkcji '!C20","v":0},{"$f":"'Harmonogram produkcji '!D20","v":0},{"$f":"'Harmonogram produkcji '!E20","v":0},{"$f":"IF('Harmonogram produkcji '!G20=\"X\",\"z pierwszych 12 miesiecy okresu konwersji\",IF('Harmonogram produkcji '!H20=\"X\",\"W okresie konwersji 2 rok \",IF('Harmonogram produkcji '!I20=\"X\",\"W okresie konwersji 3 rok \",IF('Harmonogram produkcji '!J20=\"X\",\"Ekologiczny \"))))","v":false},{"$f":"'Harmonogram produkcji '!L20","v":0},{"$f":"'Harmonogram produkcji '!M20","v":0},null,{"$f":"'Harmonogram produkcji '!P20","v":0},{"$f":"'Harmonogram produkcji '!Q20","v":0},{"$f":"IF('Harmonogram produkcji '!R20=\"X\",\"ekologiczny \",IF('Harmonogram produkcji '!S20=\"X\",\"nieekologiczny\",IF('Harmonogram produkcji '!T20=\"X\",\"z własnego gospodarstwa\",IF('Harmonogram produkcji '!U20=\"X\",\"ND, uprawa zastana\"))))","v":false},{"$f":"'Harmonogram produkcji '!V20","v":"00:00:00"},{"$f":"'Harmonogram produkcji '!F20","v":"00:00:00"},null,null,null,{"$f":"'Harmonogram produkcji '!Y20","v":0},{"$f":"'Harmonogram produkcji '!Z20","v":0},{"$f":"'Harmonogram produkcji '!W20","v":0},{"$f":"'Harmonogram produkcji '!X20","v":0}]
[{"$f":"'Harmonogram produkcji '!B21","v":0},{"$f":"'Harmonogram produkcji '!C21","v":0},{"$f":"'Harmonogram produkcji '!D21","v":0},{"$f":"'Harmonogram produkcji '!E21","v":0},{"$f":"IF('Harmonogram produkcji '!G21=\"X\",\"z pierwszych 12 miesiecy okresu konwersji\",IF('Harmonogram produkcji '!H21=\"X\",\"W okresie konwersji 2 rok \",IF('Harmonogram produkcji '!I21=\"X\",\"W okresie konwersji 3 rok \",IF('Harmonogram produkcji '!J21=\"X\",\"Ekologiczny \"))))","v":false},{"$f":"'Harmonogram produkcji '!L21","v":0},{"$f":"'Harmonogram produkcji '!M21","v":0},null,{"$f":"'Harmonogram produkcji '!P21","v":0},{"$f":"'Harmonogram produkcji '!Q21","v":0},{"$f":"IF('Harmonogram produkcji '!R21=\"X\",\"ekologiczny \",IF('Harmonogram produkcji '!S21=\"X\",\"nieekologiczny\",IF('Harmonogram produkcji '!T21=\"X\",\"z własnego gospodarstwa\",IF('Harmonogram produkcji '!U21=\"X\",\"ND, uprawa zastana\"))))","v":false},{"$f":"'Harmonogram produkcji '!V21","v":"00:00:00"},{"$f":"'Harmonogram produkcji '!F21","v":"00:00:00"},null,null,null,{"$f":"'Harmonogram produkcji '!Y21","v":0},{"$f":"'Harmonogram produkcji '!Z21","v":0},{"$f":"'Harmonogram produkcji '!W21","v":0},{"$f":"'Harmonogram produkcji '!X21","v":0}]
[{"$f":"'Harmonogram produkcji '!B22","v":0},{"$f":"'Harmonogram produkcji '!C22","v":0},{"$f":"'Harmonogram produkcji '!D22","v":0},{"$f":"'Harmonogram produkcji '!E22","v":0},{"$f":"IF('Harmonogram produkcji '!G22=\"X\",\"z pierwszych 12 miesiecy okresu konwersji\",IF('Harmonogram produkcji '!H22=\"X\",\"W okresie konwersji 2 rok \",IF('Harmonogram produkcji '!I22=\"X\",\"W okresie konwersji 3 rok \",IF('Harmonogram produkcji '!J22=\"X\",\"Ekologiczny \"))))","v":false},{"$f":"'Harmonogram produkcji '!L22","v":0},{"$f":"'Harmonogram produkcji '!M22","v":0},null,{"$f":"'Harmonogram produkcji '!P22","v":0},{"$f":"'Harmonogram produkcji '!Q22","v":0},{"$f":"IF('Harmonogram produkcji '!R22=\"X\",\"ekologiczny \",IF('Harmonogram produkcji '!S22=\"X\",\"nieekologiczny\",IF('Harmonogram produkcji '!T22=\"X\",\"z własnego gospodarstwa\",IF('Harmonogram produkcji '!U22=\"X\",\"ND, uprawa zastana\"))))","v":false},{"$f":"'Harmonogram produkcji '!V22","v":"00:00:00"},{"$f":"'Harmonogram produkcji '!F22","v":"00:00:00"},null,null,null,{"$f":"'Harmonogram produkcji '!Y22","v":0},{"$f":"'Harmonogram produkcji '!Z22","v":0},{"$f":"'Harmonogram produkcji '!W22","v":0},{"$f":"'Harmonogram produkcji '!X22","v":0}]
[{"$f":"'Harmonogram produkcji '!B23","v":0},{"$f":"'Harmonogram produkcji '!C23","v":0},{"$f":"'Harmonogram produkcji '!D23","v":0},{"$f":"'Harmonogram produkcji '!E23","v":0},{"$f":"IF('Harmonogram produkcji '!G23=\"X\",\"z pierwszych 12 miesiecy okresu konwersji\",IF('Harmonogram produkcji '!H23=\"X\",\"W okresie konwersji 2 rok \",IF('Harmonogram produkcji '!I23=\"X\",\"W okresie konwersji 3 rok \",IF('Harmonogram produkcji '!J23=\"X\",\"Ekologiczny \"))))","v":false},{"$f":"'Harmonogram produkcji '!L23","v":0},{"$f":"'Harmonogram produkcji '!M23","v":0},null,{"$f":"'Harmonogram produkcji '!P23","v":0},{"$f":"'Harmonogram produkcji '!Q23","v":0},{"$f":"IF('Harmonogram produkcji '!R23=\"X\",\"ekologiczny \",IF('Harmonogram produkcji '!S23=\"X\",\"nieekologiczny\",IF('Harmonogram produkcji '!T23=\"X\",\"z własnego gospodarstwa\",IF('Harmonogram produkcji '!U23=\"X\",\"ND, uprawa zastana\"))))","v":false},{"$f":"'Harmonogram produkcji '!V23","v":"00:00:00"},{"$f":"'Harmonogram produkcji '!F23","v":"00:00:00"},null,null,null,{"$f":"'Harmonogram produkcji '!Y23","v":0},{"$f":"'Harmonogram produkcji '!Z23","v":0},{"$f":"'Harmonogram produkcji '!W23","v":0},{"$f":"'Harmonogram produkcji '!X23","v":0}]
[{"$f":"'Harmonogram produkcji '!B24","v":0},{"$f":"'Harmonogram produkcji '!C24","v":0},{"$f":"'Harmonogram produkcji '!D24","v":0},{"$f":"'Harmonogram produkcji '!E24","v":0},{"$f":"IF('Harmonogram produkcji '!G24=\"X\",\"z pierwszych 12 miesiecy okresu konwersji\",IF('Harmonogram produkcji '!H24=\"X\",\"W okresie konwersji 2 rok \",IF('Harmonogram produkcji '!I24=\"X\",\"W okresie konwersji 3 rok \",IF('Harmonogram produkcji '!J24=\"X\",\"Ekologiczny \"))))","v":false},{"$f":"'Harmonogram produkcji '!L24","v":0},{"$f":"'Harmonogram produkcji '!M24","v":0},null,{"$f":"'Harmonogram produkcji '!P24","v":0},{"$f":"'Harmonogram produkcji '!Q24","v":0},{"$f":"IF('Harmonogram produkcji '!R24=\"X\",\"ekologiczny \",IF('Harmonogram produkcji '!S24=\"X\",\"nieekologiczny\",IF('Harmonogram produkcji '!T24=\"X\",\"z własnego gospodarstwa\",IF('Harmonogram produkcji '!U24=\"X\",\"ND, uprawa zastana\"))))","v":false},{"$f":"'Harmonogram produkcji '!V24","v":"00:00:00"},{"$f":"'Harmonogram produkcji '!F24","v":"00:00:00"},null,null,null,{"$f":"'Harmonogram produkcji '!Y24","v":0},{"$f":"'Harmonogram produkcji '!Z24","v":0},{"$f":"'Harmonogram produkcji '!W24","v":0},{"$f":"'Harmonogram produkcji '!X24","v":0}]
[{"$f":"'Harmonogram produkcji '!B25","v":0},{"$f":"'Harmonogram produkcji '!C25","v":0},{"$f":"'Harmonogram produkcji '!D25","v":0},{"$f":"'Harmonogram produkcji '!E25","v":0},{"$f":"IF('Harmonogram produkcji '!G25=\"X\",\"z pierwszych 12 miesiecy okresu konwersji\",IF('Harmonogram produkcji '!H25=\"X\",\"W okresie konwersji 2 rok \",IF('Harmonogram produkcji '!I25=\"X\",\"W okresie konwersji 3 rok \",IF('Harmonogram produkcji '!J25=\"X\",\"Ekologiczny \"))))","v":false},{"$f":"'Harmonogram produkcji '!L25","v":0},{"$f":"'Harmonogram produkcji '!M25","v":0},null,{"$f":"'Harmonogram produkcji '!P25","v":0},{"$f":"'Harmonogram produkcji '!Q25","v":0},{"$f":"IF('Harmonogram produkcji '!R25=\"X\",\"ekologiczny \",IF('Harmonogram produkcji '!S25=\"X\",\"nieekologiczny\",IF('Harmonogram produkcji '!T25=\"X\",\"z własnego gospodarstwa\",IF('Harmonogram produkcji '!U25=\"X\",\"ND, uprawa zastana\"))))","v":false},{"$f":"'Harmonogram produkcji '!V25","v":"00:00:00"},{"$f":"'Harmonogram produkcji '!F25","v":"00:00:00"},null,null,null,{"$f":"'Harmonogram produkcji '!Y25","v":0},{"$f":"'Harmonogram produkcji '!Z25","v":0},{"$f":"'Harmonogram produkcji '!W25","v":0},{"$f":"'Harmonogram produkcji '!X25","v":0}]
[{"$f":"'Harmonogram produkcji '!B26","v":0},{"$f":"'Harmonogram produkcji '!C26","v":0},{"$f":"'Harmonogram produkcji '!D26","v":0},{"$f":"'Harmonogram produkcji '!E26","v":0},{"$f":"IF('Harmonogram produkcji '!G26=\"X\",\"z pierwszych 12 miesiecy okresu konwersji\",IF('Harmonogram produkcji '!H26=\"X\",\"W okresie konwersji 2 rok \",IF('Harmonogram produkcji '!I26=\"X\",\"W okresie konwersji 3 rok \",IF('Harmonogram produkcji '!J26=\"X\",\"Ekologiczny \"))))","v":false},{"$f":"'Harmonogram produkcji '!L26","v":0},{"$f":"'Harmonogram produkcji '!M26","v":0},null,{"$f":"'Harmonogram produkcji '!P26","v":0},{"$f":"'Harmonogram produkcji '!Q26","v":0},{"$f":"IF('Harmonogram produkcji '!R26=\"X\",\"ekologiczny \",IF('Harmonogram produkcji '!S26=\"X\",\"nieekologiczny\",IF('Harmonogram produkcji '!T26=\"X\",\"z własnego gospodarstwa\",IF('Harmonogram produkcji '!U26=\"X\",\"ND, uprawa zastana\"))))","v":false},{"$f":"'Harmonogram produkcji '!V26","v":"00:00:00"},{"$f":"'Harmonogram produkcji '!F26","v":"00:00:00"},null,null,null,{"$f":"'Harmonogram produkcji '!Y26","v":0},{"$f":"'Harmonogram produkcji '!Z26","v":0},{"$f":"'Harmonogram produkcji '!W26","v":0},{"$f":"'Harmonogram produkcji '!X26","v":0}]
[{"$f":"'Harmonogram produkcji '!B27","v":0},{"$f":"'Harmonogram produkcji '!C27","v":0},{"$f":"'Harmonogram produkcji '!D27","v":0},{"$f":"'Harmonogram produkcji '!E27","v":0},{"$f":"IF('Harmonogram produkcji '!G27=\"X\",\"z pierwszych 12 miesiecy okresu konwersji\",IF('Harmonogram produkcji '!H27=\"X\",\"W okresie konwersji 2 rok \",IF('Harmonogram produkcji '!I27=\"X\",\"W okresie konwersji 3 rok \",IF('Harmonogram produkcji '!J27=\"X\",\"Ekologiczny \"))))","v":false},{"$f":"'Harmonogram produkcji '!L27","v":0},{"$f":"'Harmonogram produkcji '!M27","v":0},null,{"$f":"'Harmonogram produkcji '!P27","v":0},{"$f":"'Harmonogram produkcji '!Q27","v":0},{"$f":"IF('Harmonogram produkcji '!R27=\"X\",\"ekologiczny \",IF('Harmonogram produkcji '!S27=\"X\",\"nieekologiczny\",IF('Harmonogram produkcji '!T27=\"X\",\"z własnego gospodarstwa\",IF('Harmonogram produkcji '!U27=\"X\",\"ND, uprawa zastana\"))))","v":false},{"$f":"'Harmonogram produkcji '!V27","v":"00:00:00"},{"$f":"'Harmonogram produkcji '!F27","v":"00:00:00"},null,null,null,{"$f":"'Harmonogram produkcji '!Y27","v":0},{"$f":"'Harmonogram produkcji '!Z27","v":0},{"$f":"'Harmonogram produkcji '!W27","v":0},{"$f":"'Harmonogram produkcji '!X27","v":0}]
[{"$f":"'Harmonogram produkcji '!B28","v":0},{"$f":"'Harmonogram produkcji '!C28","v":0},{"$f":"'Harmonogram produkcji '!D28","v":0},{"$f":"'Harmonogram produkcji '!E28","v":0},{"$f":"IF('Harmonogram produkcji '!G28=\"X\",\"z pierwszych 12 miesiecy okresu konwersji\",IF('Harmonogram produkcji '!H28=\"X\",\"W okresie konwersji 2 rok \",IF('Harmonogram produkcji '!I28=\"X\",\"W okresie konwersji 3 rok \",IF('Harmonogram produkcji '!J28=\"X\",\"Ekologiczny \"))))","v":false},{"$f":"'Harmonogram produkcji '!L28","v":0},{"$f":"'Harmonogram produkcji '!M28","v":0},null,{"$f":"'Harmonogram produkcji '!P28","v":0},{"$f":"'Harmonogram produkcji '!Q28","v":0},{"$f":"IF('Harmonogram produkcji '!R28=\"X\",\"ekologiczny \",IF('Harmonogram produkcji '!S28=\"X\",\"nieekologiczny\",IF('Harmonogram produkcji '!T28=\"X\",\"z własnego gospodarstwa\",IF('Harmonogram produkcji '!U28=\"X\",\"ND, uprawa zastana\"))))","v":false},{"$f":"'Harmonogram produkcji '!V28","v":"00:00:00"},{"$f":"'Harmonogram produkcji '!F28","v":"00:00:00"},null,null,null,{"$f":"'Harmonogram produkcji '!Y28","v":0},{"$f":"'Harmonogram produkcji '!Z28","v":0},{"$f":"'Harmonogram produkcji '!W28","v":0},{"$f":"'Harmonogram produkcji '!X28","v":0}]
[{"$f":"'Harmonogram produkcji '!B29","v":0},{"$f":"'Harmonogram produkcji '!C29","v":0},{"$f":"'Harmonogram produkcji '!D29","v":0},{"$f":"'Harmonogram produkcji '!E29","v":0},{"$f":"IF('Harmonogram produkcji '!G29=\"X\",\"z pierwszych 12 miesiecy okresu konwersji\",IF('Harmonogram produkcji '!H29=\"X\",\"W okresie konwersji 2 rok \",IF('Harmonogram produkcji '!I29=\"X\",\"W okresie konwersji 3 rok \",IF('Harmonogram produkcji '!J29=\"X\",\"Ekologiczny \"))))","v":false},{"$f":"'Harmonogram produkcji '!L29","v":0},{"$f":"'Harmonogram produkcji '!M29","v":0},null,{"$f":"'Harmonogram produkcji '!P29","v":0},{"$f":"'Harmonogram produkcji '!Q29","v":0},{"$f":"IF('Harmonogram produkcji '!R29=\"X\",\"ekologiczny \",IF('Harmonogram produkcji '!S29=\"X\",\"nieekologiczny\",IF('Harmonogram produkcji '!T29=\"X\",\"z własnego gospodarstwa\",IF('Harmonogram produkcji '!U29=\"X\",\"ND, uprawa zastana\"))))","v":false},{"$f":"'Harmonogram produkcji '!V29","v":"00:00:00"},{"$f":"'Harmonogram produkcji '!F29","v":"00:00:00"},null,null,null,{"$f":"'Harmonogram produkcji '!Y29","v":0},{"$f":"'Harmonogram produkcji '!Z29","v":0},{"$f":"'Harmonogram produkcji '!W29","v":0},{"$f":"'Harmonogram produkcji '!X29","v":0}]
[{"$f":"'Harmonogram produkcji '!B30","v":0},{"$f":"'Harmonogram produkcji '!C30","v":0},{"$f":"'Harmonogram produkcji '!D30","v":0},{"$f":"'Harmonogram produkcji '!E30","v":0},{"$f":"IF('Harmonogram produkcji '!G30=\"X\",\"z pierwszych 12 miesiecy okresu konwersji\",IF('Harmonogram produkcji '!H30=\"X\",\"W okresie konwersji 2 rok \",IF('Harmonogram produkcji '!I30=\"X\",\"W okresie konwersji 3 rok \",IF('Harmonogram produkcji '!J30=\"X\",\"Ekologiczny \"))))","v":false},{"$f":"'Harmonogram produkcji '!L30","v":0},{"$f":"'Harmonogram produkcji '!M30","v":0},null,{"$f":"'Harmonogram produkcji '!P30","v":0},{"$f":"'Harmonogram produkcji '!Q30","v":0},{"$f":"IF('Harmonogram produkcji '!R30=\"X\",\"ekologiczny \",IF('Harmonogram produkcji '!S30=\"X\",\"nieekologiczny\",IF('Harmonogram produkcji '!T30=\"X\",\"z własnego gospodarstwa\",IF('Harmonogram produkcji '!U30=\"X\",\"ND, uprawa zastana\"))))","v":false},{"$f":"'Harmonogram produkcji '!V30","v":"00:00:00"},{"$f":"'Harmonogram produkcji '!F30","v":"00:00:00"},null,null,null,{"$f":"'Harmonogram produkcji '!Y30","v":0},{"$f":"'Harmonogram produkcji '!Z30","v":0},{"$f":"'Harmonogram produkcji '!W30","v":0},{"$f":"'Harmonogram produkcji '!X30","v":0}]
[{"$f":"'Harmonogram produkcji '!B31","v":0},{"$f":"'Harmonogram produkcji '!C31","v":0},{"$f":"'Harmonogram produkcji '!D31","v":0},{"$f":"'Harmonogram produkcji '!E31","v":0},{"$f":"IF('Harmonogram produkcji '!G31=\"X\",\"z pierwszych 12 miesiecy okresu konwersji\",IF('Harmonogram produkcji '!H31=\"X\",\"W okresie konwersji 2 rok \",IF('Harmonogram produkcji '!I31=\"X\",\"W okresie konwersji 3 rok \",IF('Harmonogram produkcji '!J31=\"X\",\"Ekologiczny \"))))","v":false},{"$f":"'Harmonogram produkcji '!L31","v":0},{"$f":"'Harmonogram produkcji '!M31","v":0},null,{"$f":"'Harmonogram produkcji '!P31","v":0},{"$f":"'Harmonogram produkcji '!Q31","v":0},{"$f":"IF('Harmonogram produkcji '!R31=\"X\",\"ekologiczny \",IF('Harmonogram produkcji '!S31=\"X\",\"nieekologiczny\",IF('Harmonogram produkcji '!T31=\"X\",\"z własnego gospodarstwa\",IF('Harmonogram produkcji '!U31=\"X\",\"ND, uprawa zastana\"))))","v":false},{"$f":"'Harmonogram produkcji '!V31","v":"00:00:00"},{"$f":"'Harmonogram produkcji '!F31","v":"00:00:00"},null,null,null,{"$f":"'Harmonogram produkcji '!Y31","v":0},{"$f":"'Harmonogram produkcji '!Z31","v":0},{"$f":"'Harmonogram produkcji '!W31","v":0},{"$f":"'Harmonogram produkcji '!X31","v":0}]
[{"$f":"'Harmonogram produkcji '!B32","v":0},{"$f":"'Harmonogram produkcji '!C32","v":0},{"$f":"'Harmonogram produkcji '!D32","v":0},{"$f":"'Harmonogram produkcji '!E32","v":0},{"$f":"IF('Harmonogram produkcji '!G32=\"X\",\"z pierwszych 12 miesiecy okresu konwersji\",IF('Harmonogram produkcji '!H32=\"X\",\"W okresie konwersji 2 rok \",IF('Harmonogram produkcji '!I32=\"X\",\"W okresie konwersji 3 rok \",IF('Harmonogram produkcji '!J32=\"X\",\"Ekologiczny \"))))","v":false},{"$f":"'Harmonogram produkcji '!L32","v":0},{"$f":"'Harmonogram produkcji '!M32","v":0},null,{"$f":"'Harmonogram produkcji '!P32","v":0},{"$f":"'Harmonogram produkcji '!Q32","v":0},{"$f":"IF('Harmonogram produkcji '!R32=\"X\",\"ekologiczny \",IF('Harmonogram produkcji '!S32=\"X\",\"nieekologiczny\",IF('Harmonogram produkcji '!T32=\"X\",\"z własnego gospodarstwa\",IF('Harmonogram produkcji '!U32=\"X\",\"ND, uprawa zastana\"))))","v":false},{"$f":"'Harmonogram produkcji '!V32","v":"00:00:00"},{"$f":"'Harmonogram produkcji '!F32","v":"00:00:00"},null,null,null,{"$f":"'Harmonogram produkcji '!Y32","v":0},{"$f":"'Harmonogram produkcji '!Z32","v":0},{"$f":"'Harmonogram produkcji '!W32","v":0},{"$f":"'Harmonogram produkcji '!X32","v":0}]
[{"$f":"'Harmonogram produkcji '!B33","v":0},{"$f":"'Harmonogram produkcji '!C33","v":0},{"$f":"'Harmonogram produkcji '!D33","v":0},{"$f":"'Harmonogram produkcji '!E33","v":0},{"$f":"IF('Harmonogram produkcji '!G33=\"X\",\"z pierwszych 12 miesiecy okresu konwersji\",IF('Harmonogram produkcji '!H33=\"X\",\"W okresie konwersji 2 rok \",IF('Harmonogram produkcji '!I33=\"X\",\"W okresie konwersji 3 rok \",IF('Harmonogram produkcji '!J33=\"X\",\"Ekologiczny \"))))","v":false},{"$f":"'Harmonogram produkcji '!L33","v":0},{"$f":"'Harmonogram produkcji '!M33","v":0},null,{"$f":"'Harmonogram produkcji '!P33","v":0},{"$f":"'Harmonogram produkcji '!Q33","v":0},{"$f":"IF('Harmonogram produkcji '!R33=\"X\",\"ekologiczny \",IF('Harmonogram produkcji '!S33=\"X\",\"nieekologiczny\",IF('Harmonogram produkcji '!T33=\"X\",\"z własnego gospodarstwa\",IF('Harmonogram produkcji '!U33=\"X\",\"ND, uprawa zastana\"))))","v":false},{"$f":"'Harmonogram produkcji '!V33","v":"00:00:00"},{"$f":"'Harmonogram produkcji '!F33","v":"00:00:00"},null,null,null,{"$f":"'Harmonogram produkcji '!Y33","v":0},{"$f":"'Harmonogram produkcji '!Z33","v":0},{"$f":"'Harmonogram produkcji '!W33","v":0},{"$f":"'Harmonogram produkcji '!X33","v":0}]
[{"$f":"'Harmonogram produkcji '!B34","v":0},{"$f":"'Harmonogram produkcji '!C34","v":0},{"$f":"'Harmonogram produkcji '!D34","v":0},{"$f":"'Harmonogram produkcji '!E34","v":0},{"$f":"IF('Harmonogram produkcji '!G34=\"X\",\"z pierwszych 12 miesiecy okresu konwersji\",IF('Harmonogram produkcji '!H34=\"X\",\"W okresie konwersji 2 rok \",IF('Harmonogram produkcji '!I34=\"X\",\"W okresie konwersji 3 rok \",IF('Harmonogram produkcji '!J34=\"X\",\"Ekologiczny \"))))","v":false},{"$f":"'Harmonogram produkcji '!L34","v":0},{"$f":"'Harmonogram produkcji '!M34","v":0},null,{"$f":"'Harmonogram produkcji '!P34","v":0},{"$f":"'Harmonogram produkcji '!Q34","v":0},{"$f":"IF('Harmonogram produkcji '!R34=\"X\",\"ekologiczny \",IF('Harmonogram produkcji '!S34=\"X\",\"nieekologiczny\",IF('Harmonogram produkcji '!T34=\"X\",\"z własnego gospodarstwa\",IF('Harmonogram produkcji '!U34=\"X\",\"ND, uprawa zastana\"))))","v":false},{"$f":"'Harmonogram produkcji '!V34","v":"00:00:00"},{"$f":"'Harmonogram produkcji '!F34","v":"00:00:00"},null,null,null,{"$f":"'Harmonogram produkcji '!Y34","v":0},{"$f":"'Harmonogram produkcji '!Z34","v":0},{"$f":"'Harmonogram produkcji '!W34","v":0},{"$f":"'Harmonogram produkcji '!X34","v":0}]
[{"$f":"'Harmonogram produkcji '!B35","v":0},{"$f":"'Harmonogram produkcji '!C35","v":0},{"$f":"'Harmonogram produkcji '!D35","v":0},{"$f":"'Harmonogram produkcji '!E35","v":0},{"$f":"IF('Harmonogram produkcji '!G35=\"X\",\"z pierwszych 12 miesiecy okresu konwersji\",IF('Harmonogram produkcji '!H35=\"X\",\"W okresie konwersji 2 rok \",IF('Harmonogram produkcji '!I35=\"X\",\"W okresie konwersji 3 rok \",IF('Harmonogram produkcji '!J35=\"X\",\"Ekologiczny \"))))","v":false},{"$f":"'Harmonogram produkcji '!L35","v":0},{"$f":"'Harmonogram produkcji '!M35","v":0},null,{"$f":"'Harmonogram produkcji '!P35","v":0},{"$f":"'Harmonogram produkcji '!Q35","v":0},{"$f":"IF('Harmonogram produkcji '!R35=\"X\",\"ekologiczny \",IF('Harmonogram produkcji '!S35=\"X\",\"nieekologiczny\",IF('Harmonogram produkcji '!T35=\"X\",\"z własnego gospodarstwa\",IF('Harmonogram produkcji '!U35=\"X\",\"ND, uprawa zastana\"))))","v":false},{"$f":"'Harmonogram produkcji '!V35","v":"00:00:00"},{"$f":"'Harmonogram produkcji '!F35","v":"00:00:00"},null,null,null,{"$f":"'Harmonogram produkcji '!Y35","v":0},{"$f":"'Harmonogram produkcji '!Z35","v":0},{"$f":"'Harmonogram produkcji '!W35","v":0},{"$f":"'Harmonogram produkcji '!X35","v":0}]
[{"$f":"'Harmonogram produkcji '!B36","v":0},{"$f":"'Harmonogram produkcji '!C36","v":0},{"$f":"'Harmonogram produkcji '!D36","v":0},{"$f":"'Harmonogram produkcji '!E36","v":0},{"$f":"IF('Harmonogram produkcji '!G36=\"X\",\"z pierwszych 12 miesiecy okresu konwersji\",IF('Harmonogram produkcji '!H36=\"X\",\"W okresie konwersji 2 rok \",IF('Harmonogram produkcji '!I36=\"X\",\"W okresie konwersji 3 rok \",IF('Harmonogram produkcji '!J36=\"X\",\"Ekologiczny \"))))","v":false},{"$f":"'Harmonogram produkcji '!L36","v":0},{"$f":"'Harmonogram produkcji '!M36","v":0},null,{"$f":"'Harmonogram produkcji '!P36","v":0},{"$f":"'Harmonogram produkcji '!Q36","v":0},{"$f":"IF('Harmonogram produkcji '!R36=\"X\",\"ekologiczny \",IF('Harmonogram produkcji '!S36=\"X\",\"nieekologiczny\",IF('Harmonogram produkcji '!T36=\"X\",\"z własnego gospodarstwa\",IF('Harmonogram produkcji '!U36=\"X\",\"ND, uprawa zastana\"))))","v":false},{"$f":"'Harmonogram produkcji '!V36","v":"00:00:00"},{"$f":"'Harmonogram produkcji '!F36","v":"00:00:00"},null,null,null,{"$f":"'Harmonogram produkcji '!Y36","v":0},{"$f":"'Harmonogram produkcji '!Z36","v":0},{"$f":"'Harmonogram produkcji '!W36","v":0},{"$f":"'Harmonogram produkcji '!X36","v":0}]
[{"$f":"'Harmonogram produkcji '!B37","v":0},{"$f":"'Harmonogram produkcji '!C37","v":0},{"$f":"'Harmonogram produkcji '!D37","v":0},{"$f":"'Harmonogram produkcji '!E37","v":0},{"$f":"IF('Harmonogram produkcji '!G37=\"X\",\"z pierwszych 12 miesiecy okresu konwersji\",IF('Harmonogram produkcji '!H37=\"X\",\"W okresie konwersji 2 rok \",IF('Harmonogram produkcji '!I37=\"X\",\"W okresie konwersji 3 rok \",IF('Harmonogram produkcji '!J37=\"X\",\"Ekologiczny \"))))","v":false},{"$f":"'Harmonogram produkcji '!L37","v":0},{"$f":"'Harmonogram produkcji '!M37","v":0},null,{"$f":"'Harmonogram produkcji '!P37","v":0},{"$f":"'Harmonogram produkcji '!Q37","v":0},{"$f":"IF('Harmonogram produkcji '!R37=\"X\",\"ekologiczny \",IF('Harmonogram produkcji '!S37=\"X\",\"nieekologiczny\",IF('Harmonogram produkcji '!T37=\"X\",\"z własnego gospodarstwa\",IF('Harmonogram produkcji '!U37=\"X\",\"ND, uprawa zastana\"))))","v":false},{"$f":"'Harmonogram produkcji '!V37","v":"00:00:00"},{"$f":"'Harmonogram produkcji '!F37","v":"00:00:00"},null,null,null,{"$f":"'Harmonogram produkcji '!Y37","v":0},{"$f":"'Harmonogram produkcji '!Z37","v":0},{"$f":"'Harmonogram produkcji '!W37","v":0},{"$f":"'Harmonogram produkcji '!X37","v":0}]
[{"$f":"'Harmonogram produkcji '!B38","v":0},{"$f":"'Harmonogram produkcji '!C38","v":0},{"$f":"'Harmonogram produkcji '!D38","v":0},{"$f":"'Harmonogram produkcji '!E38","v":0},{"$f":"IF('Harmonogram produkcji '!G38=\"X\",\"z pierwszych 12 miesiecy okresu konwersji\",IF('Harmonogram produkcji '!H38=\"X\",\"W okresie konwersji 2 rok \",IF('Harmonogram produkcji '!I38=\"X\",\"W okresie konwersji 3 rok \",IF('Harmonogram produkcji '!J38=\"X\",\"Ekologiczny \"))))","v":false},{"$f":"'Harmonogram produkcji '!L38","v":0},{"$f":"'Harmonogram produkcji '!M38","v":0},null,{"$f":"'Harmonogram produkcji '!P38","v":0},{"$f":"'Harmonogram produkcji '!Q38","v":0},{"$f":"IF('Harmonogram produkcji '!R38=\"X\",\"ekologiczny \",IF('Harmonogram produkcji '!S38=\"X\",\"nieekologiczny\",IF('Harmonogram produkcji '!T38=\"X\",\"z własnego gospodarstwa\",IF('Harmonogram produkcji '!U38=\"X\",\"ND, uprawa zastana\"))))","v":false},{"$f":"'Harmonogram produkcji '!V38","v":"00:00:00"},{"$f":"'Harmonogram produkcji '!F38","v":"00:00:00"},null,null,null,{"$f":"'Harmonogram produkcji '!Y38","v":0},{"$f":"'Harmonogram produkcji '!Z38","v":0},{"$f":"'Harmonogram produkcji '!W38","v":0},{"$f":"'Harmonogram produkcji '!X38","v":0}]
[{"$f":"'Harmonogram produkcji '!B39","v":0},{"$f":"'Harmonogram produkcji '!C39","v":0},{"$f":"'Harmonogram produkcji '!D39","v":0},{"$f":"'Harmonogram produkcji '!E39","v":0},{"$f":"IF('Harmonogram produkcji '!G39=\"X\",\"z pierwszych 12 miesiecy okresu konwersji\",IF('Harmonogram produkcji '!H39=\"X\",\"W okresie konwersji 2 rok \",IF('Harmonogram produkcji '!I39=\"X\",\"W okresie konwersji 3 rok \",IF('Harmonogram produkcji '!J39=\"X\",\"Ekologiczny \"))))","v":false},{"$f":"'Harmonogram produkcji '!L39","v":0},{"$f":"'Harmonogram produkcji '!M39","v":0},null,{"$f":"'Harmonogram produkcji '!P39","v":0},{"$f":"'Harmonogram produkcji '!Q39","v":0},{"$f":"IF('Harmonogram produkcji '!R39=\"X\",\"ekologiczny \",IF('Harmonogram produkcji '!S39=\"X\",\"nieekologiczny\",IF('Harmonogram produkcji '!T39=\"X\",\"z własnego gospodarstwa\",IF('Harmonogram produkcji '!U39=\"X\",\"ND, uprawa zastana\"))))","v":false},{"$f":"'Harmonogram produkcji '!V39","v":"00:00:00"},{"$f":"'Harmonogram produkcji '!F39","v":"00:00:00"},null,null,null,{"$f":"'Harmonogram produkcji '!Y39","v":0},{"$f":"'Harmonogram produkcji '!Z39","v":0},{"$f":"'Harmonogram produkcji '!W39","v":0},{"$f":"'Harmonogram produkcji '!X39","v":0}]
[{"$f":"'Harmonogram produkcji '!B40","v":0},{"$f":"'Harmonogram produkcji '!C40","v":0},{"$f":"'Harmonogram produkcji '!D40","v":0},{"$f":"'Harmonogram produkcji '!E40","v":0},{"$f":"IF('Harmonogram produkcji '!G40=\"X\",\"z pierwszych 12 miesiecy okresu konwersji\",IF('Harmonogram produkcji '!H40=\"X\",\"W okresie konwersji 2 rok \",IF('Harmonogram produkcji '!I40=\"X\",\"W okresie konwersji 3 rok \",IF('Harmonogram produkcji '!J40=\"X\",\"Ekologiczny \"))))","v":false},{"$f":"'Harmonogram produkcji '!L40","v":0},{"$f":"'Harmonogram produkcji '!M40","v":0},null,{"$f":"'Harmonogram produkcji '!P40","v":0},{"$f":"'Harmonogram produkcji '!Q40","v":0},{"$f":"IF('Harmonogram produkcji '!R40=\"X\",\"ekologiczny \",IF('Harmonogram produkcji '!S40=\"X\",\"nieekologiczny\",IF('Harmonogram produkcji '!T40=\"X\",\"z własnego gospodarstwa\",IF('Harmonogram produkcji '!U40=\"X\",\"ND, uprawa zastana\"))))","v":false},{"$f":"'Harmonogram produkcji '!V40","v":"00:00:00"},{"$f":"'Harmonogram produkcji '!F40","v":"00:00:00"},null,null,null,{"$f":"'Harmonogram produkcji '!Y40","v":0},{"$f":"'Harmonogram produkcji '!Z40","v":0},{"$f":"'Harmonogram produkcji '!W40","v":0},{"$f":"'Harmonogram produkcji '!X40","v":0}]
[{"$f":"'Harmonogram produkcji '!B41","v":0},{"$f":"'Harmonogram produkcji '!C41","v":0},{"$f":"'Harmonogram produkcji '!D41","v":0},{"$f":"'Harmonogram produkcji '!E41","v":0},{"$f":"IF('Harmonogram produkcji '!G41=\"X\",\"z pierwszych 12 miesiecy okresu konwersji\",IF('Harmonogram produkcji '!H41=\"X\",\"W okresie konwersji 2 rok \",IF('Harmonogram produkcji '!I41=\"X\",\"W okresie konwersji 3 rok \",IF('Harmonogram produkcji '!J41=\"X\",\"Ekologiczny \"))))","v":false},{"$f":"'Harmonogram produkcji '!L41","v":0},{"$f":"'Harmonogram produkcji '!M41","v":0},null,{"$f":"'Harmonogram produkcji '!P41","v":0},{"$f":"'Harmonogram produkcji '!Q41","v":0},{"$f":"IF('Harmonogram produkcji '!R41=\"X\",\"ekologiczny \",IF('Harmonogram produkcji '!S41=\"X\",\"nieekologiczny\",IF('Harmonogram produkcji '!T41=\"X\",\"z własnego gospodarstwa\",IF('Harmonogram produkcji '!U41=\"X\",\"ND, uprawa zastana\"))))","v":false},{"$f":"'Harmonogram produkcji '!V41","v":"00:00:00"},{"$f":"'Harmonogram produkcji '!F41","v":"00:00:00"},null,null,null,{"$f":"'Harmonogram produkcji '!Y41","v":0},{"$f":"'Harmonogram produkcji '!Z41","v":0},{"$f":"'Harmonogram produkcji '!W41","v":0},{"$f":"'Harmonogram produkcji '!X41","v":0}]
[{"$f":"'Harmonogram produkcji '!B42","v":0},{"$f":"'Harmonogram produkcji '!C42","v":0},{"$f":"'Harmonogram produkcji '!D42","v":0},{"$f":"'Harmonogram produkcji '!E42","v":0},{"$f":"IF('Harmonogram produkcji '!G42=\"X\",\"z pierwszych 12 miesiecy okresu konwersji\",IF('Harmonogram produkcji '!H42=\"X\",\"W okresie konwersji 2 rok \",IF('Harmonogram produkcji '!I42=\"X\",\"W okresie konwersji 3 rok \",IF('Harmonogram produkcji '!J42=\"X\",\"Ekologiczny \"))))","v":false},{"$f":"'Harmonogram produkcji '!L42","v":0},{"$f":"'Harmonogram produkcji '!M42","v":0},null,{"$f":"'Harmonogram produkcji '!P42","v":0},{"$f":"'Harmonogram produkcji '!Q42","v":0},{"$f":"IF('Harmonogram produkcji '!R42=\"X\",\"ekologiczny \",IF('Harmonogram produkcji '!S42=\"X\",\"nieekologiczny\",IF('Harmonogram produkcji '!T42=\"X\",\"z własnego gospodarstwa\",IF('Harmonogram produkcji '!U42=\"X\",\"ND, uprawa zastana\"))))","v":false},{"$f":"'Harmonogram produkcji '!V42","v":"00:00:00"},{"$f":"'Harmonogram produkcji '!F42","v":"00:00:00"},null,null,null,{"$f":"'Harmonogram produkcji '!Y42","v":0},{"$f":"'Harmonogram produkcji '!Z42","v":0},{"$f":"'Harmonogram produkcji '!W42","v":0},{"$f":"'Harmonogram produkcji '!X42","v":0}]
[{"$f":"'Harmonogram produkcji '!B43","v":0},{"$f":"'Harmonogram produkcji '!C43","v":0},{"$f":"'Harmonogram produkcji '!D43","v":0},{"$f":"'Harmonogram produkcji '!E43","v":0},{"$f":"IF('Harmonogram produkcji '!G43=\"X\",\"z pierwszych 12 miesiecy okresu konwersji\",IF('Harmonogram produkcji '!H43=\"X\",\"W okresie konwersji 2 rok \",IF('Harmonogram produkcji '!I43=\"X\",\"W okresie konwersji 3 rok \",IF('Harmonogram produkcji '!J43=\"X\",\"Ekologiczny \"))))","v":false},{"$f":"'Harmonogram produkcji '!L43","v":0},{"$f":"'Harmonogram produkcji '!M43","v":0},null,{"$f":"'Harmonogram produkcji '!P43","v":0},{"$f":"'Harmonogram produkcji '!Q43","v":0},{"$f":"IF('Harmonogram produkcji '!R43=\"X\",\"ekologiczny \",IF('Harmonogram produkcji '!S43=\"X\",\"nieekologiczny\",IF('Harmonogram produkcji '!T43=\"X\",\"z własnego gospodarstwa\",IF('Harmonogram produkcji '!U43=\"X\",\"ND, uprawa zastana\"))))","v":false},{"$f":"'Harmonogram produkcji '!V43","v":"00:00:00"},{"$f":"'Harmonogram produkcji '!F43","v":"00:00:00"},null,null,null,{"$f":"'Harmonogram produkcji '!Y43","v":0},{"$f":"'Harmonogram produkcji '!Z43","v":0},{"$f":"'Harmonogram produkcji '!W43","v":0},{"$f":"'Harmonogram produkcji '!X43","v":0}]
[{"$f":"'Harmonogram produkcji '!B44","v":0},{"$f":"'Harmonogram produkcji '!C44","v":0},{"$f":"'Harmonogram produkcji '!D44","v":0},{"$f":"'Harmonogram produkcji '!E44","v":0},{"$f":"IF('Harmonogram produkcji '!G44=\"X\",\"z pierwszych 12 miesiecy okresu konwersji\",IF('Harmonogram produkcji '!H44=\"X\",\"W okresie konwersji 2 rok \",IF('Harmonogram produkcji '!I44=\"X\",\"W okresie konwersji 3 rok \",IF('Harmonogram produkcji '!J44=\"X\",\"Ekologiczny \"))))","v":false},{"$f":"'Harmonogram produkcji '!L44","v":0},{"$f":"'Harmonogram produkcji '!M44","v":0},null,{"$f":"'Harmonogram produkcji '!P44","v":0},{"$f":"'Harmonogram produkcji '!Q44","v":0},{"$f":"IF('Harmonogram produkcji '!R44=\"X\",\"ekologiczny \",IF('Harmonogram produkcji '!S44=\"X\",\"nieekologiczny\",IF('Harmonogram produkcji '!T44=\"X\",\"z własnego gospodarstwa\",IF('Harmonogram produkcji '!U44=\"X\",\"ND, uprawa zastana\"))))","v":false},{"$f":"'Harmonogram produkcji '!V44","v":"00:00:00"},{"$f":"'Harmonogram produkcji '!F44","v":"00:00:00"},null,null,null,{"$f":"'Harmonogram produkcji '!Y44","v":0},{"$f":"'Harmonogram produkcji '!Z44","v":0},{"$f":"'Harmonogram produkcji '!W44","v":0},{"$f":"'Harmonogram produkcji '!X44","v":0}]
[{"$f":"'Harmonogram produkcji '!B45","v":0},{"$f":"'Harmonogram produkcji '!C45","v":0},{"$f":"'Harmonogram produkcji '!D45","v":0},{"$f":"'Harmonogram produkcji '!E45","v":0},{"$f":"IF('Harmonogram produkcji '!G45=\"X\",\"z pierwszych 12 miesiecy okresu konwersji\",IF('Harmonogram produkcji '!H45=\"X\",\"W okresie konwersji 2 rok \",IF('Harmonogram produkcji '!I45=\"X\",\"W okresie konwersji 3 rok \",IF('Harmonogram produkcji '!J45=\"X\",\"Ekologiczny \"))))","v":false},{"$f":"'Harmonogram produkcji '!L45","v":0},{"$f":"'Harmonogram produkcji '!M45","v":0},null,{"$f":"'Harmonogram produkcji '!P45","v":0},{"$f":"'Harmonogram produkcji '!Q45","v":0},{"$f":"IF('Harmonogram produkcji '!R45=\"X\",\"ekologiczny \",IF('Harmonogram produkcji '!S45=\"X\",\"nieekologiczny\",IF('Harmonogram produkcji '!T45=\"X\",\"z własnego gospodarstwa\",IF('Harmonogram produkcji '!U45=\"X\",\"ND, uprawa zastana\"))))","v":false},{"$f":"'Harmonogram produkcji '!V45","v":"00:00:00"},{"$f":"'Harmonogram produkcji '!F45","v":"00:00:00"},null,null,null,{"$f":"'Harmonogram produkcji '!Y45","v":0},{"$f":"'Harmonogram produkcji '!Z45","v":0},{"$f":"'Harmonogram produkcji '!W45","v":0},{"$f":"'Harmonogram produkcji '!X45","v":0}]
[{"$f":"'Harmonogram produkcji '!B46","v":0},{"$f":"'Harmonogram produkcji '!C46","v":0},{"$f":"'Harmonogram produkcji '!D46","v":0},{"$f":"'Harmonogram produkcji '!E46","v":0},{"$f":"IF('Harmonogram produkcji '!G46=\"X\",\"z pierwszych 12 miesiecy okresu konwersji\",IF('Harmonogram produkcji '!H46=\"X\",\"W okresie konwersji 2 rok \",IF('Harmonogram produkcji '!I46=\"X\",\"W okresie konwersji 3 rok \",IF('Harmonogram produkcji '!J46=\"X\",\"Ekologiczny \"))))","v":false},{"$f":"'Harmonogram produkcji '!L46","v":0},{"$f":"'Harmonogram produkcji '!M46","v":0},null,{"$f":"'Harmonogram produkcji '!P46","v":0},{"$f":"'Harmonogram produkcji '!Q46","v":0},{"$f":"IF('Harmonogram produkcji '!R46=\"X\",\"ekologiczny \",IF('Harmonogram produkcji '!S46=\"X\",\"nieekologiczny\",IF('Harmonogram produkcji '!T46=\"X\",\"z własnego gospodarstwa\",IF('Harmonogram produkcji '!U46=\"X\",\"ND, uprawa zastana\"))))","v":false},{"$f":"'Harmonogram produkcji '!V46","v":"00:00:00"},{"$f":"'Harmonogram produkcji '!F46","v":"00:00:00"},null,null,null,{"$f":"'Harmonogram produkcji '!Y46","v":0},{"$f":"'Harmonogram produkcji '!Z46","v":0},{"$f":"'Harmonogram produkcji '!W46","v":0},{"$f":"'Harmonogram produkcji '!X46","v":0}]
[{"$f":"'Harmonogram produkcji '!B47","v":0},{"$f":"'Harmonogram produkcji '!C47","v":0},{"$f":"'Harmonogram produkcji '!D47","v":0},{"$f":"'Harmonogram produkcji '!E47","v":0},{"$f":"IF('Harmonogram produkcji '!G47=\"X\",\"z pierwszych 12 miesiecy okresu konwersji\",IF('Harmonogram produkcji '!H47=\"X\",\"W okresie konwersji 2 rok \",IF('Harmonogram produkcji '!I47=\"X\",\"W okresie konwersji 3 rok \",IF('Harmonogram produkcji '!J47=\"X\",\"Ekologiczny \"))))","v":false},{"$f":"'Harmonogram produkcji '!L47","v":0},{"$f":"'Harmonogram produkcji '!M47","v":0},null,{"$f":"'Harmonogram produkcji '!P47","v":0},{"$f":"'Harmonogram produkcji '!Q47","v":0},{"$f":"IF('Harmonogram produkcji '!R47=\"X\",\"ekologiczny \",IF('Harmonogram produkcji '!S47=\"X\",\"nieekologiczny\",IF('Harmonogram produkcji '!T47=\"X\",\"z własnego gospodarstwa\",IF('Harmonogram produkcji '!U47=\"X\",\"ND, uprawa zastana\"))))","v":false},{"$f":"'Harmonogram produkcji '!V47","v":"00:00:00"},{"$f":"'Harmonogram produkcji '!F47","v":"00:00:00"},null,null,null,{"$f":"'Harmonogram produkcji '!Y47","v":0},{"$f":"'Harmonogram produkcji '!Z47","v":0},{"$f":"'Harmonogram produkcji '!W47","v":0},{"$f":"'Harmonogram produkcji '!X47","v":0}]
[{"$f":"'Harmonogram produkcji '!B48","v":0},{"$f":"'Harmonogram produkcji '!C48","v":0},{"$f":"'Harmonogram produkcji '!D48","v":0},{"$f":"'Harmonogram produkcji '!E48","v":0},{"$f":"IF('Harmonogram produkcji '!G48=\"X\",\"z pierwszych 12 miesiecy okresu konwersji\",IF('Harmonogram produkcji '!H48=\"X\",\"W okresie konwersji 2 rok \",IF('Harmonogram produkcji '!I48=\"X\",\"W okresie konwersji 3 rok \",IF('Harmonogram produkcji '!J48=\"X\",\"Ekologiczny \"))))","v":false},{"$f":"'Harmonogram produkcji '!L48","v":0},{"$f":"'Harmonogram produkcji '!M48","v":0},null,{"$f":"'Harmonogram produkcji '!P48","v":0},{"$f":"'Harmonogram produkcji '!Q48","v":0},{"$f":"IF('Harmonogram produkcji '!R48=\"X\",\"ekologiczny \",IF('Harmonogram produkcji '!S48=\"X\",\"nieekologiczny\",IF('Harmonogram produkcji '!T48=\"X\",\"z własnego gospodarstwa\",IF('Harmonogram produkcji '!U48=\"X\",\"ND, uprawa zastana\"))))","v":false},{"$f":"'Harmonogram produkcji '!V48","v":"00:00:00"},{"$f":"'Harmonogram produkcji '!F48","v":"00:00:00"},null,null,null,{"$f":"'Harmonogram produkcji '!Y48","v":0},{"$f":"'Harmonogram produkcji '!Z48","v":0},{"$f":"'Harmonogram produkcji '!W48","v":0},{"$f":"'Harmonogram produkcji '!X48","v":0}]
[{"$f":"'Harmonogram produkcji '!B49","v":0},{"$f":"'Harmonogram produkcji '!C49","v":0},{"$f":"'Harmonogram produkcji '!D49","v":0},{"$f":"'Harmonogram produkcji '!E49","v":0},{"$f":"IF('Harmonogram produkcji '!G49=\"X\",\"z pierwszych 12 miesiecy okresu konwersji\",IF('Harmonogram produkcji '!H49=\"X\",\"W okresie konwersji 2 rok \",IF('Harmonogram produkcji '!I49=\"X\",\"W okresie konwersji 3 rok \",IF('Harmonogram produkcji '!J49=\"X\",\"Ekologiczny \"))))","v":false},{"$f":"'Harmonogram produkcji '!L49","v":0},{"$f":"'Harmonogram produkcji '!M49","v":0},null,{"$f":"'Harmonogram produkcji '!P49","v":0},{"$f":"'Harmonogram produkcji '!Q49","v":0},{"$f":"IF('Harmonogram produkcji '!R49=\"X\",\"ekologiczny \",IF('Harmonogram produkcji '!S49=\"X\",\"nieekologiczny\",IF('Harmonogram produkcji '!T49=\"X\",\"z własnego gospodarstwa\",IF('Harmonogram produkcji '!U49=\"X\",\"ND, uprawa zastana\"))))","v":false},{"$f":"'Harmonogram produkcji '!V49","v":"00:00:00"},{"$f":"'Harmonogram produkcji '!F49","v":"00:00:00"},null,null,null,{"$f":"'Harmonogram produkcji '!Y49","v":0},{"$f":"'Harmonogram produkcji '!Z49","v":0},{"$f":"'Harmonogram produkcji '!W49","v":0},{"$f":"'Harmonogram produkcji '!X49","v":0}]
[{"$f":"'Harmonogram produkcji '!B50","v":0},{"$f":"'Harmonogram produkcji '!C50","v":0},{"$f":"'Harmonogram produkcji '!D50","v":0},{"$f":"'Harmonogram produkcji '!E50","v":0},{"$f":"IF('Harmonogram produkcji '!G50=\"X\",\"z pierwszych 12 miesiecy okresu konwersji\",IF('Harmonogram produkcji '!H50=\"X\",\"W okresie konwersji 2 rok \",IF('Harmonogram produkcji '!I50=\"X\",\"W okresie konwersji 3 rok \",IF('Harmonogram produkcji '!J50=\"X\",\"Ekologiczny \"))))","v":false},{"$f":"'Harmonogram produkcji '!L50","v":0},{"$f":"'Harmonogram produkcji '!M50","v":0},null,{"$f":"'Harmonogram produkcji '!P50","v":0},{"$f":"'Harmonogram produkcji '!Q50","v":0},{"$f":"IF('Harmonogram produkcji '!R50=\"X\",\"ekologiczny \",IF('Harmonogram produkcji '!S50=\"X\",\"nieekologiczny\",IF('Harmonogram produkcji '!T50=\"X\",\"z własnego gospodarstwa\",IF('Harmonogram produkcji '!U50=\"X\",\"ND, uprawa zastana\"))))","v":false},{"$f":"'Harmonogram produkcji '!V50","v":"00:00:00"},{"$f":"'Harmonogram produkcji '!F50","v":"00:00:00"},null,null,null,{"$f":"'Harmonogram produkcji '!Y50","v":0},{"$f":"'Harmonogram produkcji '!Z50","v":0},{"$f":"'Harmonogram produkcji '!W50","v":0},{"$f":"'Harmonogram produkcji '!X50","v":0}]
[{"$f":"'Harmonogram produkcji '!B51","v":0},{"$f":"'Harmonogram produkcji '!C51","v":0},{"$f":"'Harmonogram produkcji '!D51","v":0},{"$f":"'Harmonogram produkcji '!E51","v":0},{"$f":"IF('Harmonogram produkcji '!G51=\"X\",\"z pierwszych 12 miesiecy okresu konwersji\",IF('Harmonogram produkcji '!H51=\"X\",\"W okresie konwersji 2 rok \",IF('Harmonogram produkcji '!I51=\"X\",\"W okresie konwersji 3 rok \",IF('Harmonogram produkcji '!J51=\"X\",\"Ekologiczny \"))))","v":false},{"$f":"'Harmonogram produkcji '!L51","v":0},{"$f":"'Harmonogram produkcji '!M51","v":0},null,{"$f":"'Harmonogram produkcji '!P51","v":0},{"$f":"'Harmonogram produkcji '!Q51","v":0},{"$f":"IF('Harmonogram produkcji '!R51=\"X\",\"ekologiczny \",IF('Harmonogram produkcji '!S51=\"X\",\"nieekologiczny\",IF('Harmonogram produkcji '!T51=\"X\",\"z własnego gospodarstwa\",IF('Harmonogram produkcji '!U51=\"X\",\"ND, uprawa zastana\"))))","v":false},{"$f":"'Harmonogram produkcji '!V51","v":"00:00:00"},{"$f":"'Harmonogram produkcji '!F51","v":"00:00:00"},null,null,null,{"$f":"'Harmonogram produkcji '!Y51","v":0},{"$f":"'Harmonogram produkcji '!Z51","v":0},{"$f":"'Harmonogram produkcji '!W51","v":0},{"$f":"'Harmonogram produkcji '!X51","v":0}]
[{"$f":"'Harmonogram produkcji '!B52","v":0},{"$f":"'Harmonogram produkcji '!C52","v":0},{"$f":"'Harmonogram produkcji '!D52","v":0},{"$f":"'Harmonogram produkcji '!E52","v":0},{"$f":"IF('Harmonogram produkcji '!G52=\"X\",\"z pierwszych 12 miesiecy okresu konwersji\",IF('Harmonogram produkcji '!H52=\"X\",\"W okresie konwersji 2 rok \",IF('Harmonogram produkcji '!I52=\"X\",\"W okresie konwersji 3 rok \",IF('Harmonogram produkcji '!J52=\"X\",\"Ekologiczny \"))))","v":false},{"$f":"'Harmonogram produkcji '!L52","v":0},{"$f":"'Harmonogram produkcji '!M52","v":0},null,{"$f":"'Harmonogram produkcji '!P52","v":0},{"$f":"'Harmonogram produkcji '!Q52","v":0},{"$f":"IF('Harmonogram produkcji '!R52=\"X\",\"ekologiczny \",IF('Harmonogram produkcji '!S52=\"X\",\"nieekologiczny\",IF('Harmonogram produkcji '!T52=\"X\",\"z własnego gospodarstwa\",IF('Harmonogram produkcji '!U52=\"X\",\"ND, uprawa zastana\"))))","v":false},{"$f":"'Harmonogram produkcji '!V52","v":"00:00:00"},{"$f":"'Harmonogram produkcji '!F52","v":"00:00:00"},null,null,null,{"$f":"'Harmonogram produkcji '!Y52","v":0},{"$f":"'Harmonogram produkcji '!Z52","v":0},{"$f":"'Harmonogram produkcji '!W52","v":0},{"$f":"'Harmonogram produkcji '!X52","v":0}]
[{"$f":"'Harmonogram produkcji '!B53","v":0},{"$f":"'Harmonogram produkcji '!C53","v":0},{"$f":"'Harmonogram produkcji '!D53","v":0},{"$f":"'Harmonogram produkcji '!E53","v":0},{"$f":"IF('Harmonogram produkcji '!G53=\"X\",\"z pierwszych 12 miesiecy okresu konwersji\",IF('Harmonogram produkcji '!H53=\"X\",\"W okresie konwersji 2 rok \",IF('Harmonogram produkcji '!I53=\"X\",\"W okresie konwersji 3 rok \",IF('Harmonogram produkcji '!J53=\"X\",\"Ekologiczny \"))))","v":false},{"$f":"'Harmonogram produkcji '!L53","v":0},{"$f":"'Harmonogram produkcji '!M53","v":0},null,{"$f":"'Harmonogram produkcji '!P53","v":0},{"$f":"'Harmonogram produkcji '!Q53","v":0},{"$f":"IF('Harmonogram produkcji '!R53=\"X\",\"ekologiczny \",IF('Harmonogram produkcji '!S53=\"X\",\"nieekologiczny\",IF('Harmonogram produkcji '!T53=\"X\",\"z własnego gospodarstwa\",IF('Harmonogram produkcji '!U53=\"X\",\"ND, uprawa zastana\"))))","v":false},{"$f":"'Harmonogram produkcji '!V53","v":"00:00:00"},{"$f":"'Harmonogram produkcji '!F53","v":"00:00:00"},null,null,null,{"$f":"'Harmonogram produkcji '!Y53","v":0},{"$f":"'Harmonogram produkcji '!Z53","v":0},{"$f":"'Harmonogram produkcji '!W53","v":0},{"$f":"'Harmonogram produkcji '!X53","v":0}]
[{"$f":"'Harmonogram produkcji '!B54","v":0},{"$f":"'Harmonogram produkcji '!C54","v":0},{"$f":"'Harmonogram produkcji '!D54","v":0},{"$f":"'Harmonogram produkcji '!E54","v":0},{"$f":"IF('Harmonogram produkcji '!G54=\"X\",\"z pierwszych 12 miesiecy okresu konwersji\",IF('Harmonogram produkcji '!H54=\"X\",\"W okresie konwersji 2 rok \",IF('Harmonogram produkcji '!I54=\"X\",\"W okresie konwersji 3 rok \",IF('Harmonogram produkcji '!J54=\"X\",\"Ekologiczny \"))))","v":false},{"$f":"'Harmonogram produkcji '!L54","v":0},{"$f":"'Harmonogram produkcji '!M54","v":0},null,{"$f":"'Harmonogram produkcji '!P54","v":0},{"$f":"'Harmonogram produkcji '!Q54","v":0},{"$f":"IF('Harmonogram produkcji '!R54=\"X\",\"ekologiczny \",IF('Harmonogram produkcji '!S54=\"X\",\"nieekologiczny\",IF('Harmonogram produkcji '!T54=\"X\",\"z własnego gospodarstwa\",IF('Harmonogram produkcji '!U54=\"X\",\"ND, uprawa zastana\"))))","v":false},{"$f":"'Harmonogram produkcji '!V54","v":"00:00:00"},{"$f":"'Harmonogram produkcji '!F54","v":"00:00:00"},null,null,null,{"$f":"'Harmonogram produkcji '!Y54","v":0},{"$f":"'Harmonogram produkcji '!Z54","v":0},{"$f":"'Harmonogram produkcji '!W54","v":0},{"$f":"'Harmonogram produkcji '!X54","v":0}]
[{"$f":"'Harmonogram produkcji '!B55","v":0},{"$f":"'Harmonogram produkcji '!C55","v":0},{"$f":"'Harmonogram produkcji '!D55","v":0},{"$f":"'Harmonogram produkcji '!E55","v":0},{"$f":"IF('Harmonogram produkcji '!G55=\"X\",\"z pierwszych 12 miesiecy okresu konwersji\",IF('Harmonogram produkcji '!H55=\"X\",\"W okresie konwersji 2 rok \",IF('Harmonogram produkcji '!I55=\"X\",\"W okresie konwersji 3 rok \",IF('Harmonogram produkcji '!J55=\"X\",\"Ekologiczny \"))))","v":false},{"$f":"'Harmonogram produkcji '!L55","v":0},{"$f":"'Harmonogram produkcji '!M55","v":0},null,{"$f":"'Harmonogram produkcji '!P55","v":0},{"$f":"'Harmonogram produkcji '!Q55","v":0},{"$f":"IF('Harmonogram produkcji '!R55=\"X\",\"ekologiczny \",IF('Harmonogram produkcji '!S55=\"X\",\"nieekologiczny\",IF('Harmonogram produkcji '!T55=\"X\",\"z własnego gospodarstwa\",IF('Harmonogram produkcji '!U55=\"X\",\"ND, uprawa zastana\"))))","v":false},{"$f":"'Harmonogram produkcji '!V55","v":"00:00:00"},{"$f":"'Harmonogram produkcji '!F55","v":"00:00:00"},null,null,null,{"$f":"'Harmonogram produkcji '!Y55","v":0},{"$f":"'Harmonogram produkcji '!Z55","v":0},{"$f":"'Harmonogram produkcji '!W55","v":0},{"$f":"'Harmonogram produkcji '!X55","v":0}]
[{"$f":"'Harmonogram produkcji '!B56","v":0},{"$f":"'Harmonogram produkcji '!C56","v":0},{"$f":"'Harmonogram produkcji '!D56","v":0},{"$f":"'Harmonogram produkcji '!E56","v":0},{"$f":"IF('Harmonogram produkcji '!G56=\"X\",\"z pierwszych 12 miesiecy okresu konwersji\",IF('Harmonogram produkcji '!H56=\"X\",\"W okresie konwersji 2 rok \",IF('Harmonogram produkcji '!I56=\"X\",\"W okresie konwersji 3 rok \",IF('Harmonogram produkcji '!J56=\"X\",\"Ekologiczny \"))))","v":false},{"$f":"'Harmonogram produkcji '!L56","v":0},{"$f":"'Harmonogram produkcji '!M56","v":0},null,{"$f":"'Harmonogram produkcji '!P56","v":0},{"$f":"'Harmonogram produkcji '!Q56","v":0},{"$f":"IF('Harmonogram produkcji '!R56=\"X\",\"ekologiczny \",IF('Harmonogram produkcji '!S56=\"X\",\"nieekologiczny\",IF('Harmonogram produkcji '!T56=\"X\",\"z własnego gospodarstwa\",IF('Harmonogram produkcji '!U56=\"X\",\"ND, uprawa zastana\"))))","v":false},{"$f":"'Harmonogram produkcji '!V56","v":"00:00:00"},{"$f":"'Harmonogram produkcji '!F56","v":"00:00:00"},null,null,null,{"$f":"'Harmonogram produkcji '!Y56","v":0},{"$f":"'Harmonogram produkcji '!Z56","v":0},{"$f":"'Harmonogram produkcji '!W56","v":0},{"$f":"'Harmonogram produkcji '!X56","v":0}]
[{"$f":"'Harmonogram produkcji '!B57","v":0},{"$f":"'Harmonogram produkcji '!C57","v":0},{"$f":"'Harmonogram produkcji '!D57","v":0},{"$f":"'Harmonogram produkcji '!E57","v":0},{"$f":"IF('Harmonogram produkcji '!G57=\"X\",\"z pierwszych 12 miesiecy okresu konwersji\",IF('Harmonogram produkcji '!H57=\"X\",\"W okresie konwersji 2 rok \",IF('Harmonogram produkcji '!I57=\"X\",\"W okresie konwersji 3 rok \",IF('Harmonogram produkcji '!J57=\"X\",\"Ekologiczny \"))))","v":false},{"$f":"'Harmonogram produkcji '!L57","v":0},{"$f":"'Harmonogram produkcji '!M57","v":0},null,{"$f":"'Harmonogram produkcji '!P57","v":0},{"$f":"'Harmonogram produkcji '!Q57","v":0},{"$f":"IF('Harmonogram produkcji '!R57=\"X\",\"ekologiczny \",IF('Harmonogram produkcji '!S57=\"X\",\"nieekologiczny\",IF('Harmonogram produkcji '!T57=\"X\",\"z własnego gospodarstwa\",IF('Harmonogram produkcji '!U57=\"X\",\"ND, uprawa zastana\"))))","v":false},{"$f":"'Harmonogram produkcji '!V57","v":"00:00:00"},{"$f":"'Harmonogram produkcji '!F57","v":"00:00:00"},null,null,null,{"$f":"'Harmonogram produkcji '!Y57","v":0},{"$f":"'Harmonogram produkcji '!Z57","v":0},{"$f":"'Harmonogram produkcji '!W57","v":0},{"$f":"'Harmonogram produkcji '!X57","v":0}]
[{"$f":"'Harmonogram produkcji '!B58","v":0},{"$f":"'Harmonogram produkcji '!C58","v":0},{"$f":"'Harmonogram produkcji '!D58","v":0},{"$f":"'Harmonogram produkcji '!E58","v":0},{"$f":"IF('Harmonogram produkcji '!G58=\"X\",\"z pierwszych 12 miesiecy okresu konwersji\",IF('Harmonogram produkcji '!H58=\"X\",\"W okresie konwersji 2 rok \",IF('Harmonogram produkcji '!I58=\"X\",\"W okresie konwersji 3 rok \",IF('Harmonogram produkcji '!J58=\"X\",\"Ekologiczny \"))))","v":false},{"$f":"'Harmonogram produkcji '!L58","v":0},{"$f":"'Harmonogram produkcji '!M58","v":0},null,{"$f":"'Harmonogram produkcji '!P58","v":0},{"$f":"'Harmonogram produkcji '!Q58","v":0},{"$f":"IF('Harmonogram produkcji '!R58=\"X\",\"ekologiczny \",IF('Harmonogram produkcji '!S58=\"X\",\"nieekologiczny\",IF('Harmonogram produkcji '!T58=\"X\",\"z własnego gospodarstwa\",IF('Harmonogram produkcji '!U58=\"X\",\"ND, uprawa zastana\"))))","v":false},{"$f":"'Harmonogram produkcji '!V58","v":"00:00:00"},{"$f":"'Harmonogram produkcji '!F58","v":"00:00:00"},null,null,null,{"$f":"'Harmonogram produkcji '!Y58","v":0},{"$f":"'Harmonogram produkcji '!Z58","v":0},{"$f":"'Harmonogram produkcji '!W58","v":0},{"$f":"'Harmonogram produkcji '!X58","v":0}]
[{"$f":"'Harmonogram produkcji '!B59","v":0},{"$f":"'Harmonogram produkcji '!C59","v":0},{"$f":"'Harmonogram produkcji '!D59","v":0},{"$f":"'Harmonogram produkcji '!E59","v":0},{"$f":"IF('Harmonogram produkcji '!G59=\"X\",\"z pierwszych 12 miesiecy okresu konwersji\",IF('Harmonogram produkcji '!H59=\"X\",\"W okresie konwersji 2 rok \",IF('Harmonogram produkcji '!I59=\"X\",\"W okresie konwersji 3 rok \",IF('Harmonogram produkcji '!J59=\"X\",\"Ekologiczny \"))))","v":false},{"$f":"'Harmonogram produkcji '!L59","v":0},{"$f":"'Harmonogram produkcji '!M59","v":0},null,{"$f":"'Harmonogram produkcji '!P59","v":0},{"$f":"'Harmonogram produkcji '!Q59","v":0},{"$f":"IF('Harmonogram produkcji '!R59=\"X\",\"ekologiczny \",IF('Harmonogram produkcji '!S59=\"X\",\"nieekologiczny\",IF('Harmonogram produkcji '!T59=\"X\",\"z własnego gospodarstwa\",IF('Harmonogram produkcji '!U59=\"X\",\"ND, uprawa zastana\"))))","v":false},{"$f":"'Harmonogram produkcji '!V59","v":"00:00:00"},{"$f":"'Harmonogram produkcji '!F59","v":"00:00:00"},null,null,null,{"$f":"'Harmonogram produkcji '!Y59","v":0},{"$f":"'Harmonogram produkcji '!Z59","v":0},{"$f":"'Harmonogram produkcji '!W59","v":0},{"$f":"'Harmonogram produkcji '!X59","v":0}]
[{"$f":"'Harmonogram produkcji '!B60","v":0},{"$f":"'Harmonogram produkcji '!C60","v":0},{"$f":"'Harmonogram produkcji '!D60","v":0},{"$f":"'Harmonogram produkcji '!E60","v":0},{"$f":"IF('Harmonogram produkcji '!G60=\"X\",\"z pierwszych 12 miesiecy okresu konwersji\",IF('Harmonogram produkcji '!H60=\"X\",\"W okresie konwersji 2 rok \",IF('Harmonogram produkcji '!I60=\"X\",\"W okresie konwersji 3 rok \",IF('Harmonogram produkcji '!J60=\"X\",\"Ekologiczny \"))))","v":false},{"$f":"'Harmonogram produkcji '!L60","v":0},{"$f":"'Harmonogram produkcji '!M60","v":0},null,{"$f":"'Harmonogram produkcji '!P60","v":0},{"$f":"'Harmonogram produkcji '!Q60","v":0},{"$f":"IF('Harmonogram produkcji '!R60=\"X\",\"ekologiczny \",IF('Harmonogram produkcji '!S60=\"X\",\"nieekologiczny\",IF('Harmonogram produkcji '!T60=\"X\",\"z własnego gospodarstwa\",IF('Harmonogram produkcji '!U60=\"X\",\"ND, uprawa zastana\"))))","v":false},{"$f":"'Harmonogram produkcji '!V60","v":"00:00:00"},{"$f":"'Harmonogram produkcji '!F60","v":"00:00:00"},null,null,null,{"$f":"'Harmonogram produkcji '!Y60","v":0},{"$f":"'Harmonogram produkcji '!Z60","v":0},{"$f":"'Harmonogram produkcji '!W60","v":0},{"$f":"'Harmonogram produkcji '!X60","v":0}]
[{"$f":"'Harmonogram produkcji '!B61","v":0},{"$f":"'Harmonogram produkcji '!C61","v":0},{"$f":"'Harmonogram produkcji '!D61","v":0},{"$f":"'Harmonogram produkcji '!E61","v":0},{"$f":"IF('Harmonogram produkcji '!G61=\"X\",\"z pierwszych 12 miesiecy okresu konwersji\",IF('Harmonogram produkcji '!H61=\"X\",\"W okresie konwersji 2 rok \",IF('Harmonogram produkcji '!I61=\"X\",\"W okresie konwersji 3 rok \",IF('Harmonogram produkcji '!J61=\"X\",\"Ekologiczny \"))))","v":false},{"$f":"'Harmonogram produkcji '!L61","v":0},{"$f":"'Harmonogram produkcji '!M61","v":0},null,{"$f":"'Harmonogram produkcji '!P61","v":0},{"$f":"'Harmonogram produkcji '!Q61","v":0},{"$f":"IF('Harmonogram produkcji '!R61=\"X\",\"ekologiczny \",IF('Harmonogram produkcji '!S61=\"X\",\"nieekologiczny\",IF('Harmonogram produkcji '!T61=\"X\",\"z własnego gospodarstwa\",IF('Harmonogram produkcji '!U61=\"X\",\"ND, uprawa zastana\"))))","v":false},{"$f":"'Harmonogram produkcji '!V61","v":"00:00:00"},{"$f":"'Harmonogram produkcji '!F61","v":"00:00:00"},null,null,null,{"$f":"'Harmonogram produkcji '!Y61","v":0},{"$f":"'Harmonogram produkcji '!Z61","v":0},{"$f":"'Harmonogram produkcji '!W61","v":0},{"$f":"'Harmonogram produkcji '!X61","v":0}]
[{"$f":"'Harmonogram produkcji '!B62","v":0},{"$f":"'Harmonogram produkcji '!C62","v":0},{"$f":"'Harmonogram produkcji '!D62","v":0},{"$f":"'Harmonogram produkcji '!E62","v":0},{"$f":"IF('Harmonogram produkcji '!G62=\"X\",\"z pierwszych 12 miesiecy okresu konwersji\",IF('Harmonogram produkcji '!H62=\"X\",\"W okresie konwersji 2 rok \",IF('Harmonogram produkcji '!I62=\"X\",\"W okresie konwersji 3 rok \",IF('Harmonogram produkcji '!J62=\"X\",\"Ekologiczny \"))))","v":false},{"$f":"'Harmonogram produkcji '!L62","v":0},{"$f":"'Harmonogram produkcji '!M62","v":0},null,{"$f":"'Harmonogram produkcji '!P62","v":0},{"$f":"'Harmonogram produkcji '!Q62","v":0},{"$f":"IF('Harmonogram produkcji '!R62=\"X\",\"ekologiczny \",IF('Harmonogram produkcji '!S62=\"X\",\"nieekologiczny\",IF('Harmonogram produkcji '!T62=\"X\",\"z własnego gospodarstwa\",IF('Harmonogram produkcji '!U62=\"X\",\"ND, uprawa zastana\"))))","v":false},{"$f":"'Harmonogram produkcji '!V62","v":"00:00:00"},{"$f":"'Harmonogram produkcji '!F62","v":"00:00:00"},null,null,null,{"$f":"'Harmonogram produkcji '!Y62","v":0},{"$f":"'Harmonogram produkcji '!Z62","v":0},{"$f":"'Harmonogram produkcji '!W62","v":0},{"$f":"'Harmonogram produkcji '!X62","v":0}]
[{"$f":"'Harmonogram produkcji '!B63","v":0},{"$f":"'Harmonogram produkcji '!C63","v":0},{"$f":"'Harmonogram produkcji '!D63","v":0},{"$f":"'Harmonogram produkcji '!E63","v":0},{"$f":"IF('Harmonogram produkcji '!G63=\"X\",\"z pierwszych 12 miesiecy okresu konwersji\",IF('Harmonogram produkcji '!H63=\"X\",\"W okresie konwersji 2 rok \",IF('Harmonogram produkcji '!I63=\"X\",\"W okresie konwersji 3 rok \",IF('Harmonogram produkcji '!J63=\"X\",\"Ekologiczny \"))))","v":false},{"$f":"'Harmonogram produkcji '!L63","v":0},{"$f":"'Harmonogram produkcji '!M63","v":0},null,{"$f":"'Harmonogram produkcji '!P63","v":0},{"$f":"'Harmonogram produkcji '!Q63","v":0},{"$f":"IF('Harmonogram produkcji '!R63=\"X\",\"ekologiczny \",IF('Harmonogram produkcji '!S63=\"X\",\"nieekologiczny\",IF('Harmonogram produkcji '!T63=\"X\",\"z własnego gospodarstwa\",IF('Harmonogram produkcji '!U63=\"X\",\"ND, uprawa zastana\"))))","v":false},{"$f":"'Harmonogram produkcji '!V63","v":"00:00:00"},{"$f":"'Harmonogram produkcji '!F63","v":"00:00:00"},null,null,null,{"$f":"'Harmonogram produkcji '!Y63","v":0},{"$f":"'Harmonogram produkcji '!Z63","v":0},{"$f":"'Harmonogram produkcji '!W63","v":0},{"$f":"'Harmonogram produkcji '!X63","v":0}]
[{"$f":"'Harmonogram produkcji '!B64","v":0},{"$f":"'Harmonogram produkcji '!C64","v":0},{"$f":"'Harmonogram produkcji '!D64","v":0},{"$f":"'Harmonogram produkcji '!E64","v":0},{"$f":"IF('Harmonogram produkcji '!G64=\"X\",\"z pierwszych 12 miesiecy okresu konwersji\",IF('Harmonogram produkcji '!H64=\"X\",\"W okresie konwersji 2 rok \",IF('Harmonogram produkcji '!I64=\"X\",\"W okresie konwersji 3 rok \",IF('Harmonogram produkcji '!J64=\"X\",\"Ekologiczny \"))))","v":false},{"$f":"'Harmonogram produkcji '!L64","v":0},{"$f":"'Harmonogram produkcji '!M64","v":0},null,{"$f":"'Harmonogram produkcji '!P64","v":0},{"$f":"'Harmonogram produkcji '!Q64","v":0},{"$f":"IF('Harmonogram produkcji '!R64=\"X\",\"ekologiczny \",IF('Harmonogram produkcji '!S64=\"X\",\"nieekologiczny\",IF('Harmonogram produkcji '!T64=\"X\",\"z własnego gospodarstwa\",IF('Harmonogram produkcji '!U64=\"X\",\"ND, uprawa zastana\"))))","v":false},{"$f":"'Harmonogram produkcji '!V64","v":"00:00:00"},{"$f":"'Harmonogram produkcji '!F64","v":"00:00:00"},null,null,null,{"$f":"'Harmonogram produkcji '!Y64","v":0},{"$f":"'Harmonogram produkcji '!Z64","v":0},{"$f":"'Harmonogram produkcji '!W64","v":0},{"$f":"'Harmonogram produkcji '!X64","v":0}]
[{"$f":"'Harmonogram produkcji '!B65","v":0},{"$f":"'Harmonogram produkcji '!C65","v":0},{"$f":"'Harmonogram produkcji '!D65","v":0},{"$f":"'Harmonogram produkcji '!E65","v":0},{"$f":"IF('Harmonogram produkcji '!G65=\"X\",\"z pierwszych 12 miesiecy okresu konwersji\",IF('Harmonogram produkcji '!H65=\"X\",\"W okresie konwersji 2 rok \",IF('Harmonogram produkcji '!I65=\"X\",\"W okresie konwersji 3 rok \",IF('Harmonogram produkcji '!J65=\"X\",\"Ekologiczny \"))))","v":false},{"$f":"'Harmonogram produkcji '!L65","v":0},{"$f":"'Harmonogram produkcji '!M65","v":0},null,{"$f":"'Harmonogram produkcji '!P65","v":0},{"$f":"'Harmonogram produkcji '!Q65","v":0},{"$f":"IF('Harmonogram produkcji '!R65=\"X\",\"ekologiczny \",IF('Harmonogram produkcji '!S65=\"X\",\"nieekologiczny\",IF('Harmonogram produkcji '!T65=\"X\",\"z własnego gospodarstwa\",IF('Harmonogram produkcji '!U65=\"X\",\"ND, uprawa zastana\"))))","v":false},{"$f":"'Harmonogram produkcji '!V65","v":"00:00:00"},{"$f":"'Harmonogram produkcji '!F65","v":"00:00:00"},null,null,null,{"$f":"'Harmonogram produkcji '!Y65","v":0},{"$f":"'Harmonogram produkcji '!Z65","v":0},{"$f":"'Harmonogram produkcji '!W65","v":0},{"$f":"'Harmonogram produkcji '!X65","v":0}]
[{"$f":"'Harmonogram produkcji '!B66","v":0},{"$f":"'Harmonogram produkcji '!C66","v":0},{"$f":"'Harmonogram produkcji '!D66","v":0},{"$f":"'Harmonogram produkcji '!E66","v":0},{"$f":"IF('Harmonogram produkcji '!G66=\"X\",\"z pierwszych 12 miesiecy okresu konwersji\",IF('Harmonogram produkcji '!H66=\"X\",\"W okresie konwersji 2 rok \",IF('Harmonogram produkcji '!I66=\"X\",\"W okresie konwersji 3 rok \",IF('Harmonogram produkcji '!J66=\"X\",\"Ekologiczny \"))))","v":false},{"$f":"'Harmonogram produkcji '!L66","v":0},{"$f":"'Harmonogram produkcji '!M66","v":0},null,{"$f":"'Harmonogram produkcji '!P66","v":0},{"$f":"'Harmonogram produkcji '!Q66","v":0},{"$f":"IF('Harmonogram produkcji '!R66=\"X\",\"ekologiczny \",IF('Harmonogram produkcji '!S66=\"X\",\"nieekologiczny\",IF('Harmonogram produkcji '!T66=\"X\",\"z własnego gospodarstwa\",IF('Harmonogram produkcji '!U66=\"X\",\"ND, uprawa zastana\"))))","v":false},{"$f":"'Harmonogram produkcji '!V66","v":"00:00:00"},{"$f":"'Harmonogram produkcji '!F66","v":"00:00:00"},null,null,null,{"$f":"'Harmonogram produkcji '!Y66","v":0},{"$f":"'Harmonogram produkcji '!Z66","v":0},{"$f":"'Harmonogram produkcji '!W66","v":0},{"$f":"'Harmonogram produkcji '!X66","v":0}]
[{"$f":"'Harmonogram produkcji '!B67","v":0},{"$f":"'Harmonogram produkcji '!C67","v":0},{"$f":"'Harmonogram produkcji '!D67","v":0},{"$f":"'Harmonogram produkcji '!E67","v":0},{"$f":"IF('Harmonogram produkcji '!G67=\"X\",\"z pierwszych 12 miesiecy okresu konwersji\",IF('Harmonogram produkcji '!H67=\"X\",\"W okresie konwersji 2 rok \",IF('Harmonogram produkcji '!I67=\"X\",\"W okresie konwersji 3 rok \",IF('Harmonogram produkcji '!J67=\"X\",\"Ekologiczny \"))))","v":false},{"$f":"'Harmonogram produkcji '!L67","v":0},{"$f":"'Harmonogram produkcji '!M67","v":0},null,{"$f":"'Harmonogram produkcji '!P67","v":0},{"$f":"'Harmonogram produkcji '!Q67","v":0},{"$f":"IF('Harmonogram produkcji '!R67=\"X\",\"ekologiczny \",IF('Harmonogram produkcji '!S67=\"X\",\"nieekologiczny\",IF('Harmonogram produkcji '!T67=\"X\",\"z własnego gospodarstwa\",IF('Harmonogram produkcji '!U67=\"X\",\"ND, uprawa zastana\"))))","v":false},{"$f":"'Harmonogram produkcji '!V67","v":"00:00:00"},{"$f":"'Harmonogram produkcji '!F67","v":"00:00:00"},null,null,null,{"$f":"'Harmonogram produkcji '!Y67","v":0},{"$f":"'Harmonogram produkcji '!Z67","v":0},{"$f":"'Harmonogram produkcji '!W67","v":0},{"$f":"'Harmonogram produkcji '!X67","v":0}]
[{"$f":"'Harmonogram produkcji '!B68","v":0},{"$f":"'Harmonogram produkcji '!C68","v":0},{"$f":"'Harmonogram produkcji '!D68","v":0},{"$f":"'Harmonogram produkcji '!E68","v":0},{"$f":"IF('Harmonogram produkcji '!G68=\"X\",\"z pierwszych 12 miesiecy okresu konwersji\",IF('Harmonogram produkcji '!H68=\"X\",\"W okresie konwersji 2 rok \",IF('Harmonogram produkcji '!I68=\"X\",\"W okresie konwersji 3 rok \",IF('Harmonogram produkcji '!J68=\"X\",\"Ekologiczny \"))))","v":false},{"$f":"'Harmonogram produkcji '!L68","v":0},{"$f":"'Harmonogram produkcji '!M68","v":0},null,{"$f":"'Harmonogram produkcji '!P68","v":0},{"$f":"'Harmonogram produkcji '!Q68","v":0},{"$f":"IF('Harmonogram produkcji '!R68=\"X\",\"ekologiczny \",IF('Harmonogram produkcji '!S68=\"X\",\"nieekologiczny\",IF('Harmonogram produkcji '!T68=\"X\",\"z własnego gospodarstwa\",IF('Harmonogram produkcji '!U68=\"X\",\"ND, uprawa zastana\"))))","v":false},{"$f":"'Harmonogram produkcji '!V68","v":"00:00:00"},{"$f":"'Harmonogram produkcji '!F68","v":"00:00:00"},null,null,null,{"$f":"'Harmonogram produkcji '!Y68","v":0},{"$f":"'Harmonogram produkcji '!Z68","v":0},{"$f":"'Harmonogram produkcji '!W68","v":0},{"$f":"'Harmonogram produkcji '!X68","v":0}]
[{"$f":"'Harmonogram produkcji '!B69","v":0},{"$f":"'Harmonogram produkcji '!C69","v":0},{"$f":"'Harmonogram produkcji '!D69","v":0},{"$f":"'Harmonogram produkcji '!E69","v":0},{"$f":"IF('Harmonogram produkcji '!G69=\"X\",\"z pierwszych 12 miesiecy okresu konwersji\",IF('Harmonogram produkcji '!H69=\"X\",\"W okresie konwersji 2 rok \",IF('Harmonogram produkcji '!I69=\"X\",\"W okresie konwersji 3 rok \",IF('Harmonogram produkcji '!J69=\"X\",\"Ekologiczny \"))))","v":false},{"$f":"'Harmonogram produkcji '!L69","v":0},{"$f":"'Harmonogram produkcji '!M69","v":0},null,{"$f":"'Harmonogram produkcji '!P69","v":0},{"$f":"'Harmonogram produkcji '!Q69","v":0},{"$f":"IF('Harmonogram produkcji '!R69=\"X\",\"ekologiczny \",IF('Harmonogram produkcji '!S69=\"X\",\"nieekologiczny\",IF('Harmonogram produkcji '!T69=\"X\",\"z własnego gospodarstwa\",IF('Harmonogram produkcji '!U69=\"X\",\"ND, uprawa zastana\"))))","v":false},{"$f":"'Harmonogram produkcji '!V69","v":"00:00:00"},{"$f":"'Harmonogram produkcji '!F69","v":"00:00:00"},null,null,null,{"$f":"'Harmonogram produkcji '!Y69","v":0},{"$f":"'Harmonogram produkcji '!Z69","v":0},{"$f":"'Harmonogram produkcji '!W69","v":0},{"$f":"'Harmonogram produkcji '!X69","v":0}]
[{"$f":"'Harmonogram produkcji '!B70","v":0},{"$f":"'Harmonogram produkcji '!C70","v":0},{"$f":"'Harmonogram produkcji '!D70","v":0},{"$f":"'Harmonogram produkcji '!E70","v":0},{"$f":"IF('Harmonogram produkcji '!G70=\"X\",\"z pierwszych 12 miesiecy okresu konwersji\",IF('Harmonogram produkcji '!H70=\"X\",\"W okresie konwersji 2 rok \",IF('Harmonogram produkcji '!I70=\"X\",\"W okresie konwersji 3 rok \",IF('Harmonogram produkcji '!J70=\"X\",\"Ekologiczny \"))))","v":false},{"$f":"'Harmonogram produkcji '!L70","v":0},{"$f":"'Harmonogram produkcji '!M70","v":0},null,{"$f":"'Harmonogram produkcji '!P70","v":0},{"$f":"'Harmonogram produkcji '!Q70","v":0},{"$f":"IF('Harmonogram produkcji '!R70=\"X\",\"ekologiczny \",IF('Harmonogram produkcji '!S70=\"X\",\"nieekologiczny\",IF('Harmonogram produkcji '!T70=\"X\",\"z własnego gospodarstwa\",IF('Harmonogram produkcji '!U70=\"X\",\"ND, uprawa zastana\"))))","v":false},{"$f":"'Harmonogram produkcji '!V70","v":"00:00:00"},{"$f":"'Harmonogram produkcji '!F70","v":"00:00:00"},null,null,null,{"$f":"'Harmonogram produkcji '!Y70","v":0},{"$f":"'Harmonogram produkcji '!Z70","v":0},{"$f":"'Harmonogram produkcji '!W70","v":0},{"$f":"'Harmonogram produkcji '!X70","v":0}]
[{"$f":"'Harmonogram produkcji '!B71","v":0},{"$f":"'Harmonogram produkcji '!C71","v":0},{"$f":"'Harmonogram produkcji '!D71","v":0},{"$f":"'Harmonogram produkcji '!E71","v":0},{"$f":"IF('Harmonogram produkcji '!G71=\"X\",\"z pierwszych 12 miesiecy okresu konwersji\",IF('Harmonogram produkcji '!H71=\"X\",\"W okresie konwersji 2 rok \",IF('Harmonogram produkcji '!I71=\"X\",\"W okresie konwersji 3 rok \",IF('Harmonogram produkcji '!J71=\"X\",\"Ekologiczny \"))))","v":false},{"$f":"'Harmonogram produkcji '!L71","v":0},{"$f":"'Harmonogram produkcji '!M71","v":0},null,{"$f":"'Harmonogram produkcji '!P71","v":0},{"$f":"'Harmonogram produkcji '!Q71","v":0},{"$f":"IF('Harmonogram produkcji '!R71=\"X\",\"ekologiczny \",IF('Harmonogram produkcji '!S71=\"X\",\"nieekologiczny\",IF('Harmonogram produkcji '!T71=\"X\",\"z własnego gospodarstwa\",IF('Harmonogram produkcji '!U71=\"X\",\"ND, uprawa zastana\"))))","v":false},{"$f":"'Harmonogram produkcji '!V71","v":"00:00:00"},{"$f":"'Harmonogram produkcji '!F71","v":"00:00:00"},null,null,null,{"$f":"'Harmonogram produkcji '!Y71","v":0},{"$f":"'Harmonogram produkcji '!Z71","v":0},{"$f":"'Harmonogram produkcji '!W71","v":0},{"$f":"'Harmonogram produkcji '!X71","v":0}]
[{"$f":"'Harmonogram produkcji '!B72","v":0},{"$f":"'Harmonogram produkcji '!C72","v":0},{"$f":"'Harmonogram produkcji '!D72","v":0},{"$f":"'Harmonogram produkcji '!E72","v":0},{"$f":"IF('Harmonogram produkcji '!G72=\"X\",\"z pierwszych 12 miesiecy okresu konwersji\",IF('Harmonogram produkcji '!H72=\"X\",\"W okresie konwersji 2 rok \",IF('Harmonogram produkcji '!I72=\"X\",\"W okresie konwersji 3 rok \",IF('Harmonogram produkcji '!J72=\"X\",\"Ekologiczny \"))))","v":false},{"$f":"'Harmonogram produkcji '!L72","v":0},{"$f":"'Harmonogram produkcji '!M72","v":0},null,{"$f":"'Harmonogram produkcji '!P72","v":0},{"$f":"'Harmonogram produkcji '!Q72","v":0},{"$f":"IF('Harmonogram produkcji '!R72=\"X\",\"ekologiczny \",IF('Harmonogram produkcji '!S72=\"X\",\"nieekologiczny\",IF('Harmonogram produkcji '!T72=\"X\",\"z własnego gospodarstwa\",IF('Harmonogram produkcji '!U72=\"X\",\"ND, uprawa zastana\"))))","v":false},{"$f":"'Harmonogram produkcji '!V72","v":"00:00:00"},{"$f":"'Harmonogram produkcji '!F72","v":"00:00:00"},null,null,null,{"$f":"'Harmonogram produkcji '!Y72","v":0},{"$f":"'Harmonogram produkcji '!Z72","v":0},{"$f":"'Harmonogram produkcji '!W72","v":0},{"$f":"'Harmonogram produkcji '!X72","v":0}]
[{"$f":"'Harmonogram produkcji '!B73","v":0},{"$f":"'Harmonogram produkcji '!C73","v":0},{"$f":"'Harmonogram produkcji '!D73","v":0},{"$f":"'Harmonogram produkcji '!E73","v":0},{"$f":"IF('Harmonogram produkcji '!G73=\"X\",\"z pierwszych 12 miesiecy okresu konwersji\",IF('Harmonogram produkcji '!H73=\"X\",\"W okresie konwersji 2 rok \",IF('Harmonogram produkcji '!I73=\"X\",\"W okresie konwersji 3 rok \",IF('Harmonogram produkcji '!J73=\"X\",\"Ekologiczny \"))))","v":false},{"$f":"'Harmonogram produkcji '!L73","v":0},{"$f":"'Harmonogram produkcji '!M73","v":0},null,{"$f":"'Harmonogram produkcji '!P73","v":0},{"$f":"'Harmonogram produkcji '!Q73","v":0},{"$f":"IF('Harmonogram produkcji '!R73=\"X\",\"ekologiczny \",IF('Harmonogram produkcji '!S73=\"X\",\"nieekologiczny\",IF('Harmonogram produkcji '!T73=\"X\",\"z własnego gospodarstwa\",IF('Harmonogram produkcji '!U73=\"X\",\"ND, uprawa zastana\"))))","v":false},{"$f":"'Harmonogram produkcji '!V73","v":"00:00:00"},{"$f":"'Harmonogram produkcji '!F73","v":"00:00:00"},null,null,null,{"$f":"'Harmonogram produkcji '!Y73","v":0},{"$f":"'Harmonogram produkcji '!Z73","v":0},{"$f":"'Harmonogram produkcji '!W73","v":0},{"$f":"'Harmonogram produkcji '!X73","v":0}]
[{"$f":"'Harmonogram produkcji '!B74","v":0},{"$f":"'Harmonogram produkcji '!C74","v":0},{"$f":"'Harmonogram produkcji '!D74","v":0},{"$f":"'Harmonogram produkcji '!E74","v":0},{"$f":"IF('Harmonogram produkcji '!G74=\"X\",\"z pierwszych 12 miesiecy okresu konwersji\",IF('Harmonogram produkcji '!H74=\"X\",\"W okresie konwersji 2 rok \",IF('Harmonogram produkcji '!I74=\"X\",\"W okresie konwersji 3 rok \",IF('Harmonogram produkcji '!J74=\"X\",\"Ekologiczny \"))))","v":false},{"$f":"'Harmonogram produkcji '!L74","v":0},{"$f":"'Harmonogram produkcji '!M74","v":0},null,{"$f":"'Harmonogram produkcji '!P74","v":0},{"$f":"'Harmonogram produkcji '!Q74","v":0},{"$f":"IF('Harmonogram produkcji '!R74=\"X\",\"ekologiczny \",IF('Harmonogram produkcji '!S74=\"X\",\"nieekologiczny\",IF('Harmonogram produkcji '!T74=\"X\",\"z własnego gospodarstwa\",IF('Harmonogram produkcji '!U74=\"X\",\"ND, uprawa zastana\"))))","v":false},{"$f":"'Harmonogram produkcji '!V74","v":"00:00:00"},{"$f":"'Harmonogram produkcji '!F74","v":"00:00:00"},null,null,null,{"$f":"'Harmonogram produkcji '!Y74","v":0},{"$f":"'Harmonogram produkcji '!Z74","v":0},{"$f":"'Harmonogram produkcji '!W74","v":0},{"$f":"'Harmonogram produkcji '!X74","v":0}]
[{"$f":"'Harmonogram produkcji '!B75","v":0},{"$f":"'Harmonogram produkcji '!C75","v":0},{"$f":"'Harmonogram produkcji '!D75","v":0},{"$f":"'Harmonogram produkcji '!E75","v":0},{"$f":"IF('Harmonogram produkcji '!G75=\"X\",\"z pierwszych 12 miesiecy okresu konwersji\",IF('Harmonogram produkcji '!H75=\"X\",\"W okresie konwersji 2 rok \",IF('Harmonogram produkcji '!I75=\"X\",\"W okresie konwersji 3 rok \",IF('Harmonogram produkcji '!J75=\"X\",\"Ekologiczny \"))))","v":false},{"$f":"'Harmonogram produkcji '!L75","v":0},{"$f":"'Harmonogram produkcji '!M75","v":0},null,{"$f":"'Harmonogram produkcji '!P75","v":0},{"$f":"'Harmonogram produkcji '!Q75","v":0},{"$f":"IF('Harmonogram produkcji '!R75=\"X\",\"ekologiczny \",IF('Harmonogram produkcji '!S75=\"X\",\"nieekologiczny\",IF('Harmonogram produkcji '!T75=\"X\",\"z własnego gospodarstwa\",IF('Harmonogram produkcji '!U75=\"X\",\"ND, uprawa zastana\"))))","v":false},{"$f":"'Harmonogram produkcji '!V75","v":"00:00:00"},{"$f":"'Harmonogram produkcji '!F75","v":"00:00:00"},null,null,null,{"$f":"'Harmonogram produkcji '!Y75","v":0},{"$f":"'Harmonogram produkcji '!Z75","v":0},{"$f":"'Harmonogram produkcji '!W75","v":0},{"$f":"'Harmonogram produkcji '!X75","v":0}]
[{"$f":"'Harmonogram produkcji '!B76","v":0},{"$f":"'Harmonogram produkcji '!C76","v":0},{"$f":"'Harmonogram produkcji '!D76","v":0},{"$f":"'Harmonogram produkcji '!E76","v":0},{"$f":"IF('Harmonogram produkcji '!G76=\"X\",\"z pierwszych 12 miesiecy okresu konwersji\",IF('Harmonogram produkcji '!H76=\"X\",\"W okresie konwersji 2 rok \",IF('Harmonogram produkcji '!I76=\"X\",\"W okresie konwersji 3 rok \",IF('Harmonogram produkcji '!J76=\"X\",\"Ekologiczny \"))))","v":false},{"$f":"'Harmonogram produkcji '!L76","v":0},{"$f":"'Harmonogram produkcji '!M76","v":0},null,{"$f":"'Harmonogram produkcji '!P76","v":0},{"$f":"'Harmonogram produkcji '!Q76","v":0},{"$f":"IF('Harmonogram produkcji '!R76=\"X\",\"ekologiczny \",IF('Harmonogram produkcji '!S76=\"X\",\"nieekologiczny\",IF('Harmonogram produkcji '!T76=\"X\",\"z własnego gospodarstwa\",IF('Harmonogram produkcji '!U76=\"X\",\"ND, uprawa zastana\"))))","v":false},{"$f":"'Harmonogram produkcji '!V76","v":"00:00:00"},{"$f":"'Harmonogram produkcji '!F76","v":"00:00:00"},null,null,null,{"$f":"'Harmonogram produkcji '!Y76","v":0},{"$f":"'Harmonogram produkcji '!Z76","v":0},{"$f":"'Harmonogram produkcji '!W76","v":0},{"$f":"'Harmonogram produkcji '!X76","v":0}]
[{"$f":"'Harmonogram produkcji '!B77","v":0},{"$f":"'Harmonogram produkcji '!C77","v":0},{"$f":"'Harmonogram produkcji '!D77","v":0},{"$f":"'Harmonogram produkcji '!E77","v":0},{"$f":"IF('Harmonogram produkcji '!G77=\"X\",\"z pierwszych 12 miesiecy okresu konwersji\",IF('Harmonogram produkcji '!H77=\"X\",\"W okresie konwersji 2 rok \",IF('Harmonogram produkcji '!I77=\"X\",\"W okresie konwersji 3 rok \",IF('Harmonogram produkcji '!J77=\"X\",\"Ekologiczny \"))))","v":false},{"$f":"'Harmonogram produkcji '!L77","v":0},{"$f":"'Harmonogram produkcji '!M77","v":0},null,{"$f":"'Harmonogram produkcji '!P77","v":0},{"$f":"'Harmonogram produkcji '!Q77","v":0},{"$f":"IF('Harmonogram produkcji '!R77=\"X\",\"ekologiczny \",IF('Harmonogram produkcji '!S77=\"X\",\"nieekologiczny\",IF('Harmonogram produkcji '!T77=\"X\",\"z własnego gospodarstwa\",IF('Harmonogram produkcji '!U77=\"X\",\"ND, uprawa zastana\"))))","v":false},{"$f":"'Harmonogram produkcji '!V77","v":"00:00:00"},{"$f":"'Harmonogram produkcji '!F77","v":"00:00:00"},null,null,null,{"$f":"'Harmonogram produkcji '!Y77","v":0},{"$f":"'Harmonogram produkcji '!Z77","v":0},{"$f":"'Harmonogram produkcji '!W77","v":0},{"$f":"'Harmonogram produkcji '!X77","v":0}]
[{"$f":"'Harmonogram produkcji '!B78","v":0},{"$f":"'Harmonogram produkcji '!C78","v":0},{"$f":"'Harmonogram produkcji '!D78","v":0},{"$f":"'Harmonogram produkcji '!E78","v":0},{"$f":"IF('Harmonogram produkcji '!G78=\"X\",\"z pierwszych 12 miesiecy okresu konwersji\",IF('Harmonogram produkcji '!H78=\"X\",\"W okresie konwersji 2 rok \",IF('Harmonogram produkcji '!I78=\"X\",\"W okresie konwersji 3 rok \",IF('Harmonogram produkcji '!J78=\"X\",\"Ekologiczny \"))))","v":false},{"$f":"'Harmonogram produkcji '!L78","v":0},{"$f":"'Harmonogram produkcji '!M78","v":0},null,{"$f":"'Harmonogram produkcji '!P78","v":0},{"$f":"'Harmonogram produkcji '!Q78","v":0},{"$f":"IF('Harmonogram produkcji '!R78=\"X\",\"ekologiczny \",IF('Harmonogram produkcji '!S78=\"X\",\"nieekologiczny\",IF('Harmonogram produkcji '!T78=\"X\",\"z własnego gospodarstwa\",IF('Harmonogram produkcji '!U78=\"X\",\"ND, uprawa zastana\"))))","v":false},{"$f":"'Harmonogram produkcji '!V78","v":"00:00:00"},{"$f":"'Harmonogram produkcji '!F78","v":"00:00:00"},null,null,null,{"$f":"'Harmonogram produkcji '!Y78","v":0},{"$f":"'Harmonogram produkcji '!Z78","v":0},{"$f":"'Harmonogram produkcji '!W78","v":0},{"$f":"'Harmonogram produkcji '!X78","v":0}]
[{"$f":"'Harmonogram produkcji '!B79","v":0},{"$f":"'Harmonogram produkcji '!C79","v":0},{"$f":"'Harmonogram produkcji '!D79","v":0},{"$f":"'Harmonogram produkcji '!E79","v":0},{"$f":"IF('Harmonogram produkcji '!G79=\"X\",\"z pierwszych 12 miesiecy okresu konwersji\",IF('Harmonogram produkcji '!H79=\"X\",\"W okresie konwersji 2 rok \",IF('Harmonogram produkcji '!I79=\"X\",\"W okresie konwersji 3 rok \",IF('Harmonogram produkcji '!J79=\"X\",\"Ekologiczny \"))))","v":false},{"$f":"'Harmonogram produkcji '!L79","v":0},{"$f":"'Harmonogram produkcji '!M79","v":0},null,{"$f":"'Harmonogram produkcji '!P79","v":0},{"$f":"'Harmonogram produkcji '!Q79","v":0},{"$f":"IF('Harmonogram produkcji '!R79=\"X\",\"ekologiczny \",IF('Harmonogram produkcji '!S79=\"X\",\"nieekologiczny\",IF('Harmonogram produkcji '!T79=\"X\",\"z własnego gospodarstwa\",IF('Harmonogram produkcji '!U79=\"X\",\"ND, uprawa zastana\"))))","v":false},{"$f":"'Harmonogram produkcji '!V79","v":"00:00:00"},{"$f":"'Harmonogram produkcji '!F79","v":"00:00:00"},null,null,null,{"$f":"'Harmonogram produkcji '!Y79","v":0},{"$f":"'Harmonogram produkcji '!Z79","v":0},{"$f":"'Harmonogram produkcji '!W79","v":0},{"$f":"'Harmonogram produkcji '!X79","v":0}]
[{"$f":"'Harmonogram produkcji '!B80","v":0},{"$f":"'Harmonogram produkcji '!C80","v":0},{"$f":"'Harmonogram produkcji '!D80","v":0},{"$f":"'Harmonogram produkcji '!E80","v":0},{"$f":"IF('Harmonogram produkcji '!G80=\"X\",\"z pierwszych 12 miesiecy okresu konwersji\",IF('Harmonogram produkcji '!H80=\"X\",\"W okresie konwersji 2 rok \",IF('Harmonogram produkcji '!I80=\"X\",\"W okresie konwersji 3 rok \",IF('Harmonogram produkcji '!J80=\"X\",\"Ekologiczny \"))))","v":false},{"$f":"'Harmonogram produkcji '!L80","v":0},{"$f":"'Harmonogram produkcji '!M80","v":0},null,{"$f":"'Harmonogram produkcji '!P80","v":0},{"$f":"'Harmonogram produkcji '!Q80","v":0},{"$f":"IF('Harmonogram produkcji '!R80=\"X\",\"ekologiczny \",IF('Harmonogram produkcji '!S80=\"X\",\"nieekologiczny\",IF('Harmonogram produkcji '!T80=\"X\",\"z własnego gospodarstwa\",IF('Harmonogram produkcji '!U80=\"X\",\"ND, uprawa zastana\"))))","v":false},{"$f":"'Harmonogram produkcji '!V80","v":"00:00:00"},{"$f":"'Harmonogram produkcji '!F80","v":"00:00:00"},null,null,null,{"$f":"'Harmonogram produkcji '!Y80","v":0},{"$f":"'Harmonogram produkcji '!Z80","v":0},{"$f":"'Harmonogram produkcji '!W80","v":0},{"$f":"'Harmonogram produkcji '!X80","v":0}]
[{"$f":"'Harmonogram produkcji '!B81","v":0},{"$f":"'Harmonogram produkcji '!C81","v":0},{"$f":"'Harmonogram produkcji '!D81","v":0},{"$f":"'Harmonogram produkcji '!E81","v":0},{"$f":"IF('Harmonogram produkcji '!G81=\"X\",\"z pierwszych 12 miesiecy okresu konwersji\",IF('Harmonogram produkcji '!H81=\"X\",\"W okresie konwersji 2 rok \",IF('Harmonogram produkcji '!I81=\"X\",\"W okresie konwersji 3 rok \",IF('Harmonogram produkcji '!J81=\"X\",\"Ekologiczny \"))))","v":false},{"$f":"'Harmonogram produkcji '!L81","v":0},{"$f":"'Harmonogram produkcji '!M81","v":0},null,{"$f":"'Harmonogram produkcji '!P81","v":0},{"$f":"'Harmonogram produkcji '!Q81","v":0},{"$f":"IF('Harmonogram produkcji '!R81=\"X\",\"ekologiczny \",IF('Harmonogram produkcji '!S81=\"X\",\"nieekologiczny\",IF('Harmonogram produkcji '!T81=\"X\",\"z własnego gospodarstwa\",IF('Harmonogram produkcji '!U81=\"X\",\"ND, uprawa zastana\"))))","v":false},{"$f":"'Harmonogram produkcji '!V81","v":"00:00:00"},{"$f":"'Harmonogram produkcji '!F81","v":"00:00:00"},null,null,null,{"$f":"'Harmonogram produkcji '!Y81","v":0},{"$f":"'Harmonogram produkcji '!Z81","v":0},{"$f":"'Harmonogram produkcji '!W81","v":0},{"$f":"'Harmonogram produkcji '!X81","v":0}]
[{"$f":"'Harmonogram produkcji '!B82","v":0},{"$f":"'Harmonogram produkcji '!C82","v":0},{"$f":"'Harmonogram produkcji '!D82","v":0},{"$f":"'Harmonogram produkcji '!E82","v":0},{"$f":"IF('Harmonogram produkcji '!G82=\"X\",\"z pierwszych 12 miesiecy okresu konwersji\",IF('Harmonogram produkcji '!H82=\"X\",\"W okresie konwersji 2 rok \",IF('Harmonogram produkcji '!I82=\"X\",\"W okresie konwersji 3 rok \",IF('Harmonogram produkcji '!J82=\"X\",\"Ekologiczny \"))))","v":false},{"$f":"'Harmonogram produkcji '!L82","v":0},{"$f":"'Harmonogram produkcji '!M82","v":0},null,{"$f":"'Harmonogram produkcji '!P82","v":0},{"$f":"'Harmonogram produkcji '!Q82","v":0},{"$f":"IF('Harmonogram produkcji '!R82=\"X\",\"ekologiczny \",IF('Harmonogram produkcji '!S82=\"X\",\"nieekologiczny\",IF('Harmonogram produkcji '!T82=\"X\",\"z własnego gospodarstwa\",IF('Harmonogram produkcji '!U82=\"X\",\"ND, uprawa zastana\"))))","v":false},{"$f":"'Harmonogram produkcji '!V82","v":"00:00:00"},{"$f":"'Harmonogram produkcji '!F82","v":"00:00:00"},null,null,null,{"$f":"'Harmonogram produkcji '!Y82","v":0},{"$f":"'Harmonogram produkcji '!Z82","v":0},{"$f":"'Harmonogram produkcji '!W82","v":0},{"$f":"'Harmonogram produkcji '!X82","v":0}]
[{"$f":"'Harmonogram produkcji '!B83","v":0},{"$f":"'Harmonogram produkcji '!C83","v":0},{"$f":"'Harmonogram produkcji '!D83","v":0},{"$f":"'Harmonogram produkcji '!E83","v":0},{"$f":"IF('Harmonogram produkcji '!G83=\"X\",\"z pierwszych 12 miesiecy okresu konwersji\",IF('Harmonogram produkcji '!H83=\"X\",\"W okresie konwersji 2 rok \",IF('Harmonogram produkcji '!I83=\"X\",\"W okresie konwersji 3 rok \",IF('Harmonogram produkcji '!J83=\"X\",\"Ekologiczny \"))))","v":false},{"$f":"'Harmonogram produkcji '!L83","v":0},{"$f":"'Harmonogram produkcji '!M83","v":0},null,{"$f":"'Harmonogram produkcji '!P83","v":0},{"$f":"'Harmonogram produkcji '!Q83","v":0},{"$f":"IF('Harmonogram produkcji '!R83=\"X\",\"ekologiczny \",IF('Harmonogram produkcji '!S83=\"X\",\"nieekologiczny\",IF('Harmonogram produkcji '!T83=\"X\",\"z własnego gospodarstwa\",IF('Harmonogram produkcji '!U83=\"X\",\"ND, uprawa zastana\"))))","v":false},{"$f":"'Harmonogram produkcji '!V83","v":"00:00:00"},{"$f":"'Harmonogram produkcji '!F83","v":"00:00:00"},null,null,null,{"$f":"'Harmonogram produkcji '!Y83","v":0},{"$f":"'Harmonogram produkcji '!Z83","v":0},{"$f":"'Harmonogram produkcji '!W83","v":0},{"$f":"'Harmonogram produkcji '!X83","v":0}]
[{"$f":"'Harmonogram produkcji '!B84","v":0},{"$f":"'Harmonogram produkcji '!C84","v":0},{"$f":"'Harmonogram produkcji '!D84","v":0},{"$f":"'Harmonogram produkcji '!E84","v":0},{"$f":"IF('Harmonogram produkcji '!G84=\"X\",\"z pierwszych 12 miesiecy okresu konwersji\",IF('Harmonogram produkcji '!H84=\"X\",\"W okresie konwersji 2 rok \",IF('Harmonogram produkcji '!I84=\"X\",\"W okresie konwersji 3 rok \",IF('Harmonogram produkcji '!J84=\"X\",\"Ekologiczny \"))))","v":false},{"$f":"'Harmonogram produkcji '!L84","v":0},{"$f":"'Harmonogram produkcji '!M84","v":0},null,{"$f":"'Harmonogram produkcji '!P84","v":0},{"$f":"'Harmonogram produkcji '!Q84","v":0},{"$f":"IF('Harmonogram produkcji '!R84=\"X\",\"ekologiczny \",IF('Harmonogram produkcji '!S84=\"X\",\"nieekologiczny\",IF('Harmonogram produkcji '!T84=\"X\",\"z własnego gospodarstwa\",IF('Harmonogram produkcji '!U84=\"X\",\"ND, uprawa zastana\"))))","v":false},{"$f":"'Harmonogram produkcji '!V84","v":"00:00:00"},{"$f":"'Harmonogram produkcji '!F84","v":"00:00:00"},null,null,null,{"$f":"'Harmonogram produkcji '!Y84","v":0},{"$f":"'Harmonogram produkcji '!Z84","v":0},{"$f":"'Harmonogram produkcji '!W84","v":0},{"$f":"'Harmonogram produkcji '!X84","v":0}]
[{"$f":"'Harmonogram produkcji '!B85","v":0},{"$f":"'Harmonogram produkcji '!C85","v":0},{"$f":"'Harmonogram produkcji '!D85","v":0},{"$f":"'Harmonogram produkcji '!E85","v":0},{"$f":"IF('Harmonogram produkcji '!G85=\"X\",\"z pierwszych 12 miesiecy okresu konwersji\",IF('Harmonogram produkcji '!H85=\"X\",\"W okresie konwersji 2 rok \",IF('Harmonogram produkcji '!I85=\"X\",\"W okresie konwersji 3 rok \",IF('Harmonogram produkcji '!J85=\"X\",\"Ekologiczny \"))))","v":false},{"$f":"'Harmonogram produkcji '!L85","v":0},{"$f":"'Harmonogram produkcji '!M85","v":0},null,{"$f":"'Harmonogram produkcji '!P85","v":0},{"$f":"'Harmonogram produkcji '!Q85","v":0},{"$f":"IF('Harmonogram produkcji '!R85=\"X\",\"ekologiczny \",IF('Harmonogram produkcji '!S85=\"X\",\"nieekologiczny\",IF('Harmonogram produkcji '!T85=\"X\",\"z własnego gospodarstwa\",IF('Harmonogram produkcji '!U85=\"X\",\"ND, uprawa zastana\"))))","v":false},{"$f":"'Harmonogram produkcji '!V85","v":"00:00:00"},{"$f":"'Harmonogram produkcji '!F85","v":"00:00:00"},null,null,null,{"$f":"'Harmonogram produkcji '!Y85","v":0},{"$f":"'Harmonogram produkcji '!Z85","v":0},{"$f":"'Harmonogram produkcji '!W85","v":0},{"$f":"'Harmonogram produkcji '!X85","v":0}]
[{"$f":"'Harmonogram produkcji '!B86","v":0},{"$f":"'Harmonogram produkcji '!C86","v":0},{"$f":"'Harmonogram produkcji '!D86","v":0},{"$f":"'Harmonogram produkcji '!E86","v":0},{"$f":"IF('Harmonogram produkcji '!G86=\"X\",\"z pierwszych 12 miesiecy okresu konwersji\",IF('Harmonogram produkcji '!H86=\"X\",\"W okresie konwersji 2 rok \",IF('Harmonogram produkcji '!I86=\"X\",\"W okresie konwersji 3 rok \",IF('Harmonogram produkcji '!J86=\"X\",\"Ekologiczny \"))))","v":false},{"$f":"'Harmonogram produkcji '!L86","v":0},{"$f":"'Harmonogram produkcji '!M86","v":0},null,{"$f":"'Harmonogram produkcji '!P86","v":0},{"$f":"'Harmonogram produkcji '!Q86","v":0},{"$f":"IF('Harmonogram produkcji '!R86=\"X\",\"ekologiczny \",IF('Harmonogram produkcji '!S86=\"X\",\"nieekologiczny\",IF('Harmonogram produkcji '!T86=\"X\",\"z własnego gospodarstwa\",IF('Harmonogram produkcji '!U86=\"X\",\"ND, uprawa zastana\"))))","v":false},{"$f":"'Harmonogram produkcji '!V86","v":"00:00:00"},{"$f":"'Harmonogram produkcji '!F86","v":"00:00:00"},null,null,null,{"$f":"'Harmonogram produkcji '!Y86","v":0},{"$f":"'Harmonogram produkcji '!Z86","v":0},{"$f":"'Harmonogram produkcji '!W86","v":0},{"$f":"'Harmonogram produkcji '!X86","v":0}]
[{"$f":"'Harmonogram produkcji '!B87","v":0},{"$f":"'Harmonogram produkcji '!C87","v":0},{"$f":"'Harmonogram produkcji '!D87","v":0},{"$f":"'Harmonogram produkcji '!E87","v":0},{"$f":"IF('Harmonogram produkcji '!G87=\"X\",\"z pierwszych 12 miesiecy okresu konwersji\",IF('Harmonogram produkcji '!H87=\"X\",\"W okresie konwersji 2 rok \",IF('Harmonogram produkcji '!I87=\"X\",\"W okresie konwersji 3 rok \",IF('Harmonogram produkcji '!J87=\"X\",\"Ekologiczny \"))))","v":false},{"$f":"'Harmonogram produkcji '!L87","v":0},{"$f":"'Harmonogram produkcji '!M87","v":0},null,{"$f":"'Harmonogram produkcji '!P87","v":0},{"$f":"'Harmonogram produkcji '!Q87","v":0},{"$f":"IF('Harmonogram produkcji '!R87=\"X\",\"ekologiczny \",IF('Harmonogram produkcji '!S87=\"X\",\"nieekologiczny\",IF('Harmonogram produkcji '!T87=\"X\",\"z własnego gospodarstwa\",IF('Harmonogram produkcji '!U87=\"X\",\"ND, uprawa zastana\"))))","v":false},{"$f":"'Harmonogram produkcji '!V87","v":"00:00:00"},{"$f":"'Harmonogram produkcji '!F87","v":"00:00:00"},null,null,null,{"$f":"'Harmonogram produkcji '!Y87","v":0},{"$f":"'Harmonogram produkcji '!Z87","v":0},{"$f":"'Harmonogram produkcji '!W87","v":0},{"$f":"'Harmonogram produkcji '!X87","v":0}]
[{"$f":"'Harmonogram produkcji '!B88","v":0},{"$f":"'Harmonogram produkcji '!C88","v":0},{"$f":"'Harmonogram produkcji '!D88","v":0},{"$f":"'Harmonogram produkcji '!E88","v":0},{"$f":"IF('Harmonogram produkcji '!G88=\"X\",\"z pierwszych 12 miesiecy okresu konwersji\",IF('Harmonogram produkcji '!H88=\"X\",\"W okresie konwersji 2 rok \",IF('Harmonogram produkcji '!I88=\"X\",\"W okresie konwersji 3 rok \",IF('Harmonogram produkcji '!J88=\"X\",\"Ekologiczny \"))))","v":false},{"$f":"'Harmonogram produkcji '!L88","v":0},{"$f":"'Harmonogram produkcji '!M88","v":0},null,{"$f":"'Harmonogram produkcji '!P88","v":0},{"$f":"'Harmonogram produkcji '!Q88","v":0},{"$f":"IF('Harmonogram produkcji '!R88=\"X\",\"ekologiczny \",IF('Harmonogram produkcji '!S88=\"X\",\"nieekologiczny\",IF('Harmonogram produkcji '!T88=\"X\",\"z własnego gospodarstwa\",IF('Harmonogram produkcji '!U88=\"X\",\"ND, uprawa zastana\"))))","v":false},{"$f":"'Harmonogram produkcji '!V88","v":"00:00:00"},{"$f":"'Harmonogram produkcji '!F88","v":"00:00:00"},null,null,null,{"$f":"'Harmonogram produkcji '!Y88","v":0},{"$f":"'Harmonogram produkcji '!Z88","v":0},{"$f":"'Harmonogram produkcji '!W88","v":0},{"$f":"'Harmonogram produkcji '!X88","v":0}]
[{"$f":"'Harmonogram produkcji '!B89","v":0},{"$f":"'Harmonogram produkcji '!C89","v":0},{"$f":"'Harmonogram produkcji '!D89","v":0},{"$f":"'Harmonogram produkcji '!E89","v":0},{"$f":"IF('Harmonogram produkcji '!G89=\"X\",\"z pierwszych 12 miesiecy okresu konwersji\",IF('Harmonogram produkcji '!H89=\"X\",\"W okresie konwersji 2 rok \",IF('Harmonogram produkcji '!I89=\"X\",\"W okresie konwersji 3 rok \",IF('Harmonogram produkcji '!J89=\"X\",\"Ekologiczny \"))))","v":false},{"$f":"'Harmonogram produkcji '!L89","v":0},{"$f":"'Harmonogram produkcji '!M89","v":0},null,{"$f":"'Harmonogram produkcji '!P89","v":0},{"$f":"'Harmonogram produkcji '!Q89","v":0},{"$f":"IF('Harmonogram produkcji '!R89=\"X\",\"ekologiczny \",IF('Harmonogram produkcji '!S89=\"X\",\"nieekologiczny\",IF('Harmonogram produkcji '!T89=\"X\",\"z własnego gospodarstwa\",IF('Harmonogram produkcji '!U89=\"X\",\"ND, uprawa zastana\"))))","v":false},{"$f":"'Harmonogram produkcji '!V89","v":"00:00:00"},{"$f":"'Harmonogram produkcji '!F89","v":"00:00:00"},null,null,null,{"$f":"'Harmonogram produkcji '!Y89","v":0},{"$f":"'Harmonogram produkcji '!Z89","v":0},{"$f":"'Harmonogram produkcji '!W89","v":0},{"$f":"'Harmonogram produkcji '!X89","v":0}]
[{"$f":"'Harmonogram produkcji '!B90","v":0},{"$f":"'Harmonogram produkcji '!C90","v":0},{"$f":"'Harmonogram produkcji '!D90","v":0},{"$f":"'Harmonogram produkcji '!E90","v":0},{"$f":"IF('Harmonogram produkcji '!G90=\"X\",\"z pierwszych 12 miesiecy okresu konwersji\",IF('Harmonogram produkcji '!H90=\"X\",\"W okresie konwersji 2 rok \",IF('Harmonogram produkcji '!I90=\"X\",\"W okresie konwersji 3 rok \",IF('Harmonogram produkcji '!J90=\"X\",\"Ekologiczny \"))))","v":false},{"$f":"'Harmonogram produkcji '!L90","v":0},{"$f":"'Harmonogram produkcji '!M90","v":0},null,{"$f":"'Harmonogram produkcji '!P90","v":0},{"$f":"'Harmonogram produkcji '!Q90","v":0},{"$f":"IF('Harmonogram produkcji '!R90=\"X\",\"ekologiczny \",IF('Harmonogram produkcji '!S90=\"X\",\"nieekologiczny\",IF('Harmonogram produkcji '!T90=\"X\",\"z własnego gospodarstwa\",IF('Harmonogram produkcji '!U90=\"X\",\"ND, uprawa zastana\"))))","v":false},{"$f":"'Harmonogram produkcji '!V90","v":"00:00:00"},{"$f":"'Harmonogram produkcji '!F90","v":"00:00:00"},null,null,null,{"$f":"'Harmonogram produkcji '!Y90","v":0},{"$f":"'Harmonogram produkcji '!Z90","v":0},{"$f":"'Harmonogram produkcji '!W90","v":0},{"$f":"'Harmonogram produkcji '!X90","v":0}]
[{"$f":"'Harmonogram produkcji '!B91","v":0},{"$f":"'Harmonogram produkcji '!C91","v":0},{"$f":"'Harmonogram produkcji '!D91","v":0},{"$f":"'Harmonogram produkcji '!E91","v":0},{"$f":"IF('Harmonogram produkcji '!G91=\"X\",\"z pierwszych 12 miesiecy okresu konwersji\",IF('Harmonogram produkcji '!H91=\"X\",\"W okresie konwersji 2 rok \",IF('Harmonogram produkcji '!I91=\"X\",\"W okresie konwersji 3 rok \",IF('Harmonogram produkcji '!J91=\"X\",\"Ekologiczny \"))))","v":false},{"$f":"'Harmonogram produkcji '!L91","v":0},{"$f":"'Harmonogram produkcji '!M91","v":0},null,{"$f":"'Harmonogram produkcji '!P91","v":0},{"$f":"'Harmonogram produkcji '!Q91","v":0},{"$f":"IF('Harmonogram produkcji '!R91=\"X\",\"ekologiczny \",IF('Harmonogram produkcji '!S91=\"X\",\"nieekologiczny\",IF('Harmonogram produkcji '!T91=\"X\",\"z własnego gospodarstwa\",IF('Harmonogram produkcji '!U91=\"X\",\"ND, uprawa zastana\"))))","v":false},{"$f":"'Harmonogram produkcji '!V91","v":"00:00:00"},{"$f":"'Harmonogram produkcji '!F91","v":"00:00:00"},null,null,null,{"$f":"'Harmonogram produkcji '!Y91","v":0},{"$f":"'Harmonogram produkcji '!Z91","v":0},{"$f":"'Harmonogram produkcji '!W91","v":0},{"$f":"'Harmonogram produkcji '!X91","v":0}]
[{"$f":"'Harmonogram produkcji '!B92","v":0},{"$f":"'Harmonogram produkcji '!C92","v":0},{"$f":"'Harmonogram produkcji '!D92","v":0},{"$f":"'Harmonogram produkcji '!E92","v":0},{"$f":"IF('Harmonogram produkcji '!G92=\"X\",\"z pierwszych 12 miesiecy okresu konwersji\",IF('Harmonogram produkcji '!H92=\"X\",\"W okresie konwersji 2 rok \",IF('Harmonogram produkcji '!I92=\"X\",\"W okresie konwersji 3 rok \",IF('Harmonogram produkcji '!J92=\"X\",\"Ekologiczny \"))))","v":false},{"$f":"'Harmonogram produkcji '!L92","v":0},{"$f":"'Harmonogram produkcji '!M92","v":0},null,{"$f":"'Harmonogram produkcji '!P92","v":0},{"$f":"'Harmonogram produkcji '!Q92","v":0},{"$f":"IF('Harmonogram produkcji '!R92=\"X\",\"ekologiczny \",IF('Harmonogram produkcji '!S92=\"X\",\"nieekologiczny\",IF('Harmonogram produkcji '!T92=\"X\",\"z własnego gospodarstwa\",IF('Harmonogram produkcji '!U92=\"X\",\"ND, uprawa zastana\"))))","v":false},{"$f":"'Harmonogram produkcji '!V92","v":"00:00:00"},{"$f":"'Harmonogram produkcji '!F92","v":"00:00:00"},null,null,null,{"$f":"'Harmonogram produkcji '!Y92","v":0},{"$f":"'Harmonogram produkcji '!Z92","v":0},{"$f":"'Harmonogram produkcji '!W92","v":0},{"$f":"'Harmonogram produkcji '!X92","v":0}]
[{"$f":"'Harmonogram produkcji '!B93","v":0},{"$f":"'Harmonogram produkcji '!C93","v":0},{"$f":"'Harmonogram produkcji '!D93","v":0},{"$f":"'Harmonogram produkcji '!E93","v":0},{"$f":"IF('Harmonogram produkcji '!G93=\"X\",\"z pierwszych 12 miesiecy okresu konwersji\",IF('Harmonogram produkcji '!H93=\"X\",\"W okresie konwersji 2 rok \",IF('Harmonogram produkcji '!I93=\"X\",\"W okresie konwersji 3 rok \",IF('Harmonogram produkcji '!J93=\"X\",\"Ekologiczny \"))))","v":false},{"$f":"'Harmonogram produkcji '!L93","v":0},{"$f":"'Harmonogram produkcji '!M93","v":0},null,{"$f":"'Harmonogram produkcji '!P93","v":0},{"$f":"'Harmonogram produkcji '!Q93","v":0},{"$f":"IF('Harmonogram produkcji '!R93=\"X\",\"ekologiczny \",IF('Harmonogram produkcji '!S93=\"X\",\"nieekologiczny\",IF('Harmonogram produkcji '!T93=\"X\",\"z własnego gospodarstwa\",IF('Harmonogram produkcji '!U93=\"X\",\"ND, uprawa zastana\"))))","v":false},{"$f":"'Harmonogram produkcji '!V93","v":"00:00:00"},{"$f":"'Harmonogram produkcji '!F93","v":"00:00:00"},null,null,null,{"$f":"'Harmonogram produkcji '!Y93","v":0},{"$f":"'Harmonogram produkcji '!Z93","v":0},{"$f":"'Harmonogram produkcji '!W93","v":0},{"$f":"'Harmonogram produkcji '!X93","v":0}]
[{"$f":"'Harmonogram produkcji '!B94","v":0},{"$f":"'Harmonogram produkcji '!C94","v":0},{"$f":"'Harmonogram produkcji '!D94","v":0},{"$f":"'Harmonogram produkcji '!E94","v":0},{"$f":"IF('Harmonogram produkcji '!G94=\"X\",\"z pierwszych 12 miesiecy okresu konwersji\",IF('Harmonogram produkcji '!H94=\"X\",\"W okresie konwersji 2 rok \",IF('Harmonogram produkcji '!I94=\"X\",\"W okresie konwersji 3 rok \",IF('Harmonogram produkcji '!J94=\"X\",\"Ekologiczny \"))))","v":false},{"$f":"'Harmonogram produkcji '!L94","v":0},{"$f":"'Harmonogram produkcji '!M94","v":0},null,{"$f":"'Harmonogram produkcji '!P94","v":0},{"$f":"'Harmonogram produkcji '!Q94","v":0},{"$f":"IF('Harmonogram produkcji '!R94=\"X\",\"ekologiczny \",IF('Harmonogram produkcji '!S94=\"X\",\"nieekologiczny\",IF('Harmonogram produkcji '!T94=\"X\",\"z własnego gospodarstwa\",IF('Harmonogram produkcji '!U94=\"X\",\"ND, uprawa zastana\"))))","v":false},{"$f":"'Harmonogram produkcji '!V94","v":"00:00:00"},{"$f":"'Harmonogram produkcji '!F94","v":"00:00:00"},null,null,null,{"$f":"'Harmonogram produkcji '!Y94","v":0},{"$f":"'Harmonogram produkcji '!Z94","v":0},{"$f":"'Harmonogram produkcji '!W94","v":0},{"$f":"'Harmonogram produkcji '!X94","v":0}]
[{"$f":"'Harmonogram produkcji '!B95","v":0},{"$f":"'Harmonogram produkcji '!C95","v":0},{"$f":"'Harmonogram produkcji '!D95","v":0},{"$f":"'Harmonogram produkcji '!E95","v":0},{"$f":"IF('Harmonogram produkcji '!G95=\"X\",\"z pierwszych 12 miesiecy okresu konwersji\",IF('Harmonogram produkcji '!H95=\"X\",\"W okresie konwersji 2 rok \",IF('Harmonogram produkcji '!I95=\"X\",\"W okresie konwersji 3 rok \",IF('Harmonogram produkcji '!J95=\"X\",\"Ekologiczny \"))))","v":false},{"$f":"'Harmonogram produkcji '!L95","v":0},{"$f":"'Harmonogram produkcji '!M95","v":0},null,{"$f":"'Harmonogram produkcji '!P95","v":0},{"$f":"'Harmonogram produkcji '!Q95","v":0},{"$f":"IF('Harmonogram produkcji '!R95=\"X\",\"ekologiczny \",IF('Harmonogram produkcji '!S95=\"X\",\"nieekologiczny\",IF('Harmonogram produkcji '!T95=\"X\",\"z własnego gospodarstwa\",IF('Harmonogram produkcji '!U95=\"X\",\"ND, uprawa zastana\"))))","v":false},{"$f":"'Harmonogram produkcji '!V95","v":"00:00:00"},{"$f":"'Harmonogram produkcji '!F95","v":"00:00:00"},null,null,null,{"$f":"'Harmonogram produkcji '!Y95","v":0},{"$f":"'Harmonogram produkcji '!Z95","v":0},{"$f":"'Harmonogram produkcji '!W95","v":0},{"$f":"'Harmonogram produkcji '!X95","v":0}]
[{"$f":"'Harmonogram produkcji '!B96","v":0},{"$f":"'Harmonogram produkcji '!C96","v":0},{"$f":"'Harmonogram produkcji '!D96","v":0},{"$f":"'Harmonogram produkcji '!E96","v":0},{"$f":"IF('Harmonogram produkcji '!G96=\"X\",\"z pierwszych 12 miesiecy okresu konwersji\",IF('Harmonogram produkcji '!H96=\"X\",\"W okresie konwersji 2 rok \",IF('Harmonogram produkcji '!I96=\"X\",\"W okresie konwersji 3 rok \",IF('Harmonogram produkcji '!J96=\"X\",\"Ekologiczny \"))))","v":false},{"$f":"'Harmonogram produkcji '!L96","v":0},{"$f":"'Harmonogram produkcji '!M96","v":0},null,{"$f":"'Harmonogram produkcji '!P96","v":0},{"$f":"'Harmonogram produkcji '!Q96","v":0},{"$f":"IF('Harmonogram produkcji '!R96=\"X\",\"ekologiczny \",IF('Harmonogram produkcji '!S96=\"X\",\"nieekologiczny\",IF('Harmonogram produkcji '!T96=\"X\",\"z własnego gospodarstwa\",IF('Harmonogram produkcji '!U96=\"X\",\"ND, uprawa zastana\"))))","v":false},{"$f":"'Harmonogram produkcji '!V96","v":"00:00:00"},{"$f":"'Harmonogram produkcji '!F96","v":"00:00:00"},null,null,null,{"$f":"'Harmonogram produkcji '!Y96","v":0},{"$f":"'Harmonogram produkcji '!Z96","v":0},{"$f":"'Harmonogram produkcji '!W96","v":0},{"$f":"'Harmonogram produkcji '!X96","v":0}]
[{"$f":"'Harmonogram produkcji '!B97","v":0},{"$f":"'Harmonogram produkcji '!C97","v":0},{"$f":"'Harmonogram produkcji '!D97","v":0},{"$f":"'Harmonogram produkcji '!E97","v":0},{"$f":"IF('Harmonogram produkcji '!G97=\"X\",\"z pierwszych 12 miesiecy okresu konwersji\",IF('Harmonogram produkcji '!H97=\"X\",\"W okresie konwersji 2 rok \",IF('Harmonogram produkcji '!I97=\"X\",\"W okresie konwersji 3 rok \",IF('Harmonogram produkcji '!J97=\"X\",\"Ekologiczny \"))))","v":false},{"$f":"'Harmonogram produkcji '!L97","v":0},{"$f":"'Harmonogram produkcji '!M97","v":0},null,{"$f":"'Harmonogram produkcji '!P97","v":0},{"$f":"'Harmonogram produkcji '!Q97","v":0},{"$f":"IF('Harmonogram produkcji '!R97=\"X\",\"ekologiczny \",IF('Harmonogram produkcji '!S97=\"X\",\"nieekologiczny\",IF('Harmonogram produkcji '!T97=\"X\",\"z własnego gospodarstwa\",IF('Harmonogram produkcji '!U97=\"X\",\"ND, uprawa zastana\"))))","v":false},{"$f":"'Harmonogram produkcji '!V97","v":"00:00:00"},{"$f":"'Harmonogram produkcji '!F97","v":"00:00:00"},null,null,null,{"$f":"'Harmonogram produkcji '!Y97","v":0},{"$f":"'Harmonogram produkcji '!Z97","v":0},{"$f":"'Harmonogram produkcji '!W97","v":0},{"$f":"'Harmonogram produkcji '!X97","v":0}]
[{"$f":"'Harmonogram produkcji '!B98","v":0},{"$f":"'Harmonogram produkcji '!C98","v":0},{"$f":"'Harmonogram produkcji '!D98","v":0},{"$f":"'Harmonogram produkcji '!E98","v":0},{"$f":"IF('Harmonogram produkcji '!G98=\"X\",\"z pierwszych 12 miesiecy okresu konwersji\",IF('Harmonogram produkcji '!H98=\"X\",\"W okresie konwersji 2 rok \",IF('Harmonogram produkcji '!I98=\"X\",\"W okresie konwersji 3 rok \",IF('Harmonogram produkcji '!J98=\"X\",\"Ekologiczny \"))))","v":false},{"$f":"'Harmonogram produkcji '!L98","v":0},{"$f":"'Harmonogram produkcji '!M98","v":0},null,{"$f":"'Harmonogram produkcji '!P98","v":0},{"$f":"'Harmonogram produkcji '!Q98","v":0},{"$f":"IF('Harmonogram produkcji '!R98=\"X\",\"ekologiczny \",IF('Harmonogram produkcji '!S98=\"X\",\"nieekologiczny\",IF('Harmonogram produkcji '!T98=\"X\",\"z własnego gospodarstwa\",IF('Harmonogram produkcji '!U98=\"X\",\"ND, uprawa zastana\"))))","v":false},{"$f":"'Harmonogram produkcji '!V98","v":"00:00:00"},{"$f":"'Harmonogram produkcji '!F98","v":"00:00:00"},null,null,null,{"$f":"'Harmonogram produkcji '!Y98","v":0},{"$f":"'Harmonogram produkcji '!Z98","v":0},{"$f":"'Harmonogram produkcji '!W98","v":0},{"$f":"'Harmonogram produkcji '!X98","v":0}]
[{"$f":"'Harmonogram produkcji '!B99","v":0},{"$f":"'Harmonogram produkcji '!C99","v":0},{"$f":"'Harmonogram produkcji '!D99","v":0},{"$f":"'Harmonogram produkcji '!E99","v":0},{"$f":"IF('Harmonogram produkcji '!G99=\"X\",\"z pierwszych 12 miesiecy okresu konwersji\",IF('Harmonogram produkcji '!H99=\"X\",\"W okresie konwersji 2 rok \",IF('Harmonogram produkcji '!I99=\"X\",\"W okresie konwersji 3 rok \",IF('Harmonogram produkcji '!J99=\"X\",\"Ekologiczny \"))))","v":false},{"$f":"'Harmonogram produkcji '!L99","v":0},{"$f":"'Harmonogram produkcji '!M99","v":0},null,{"$f":"'Harmonogram produkcji '!P99","v":0},{"$f":"'Harmonogram produkcji '!Q99","v":0},{"$f":"IF('Harmonogram produkcji '!R99=\"X\",\"ekologiczny \",IF('Harmonogram produkcji '!S99=\"X\",\"nieekologiczny\",IF('Harmonogram produkcji '!T99=\"X\",\"z własnego gospodarstwa\",IF('Harmonogram produkcji '!U99=\"X\",\"ND, uprawa zastana\"))))","v":false},{"$f":"'Harmonogram produkcji '!V99","v":"00:00:00"},{"$f":"'Harmonogram produkcji '!F99","v":"00:00:00"},null,null,null,{"$f":"'Harmonogram produkcji '!Y99","v":0},{"$f":"'Harmonogram produkcji '!Z99","v":0},{"$f":"'Harmonogram produkcji '!W99","v":0},{"$f":"'Harmonogram produkcji '!X99","v":0}]
[{"$f":"'Harmonogram produkcji '!B100","v":0},{"$f":"'Harmonogram produkcji '!C100","v":0},{"$f":"'Harmonogram produkcji '!D100","v":0},{"$f":"'Harmonogram produkcji '!E100","v":0},{"$f":"IF('Harmonogram produkcji '!G100=\"X\",\"z pierwszych 12 miesiecy okresu konwersji\",IF('Harmonogram produkcji '!H100=\"X\",\"W okresie konwersji 2 rok \",IF('Harmonogram produkcji '!I100=\"X\",\"W okresie konwersji 3 rok \",IF('Harmonogram produkcji '!J100=\"X\",\"Ekologiczny \"))))","v":false},{"$f":"'Harmonogram produkcji '!L100","v":0},{"$f":"'Harmonogram produkcji '!M100","v":0},null,{"$f":"'Harmonogram produkcji '!P100","v":0},{"$f":"'Harmonogram produkcji '!Q100","v":0},{"$f":"IF('Harmonogram produkcji '!R100=\"X\",\"ekologiczny \",IF('Harmonogram produkcji '!S100=\"X\",\"nieekologiczny\",IF('Harmonogram produkcji '!T100=\"X\",\"z własnego gospodarstwa\",IF('Harmonogram produkcji '!U100=\"X\",\"ND, uprawa zastana\"))))","v":false},{"$f":"'Harmonogram produkcji '!V100","v":"00:00:00"},{"$f":"'Harmonogram produkcji '!F100","v":"00:00:00"},null,null,null,{"$f":"'Harmonogram produkcji '!Y100","v":0},{"$f":"'Harmonogram produkcji '!Z100","v":0},{"$f":"'Harmonogram produkcji '!W100","v":0},{"$f":"'Harmonogram produkcji '!X100","v":0}]
[{"$f":"'Harmonogram produkcji '!B101","v":0},{"$f":"'Harmonogram produkcji '!C101","v":0},{"$f":"'Harmonogram produkcji '!D101","v":0},{"$f":"'Harmonogram produkcji '!E101","v":0},{"$f":"IF('Harmonogram produkcji '!G101=\"X\",\"z pierwszych 12 miesiecy okresu konwersji\",IF('Harmonogram produkcji '!H101=\"X\",\"W okresie konwersji 2 rok \",IF('Harmonogram produkcji '!I101=\"X\",\"W okresie konwersji 3 rok \",IF('Harmonogram produkcji '!J101=\"X\",\"Ekologiczny \"))))","v":false},{"$f":"'Harmonogram produkcji '!L101","v":0},{"$f":"'Harmonogram produkcji '!M101","v":0},null,{"$f":"'Harmonogram produkcji '!P101","v":0},{"$f":"'Harmonogram produkcji '!Q101","v":0},{"$f":"IF('Harmonogram produkcji '!R101=\"X\",\"ekologiczny \",IF('Harmonogram produkcji '!S101=\"X\",\"nieekologiczny\",IF('Harmonogram produkcji '!T101=\"X\",\"z własnego gospodarstwa\",IF('Harmonogram produkcji '!U101=\"X\",\"ND, uprawa zastana\"))))","v":false},{"$f":"'Harmonogram produkcji '!V101","v":"00:00:00"},{"$f":"'Harmonogram produkcji '!F101","v":"00:00:00"},null,null,null,{"$f":"'Harmonogram produkcji '!Y101","v":0},{"$f":"'Harmonogram produkcji '!Z101","v":0},{"$f":"'Harmonogram produkcji '!W101","v":0},{"$f":"'Harmonogram produkcji '!X101","v":0}]
[{"$f":"'Harmonogram produkcji '!B102","v":0},{"$f":"'Harmonogram produkcji '!C102","v":0},{"$f":"'Harmonogram produkcji '!D102","v":0},{"$f":"'Harmonogram produkcji '!E102","v":0},{"$f":"IF('Harmonogram produkcji '!G102=\"X\",\"z pierwszych 12 miesiecy okresu konwersji\",IF('Harmonogram produkcji '!H102=\"X\",\"W okresie konwersji 2 rok \",IF('Harmonogram produkcji '!I102=\"X\",\"W okresie konwersji 3 rok \",IF('Harmonogram produkcji '!J102=\"X\",\"Ekologiczny \"))))","v":false},{"$f":"'Harmonogram produkcji '!L102","v":0},{"$f":"'Harmonogram produkcji '!M102","v":0},null,{"$f":"'Harmonogram produkcji '!P102","v":0},{"$f":"'Harmonogram produkcji '!Q102","v":0},{"$f":"IF('Harmonogram produkcji '!R102=\"X\",\"ekologiczny \",IF('Harmonogram produkcji '!S102=\"X\",\"nieekologiczny\",IF('Harmonogram produkcji '!T102=\"X\",\"z własnego gospodarstwa\",IF('Harmonogram produkcji '!U102=\"X\",\"ND, uprawa zastana\"))))","v":false},{"$f":"'Harmonogram produkcji '!V102","v":"00:00:00"},{"$f":"'Harmonogram produkcji '!F102","v":"00:00:00"},null,null,null,{"$f":"'Harmonogram produkcji '!Y102","v":0},{"$f":"'Harmonogram produkcji '!Z102","v":0},{"$f":"'Harmonogram produkcji '!W102","v":0},{"$f":"'Harmonogram produkcji '!X102","v":0}]
[{"$f":"'Harmonogram produkcji '!B103","v":0},{"$f":"'Harmonogram produkcji '!C103","v":0},{"$f":"'Harmonogram produkcji '!D103","v":0},{"$f":"'Harmonogram produkcji '!E103","v":0},{"$f":"IF('Harmonogram produkcji '!G103=\"X\",\"z pierwszych 12 miesiecy okresu konwersji\",IF('Harmonogram produkcji '!H103=\"X\",\"W okresie konwersji 2 rok \",IF('Harmonogram produkcji '!I103=\"X\",\"W okresie konwersji 3 rok \",IF('Harmonogram produkcji '!J103=\"X\",\"Ekologiczny \"))))","v":false},{"$f":"'Harmonogram produkcji '!L103","v":0},{"$f":"'Harmonogram produkcji '!M103","v":0},null,{"$f":"'Harmonogram produkcji '!P103","v":0},{"$f":"'Harmonogram produkcji '!Q103","v":0},{"$f":"IF('Harmonogram produkcji '!R103=\"X\",\"ekologiczny \",IF('Harmonogram produkcji '!S103=\"X\",\"nieekologiczny\",IF('Harmonogram produkcji '!T103=\"X\",\"z własnego gospodarstwa\",IF('Harmonogram produkcji '!U103=\"X\",\"ND, uprawa zastana\"))))","v":false},{"$f":"'Harmonogram produkcji '!V103","v":"00:00:00"},{"$f":"'Harmonogram produkcji '!F103","v":"00:00:00"},null,null,null,{"$f":"'Harmonogram produkcji '!Y103","v":0},{"$f":"'Harmonogram produkcji '!Z103","v":0},{"$f":"'Harmonogram produkcji '!W103","v":0},{"$f":"'Harmonogram produkcji '!X103","v":0}]
[{"$f":"'Harmonogram produkcji '!B104","v":0},{"$f":"'Harmonogram produkcji '!C104","v":0},{"$f":"'Harmonogram produkcji '!D104","v":0},{"$f":"'Harmonogram produkcji '!E104","v":0},{"$f":"IF('Harmonogram produkcji '!G104=\"X\",\"z pierwszych 12 miesiecy okresu konwersji\",IF('Harmonogram produkcji '!H104=\"X\",\"W okresie konwersji 2 rok \",IF('Harmonogram produkcji '!I104=\"X\",\"W okresie konwersji 3 rok \",IF('Harmonogram produkcji '!J104=\"X\",\"Ekologiczny \"))))","v":false},{"$f":"'Harmonogram produkcji '!L104","v":0},{"$f":"'Harmonogram produkcji '!M104","v":0},null,{"$f":"'Harmonogram produkcji '!P104","v":0},{"$f":"'Harmonogram produkcji '!Q104","v":0},{"$f":"IF('Harmonogram produkcji '!R104=\"X\",\"ekologiczny \",IF('Harmonogram produkcji '!S104=\"X\",\"nieekologiczny\",IF('Harmonogram produkcji '!T104=\"X\",\"z własnego gospodarstwa\",IF('Harmonogram produkcji '!U104=\"X\",\"ND, uprawa zastana\"))))","v":false},{"$f":"'Harmonogram produkcji '!V104","v":"00:00:00"},{"$f":"'Harmonogram produkcji '!F104","v":"00:00:00"},null,null,null,{"$f":"'Harmonogram produkcji '!Y104","v":0},{"$f":"'Harmonogram produkcji '!Z104","v":0},{"$f":"'Harmonogram produkcji '!W104","v":0},{"$f":"'Harmonogram produkcji '!X104","v":0}]
[{"$f":"'Harmonogram produkcji '!B105","v":0},{"$f":"'Harmonogram produkcji '!C105","v":0},{"$f":"'Harmonogram produkcji '!D105","v":0},{"$f":"'Harmonogram produkcji '!E105","v":0},{"$f":"IF('Harmonogram produkcji '!G105=\"X\",\"z pierwszych 12 miesiecy okresu konwersji\",IF('Harmonogram produkcji '!H105=\"X\",\"W okresie konwersji 2 rok \",IF('Harmonogram produkcji '!I105=\"X\",\"W okresie konwersji 3 rok \",IF('Harmonogram produkcji '!J105=\"X\",\"Ekologiczny \"))))","v":false},{"$f":"'Harmonogram produkcji '!L105","v":0},{"$f":"'Harmonogram produkcji '!M105","v":0},null,{"$f":"'Harmonogram produkcji '!P105","v":0},{"$f":"'Harmonogram produkcji '!Q105","v":0},{"$f":"IF('Harmonogram produkcji '!R105=\"X\",\"ekologiczny \",IF('Harmonogram produkcji '!S105=\"X\",\"nieekologiczny\",IF('Harmonogram produkcji '!T105=\"X\",\"z własnego gospodarstwa\",IF('Harmonogram produkcji '!U105=\"X\",\"ND, uprawa zastana\"))))","v":false},{"$f":"'Harmonogram produkcji '!V105","v":"00:00:00"},{"$f":"'Harmonogram produkcji '!F105","v":"00:00:00"},null,null,null,{"$f":"'Harmonogram produkcji '!Y105","v":0},{"$f":"'Harmonogram produkcji '!Z105","v":0},{"$f":"'Harmonogram produkcji '!W105","v":0},{"$f":"'Harmonogram produkcji '!X105","v":0}]
[{"$f":"'Harmonogram produkcji '!B106","v":0},{"$f":"'Harmonogram produkcji '!C106","v":0},{"$f":"'Harmonogram produkcji '!D106","v":0},{"$f":"'Harmonogram produkcji '!E106","v":0},{"$f":"IF('Harmonogram produkcji '!G106=\"X\",\"z pierwszych 12 miesiecy okresu konwersji\",IF('Harmonogram produkcji '!H106=\"X\",\"W okresie konwersji 2 rok \",IF('Harmonogram produkcji '!I106=\"X\",\"W okresie konwersji 3 rok \",IF('Harmonogram produkcji '!J106=\"X\",\"Ekologiczny \"))))","v":false},{"$f":"'Harmonogram produkcji '!L106","v":0},{"$f":"'Harmonogram produkcji '!M106","v":0},null,{"$f":"'Harmonogram produkcji '!P106","v":0},{"$f":"'Harmonogram produkcji '!Q106","v":0},{"$f":"IF('Harmonogram produkcji '!R106=\"X\",\"ekologiczny \",IF('Harmonogram produkcji '!S106=\"X\",\"nieekologiczny\",IF('Harmonogram produkcji '!T106=\"X\",\"z własnego gospodarstwa\",IF('Harmonogram produkcji '!U106=\"X\",\"ND, uprawa zastana\"))))","v":false},{"$f":"'Harmonogram produkcji '!V106","v":"00:00:00"},{"$f":"'Harmonogram produkcji '!F106","v":"00:00:00"},null,null,null,{"$f":"'Harmonogram produkcji '!Y106","v":0},{"$f":"'Harmonogram produkcji '!Z106","v":0},{"$f":"'Harmonogram produkcji '!W106","v":0},{"$f":"'Harmonogram produkcji '!X106","v":0}]
[{"$f":"'Harmonogram produkcji '!B107","v":0},{"$f":"'Harmonogram produkcji '!C107","v":0},{"$f":"'Harmonogram produkcji '!D107","v":0},{"$f":"'Harmonogram produkcji '!E107","v":0},{"$f":"IF('Harmonogram produkcji '!G107=\"X\",\"z pierwszych 12 miesiecy okresu konwersji\",IF('Harmonogram produkcji '!H107=\"X\",\"W okresie konwersji 2 rok \",IF('Harmonogram produkcji '!I107=\"X\",\"W okresie konwersji 3 rok \",IF('Harmonogram produkcji '!J107=\"X\",\"Ekologiczny \"))))","v":false},{"$f":"'Harmonogram produkcji '!L107","v":0},{"$f":"'Harmonogram produkcji '!M107","v":0},null,{"$f":"'Harmonogram produkcji '!P107","v":0},{"$f":"'Harmonogram produkcji '!Q107","v":0},{"$f":"IF('Harmonogram produkcji '!R107=\"X\",\"ekologiczny \",IF('Harmonogram produkcji '!S107=\"X\",\"nieekologiczny\",IF('Harmonogram produkcji '!T107=\"X\",\"z własnego gospodarstwa\",IF('Harmonogram produkcji '!U107=\"X\",\"ND, uprawa zastana\"))))","v":false},{"$f":"'Harmonogram produkcji '!V107","v":"00:00:00"},{"$f":"'Harmonogram produkcji '!F107","v":"00:00:00"},null,null,null,{"$f":"'Harmonogram produkcji '!Y107","v":0},{"$f":"'Harmonogram produkcji '!Z107","v":0},{"$f":"'Harmonogram produkcji '!W107","v":0},{"$f":"'Harmonogram produkcji '!X107","v":0}]
[{"$f":"'Harmonogram produkcji '!B108","v":0},{"$f":"'Harmonogram produkcji '!C108","v":0},{"$f":"'Harmonogram produkcji '!D108","v":0},{"$f":"'Harmonogram produkcji '!E108","v":0},{"$f":"IF('Harmonogram produkcji '!G108=\"X\",\"z pierwszych 12 miesiecy okresu konwersji\",IF('Harmonogram produkcji '!H108=\"X\",\"W okresie konwersji 2 rok \",IF('Harmonogram produkcji '!I108=\"X\",\"W okresie konwersji 3 rok \",IF('Harmonogram produkcji '!J108=\"X\",\"Ekologiczny \"))))","v":false},{"$f":"'Harmonogram produkcji '!L108","v":0},{"$f":"'Harmonogram produkcji '!M108","v":0},null,{"$f":"'Harmonogram produkcji '!P108","v":0},{"$f":"'Harmonogram produkcji '!Q108","v":0},{"$f":"IF('Harmonogram produkcji '!R108=\"X\",\"ekologiczny \",IF('Harmonogram produkcji '!S108=\"X\",\"nieekologiczny\",IF('Harmonogram produkcji '!T108=\"X\",\"z własnego gospodarstwa\",IF('Harmonogram produkcji '!U108=\"X\",\"ND, uprawa zastana\"))))","v":false},{"$f":"'Harmonogram produkcji '!V108","v":"00:00:00"},{"$f":"'Harmonogram produkcji '!F108","v":"00:00:00"},null,null,null,{"$f":"'Harmonogram produkcji '!Y108","v":0},{"$f":"'Harmonogram produkcji '!Z108","v":0},{"$f":"'Harmonogram produkcji '!W108","v":0},{"$f":"'Harmonogram produkcji '!X108","v":0}]
[{"$f":"'Harmonogram produkcji '!B109","v":0},{"$f":"'Harmonogram produkcji '!C109","v":0},{"$f":"'Harmonogram produkcji '!D109","v":0},{"$f":"'Harmonogram produkcji '!E109","v":0},{"$f":"IF('Harmonogram produkcji '!G109=\"X\",\"z pierwszych 12 miesiecy okresu konwersji\",IF('Harmonogram produkcji '!H109=\"X\",\"W okresie konwersji 2 rok \",IF('Harmonogram produkcji '!I109=\"X\",\"W okresie konwersji 3 rok \",IF('Harmonogram produkcji '!J109=\"X\",\"Ekologiczny \"))))","v":false},{"$f":"'Harmonogram produkcji '!L109","v":0},{"$f":"'Harmonogram produkcji '!M109","v":0},null,{"$f":"'Harmonogram produkcji '!P109","v":0},{"$f":"'Harmonogram produkcji '!Q109","v":0},{"$f":"IF('Harmonogram produkcji '!R109=\"X\",\"ekologiczny \",IF('Harmonogram produkcji '!S109=\"X\",\"nieekologiczny\",IF('Harmonogram produkcji '!T109=\"X\",\"z własnego gospodarstwa\",IF('Harmonogram produkcji '!U109=\"X\",\"ND, uprawa zastana\"))))","v":false},{"$f":"'Harmonogram produkcji '!V109","v":"00:00:00"},{"$f":"'Harmonogram produkcji '!F109","v":"00:00:00"},null,null,null,{"$f":"'Harmonogram produkcji '!Y109","v":0},{"$f":"'Harmonogram produkcji '!Z109","v":0},{"$f":"'Harmonogram produkcji '!W109","v":0},{"$f":"'Harmonogram produkcji '!X109","v":0}]
[{"$f":"'Harmonogram produkcji '!B110","v":0},{"$f":"'Harmonogram produkcji '!C110","v":0},{"$f":"'Harmonogram produkcji '!D110","v":0},{"$f":"'Harmonogram produkcji '!E110","v":0},{"$f":"IF('Harmonogram produkcji '!G110=\"X\",\"z pierwszych 12 miesiecy okresu konwersji\",IF('Harmonogram produkcji '!H110=\"X\",\"W okresie konwersji 2 rok \",IF('Harmonogram produkcji '!I110=\"X\",\"W okresie konwersji 3 rok \",IF('Harmonogram produkcji '!J110=\"X\",\"Ekologiczny \"))))","v":false},{"$f":"'Harmonogram produkcji '!L110","v":0},{"$f":"'Harmonogram produkcji '!M110","v":0},null,{"$f":"'Harmonogram produkcji '!P110","v":0},{"$f":"'Harmonogram produkcji '!Q110","v":0},{"$f":"IF('Harmonogram produkcji '!R110=\"X\",\"ekologiczny \",IF('Harmonogram produkcji '!S110=\"X\",\"nieekologiczny\",IF('Harmonogram produkcji '!T110=\"X\",\"z własnego gospodarstwa\",IF('Harmonogram produkcji '!U110=\"X\",\"ND, uprawa zastana\"))))","v":false},{"$f":"'Harmonogram produkcji '!V110","v":"00:00:00"},{"$f":"'Harmonogram produkcji '!F110","v":"00:00:00"},null,null,null,{"$f":"'Harmonogram produkcji '!Y110","v":0},{"$f":"'Harmonogram produkcji '!Z110","v":0},{"$f":"'Harmonogram produkcji '!W110","v":0},{"$f":"'Harmonogram produkcji '!X110","v":0}]
[{"$f":"'Harmonogram produkcji '!B111","v":0},{"$f":"'Harmonogram produkcji '!C111","v":0},{"$f":"'Harmonogram produkcji '!D111","v":0},{"$f":"'Harmonogram produkcji '!E111","v":0},{"$f":"IF('Harmonogram produkcji '!G111=\"X\",\"z pierwszych 12 miesiecy okresu konwersji\",IF('Harmonogram produkcji '!H111=\"X\",\"W okresie konwersji 2 rok \",IF('Harmonogram produkcji '!I111=\"X\",\"W okresie konwersji 3 rok \",IF('Harmonogram produkcji '!J111=\"X\",\"Ekologiczny \"))))","v":false},{"$f":"'Harmonogram produkcji '!L111","v":0},{"$f":"'Harmonogram produkcji '!M111","v":0},null,{"$f":"'Harmonogram produkcji '!P111","v":0},{"$f":"'Harmonogram produkcji '!Q111","v":0},{"$f":"IF('Harmonogram produkcji '!R111=\"X\",\"ekologiczny \",IF('Harmonogram produkcji '!S111=\"X\",\"nieekologiczny\",IF('Harmonogram produkcji '!T111=\"X\",\"z własnego gospodarstwa\",IF('Harmonogram produkcji '!U111=\"X\",\"ND, uprawa zastana\"))))","v":false},{"$f":"'Harmonogram produkcji '!V111","v":"00:00:00"},{"$f":"'Harmonogram produkcji '!F111","v":"00:00:00"},null,null,null,{"$f":"'Harmonogram produkcji '!Y111","v":0},{"$f":"'Harmonogram produkcji '!Z111","v":0},{"$f":"'Harmonogram produkcji '!W111","v":0},{"$f":"'Harmonogram produkcji '!X111","v":0}]
[{"$f":"'Harmonogram produkcji '!B112","v":0},{"$f":"'Harmonogram produkcji '!C112","v":0},{"$f":"'Harmonogram produkcji '!D112","v":0},{"$f":"'Harmonogram produkcji '!E112","v":0},{"$f":"IF('Harmonogram produkcji '!G112=\"X\",\"z pierwszych 12 miesiecy okresu konwersji\",IF('Harmonogram produkcji '!H112=\"X\",\"W okresie konwersji 2 rok \",IF('Harmonogram produkcji '!I112=\"X\",\"W okresie konwersji 3 rok \",IF('Harmonogram produkcji '!J112=\"X\",\"Ekologiczny \"))))","v":false},{"$f":"'Harmonogram produkcji '!L112","v":0},{"$f":"'Harmonogram produkcji '!M112","v":0},null,{"$f":"'Harmonogram produkcji '!P112","v":0},{"$f":"'Harmonogram produkcji '!Q112","v":0},{"$f":"IF('Harmonogram produkcji '!R112=\"X\",\"ekologiczny \",IF('Harmonogram produkcji '!S112=\"X\",\"nieekologiczny\",IF('Harmonogram produkcji '!T112=\"X\",\"z własnego gospodarstwa\",IF('Harmonogram produkcji '!U112=\"X\",\"ND, uprawa zastana\"))))","v":false},{"$f":"'Harmonogram produkcji '!V112","v":"00:00:00"},{"$f":"'Harmonogram produkcji '!F112","v":"00:00:00"},null,null,null,{"$f":"'Harmonogram produkcji '!Y112","v":0},{"$f":"'Harmonogram produkcji '!Z112","v":0},{"$f":"'Harmonogram produkcji '!W112","v":0},{"$f":"'Harmonogram produkcji '!X112","v":0}]
[{"$f":"'Harmonogram produkcji '!B113","v":0},{"$f":"'Harmonogram produkcji '!C113","v":0},{"$f":"'Harmonogram produkcji '!D113","v":0},{"$f":"'Harmonogram produkcji '!E113","v":0},{"$f":"IF('Harmonogram produkcji '!G113=\"X\",\"z pierwszych 12 miesiecy okresu konwersji\",IF('Harmonogram produkcji '!H113=\"X\",\"W okresie konwersji 2 rok \",IF('Harmonogram produkcji '!I113=\"X\",\"W okresie konwersji 3 rok \",IF('Harmonogram produkcji '!J113=\"X\",\"Ekologiczny \"))))","v":false},{"$f":"'Harmonogram produkcji '!L113","v":0},{"$f":"'Harmonogram produkcji '!M113","v":0},null,{"$f":"'Harmonogram produkcji '!P113","v":0},{"$f":"'Harmonogram produkcji '!Q113","v":0},{"$f":"IF('Harmonogram produkcji '!R113=\"X\",\"ekologiczny \",IF('Harmonogram produkcji '!S113=\"X\",\"nieekologiczny\",IF('Harmonogram produkcji '!T113=\"X\",\"z własnego gospodarstwa\",IF('Harmonogram produkcji '!U113=\"X\",\"ND, uprawa zastana\"))))","v":false},{"$f":"'Harmonogram produkcji '!V113","v":"00:00:00"},{"$f":"'Harmonogram produkcji '!F113","v":"00:00:00"},null,null,null,{"$f":"'Harmonogram produkcji '!Y113","v":0},{"$f":"'Harmonogram produkcji '!Z113","v":0},{"$f":"'Harmonogram produkcji '!W113","v":0},{"$f":"'Harmonogram produkcji '!X113","v":0}]
[{"$f":"'Harmonogram produkcji '!B114","v":0},{"$f":"'Harmonogram produkcji '!C114","v":0},{"$f":"'Harmonogram produkcji '!D114","v":0},{"$f":"'Harmonogram produkcji '!E114","v":0},{"$f":"IF('Harmonogram produkcji '!G114=\"X\",\"z pierwszych 12 miesiecy okresu konwersji\",IF('Harmonogram produkcji '!H114=\"X\",\"W okresie konwersji 2 rok \",IF('Harmonogram produkcji '!I114=\"X\",\"W okresie konwersji 3 rok \",IF('Harmonogram produkcji '!J114=\"X\",\"Ekologiczny \"))))","v":false},{"$f":"'Harmonogram produkcji '!L114","v":0},{"$f":"'Harmonogram produkcji '!M114","v":0},null,{"$f":"'Harmonogram produkcji '!P114","v":0},{"$f":"'Harmonogram produkcji '!Q114","v":0},{"$f":"IF('Harmonogram produkcji '!R114=\"X\",\"ekologiczny \",IF('Harmonogram produkcji '!S114=\"X\",\"nieekologiczny\",IF('Harmonogram produkcji '!T114=\"X\",\"z własnego gospodarstwa\",IF('Harmonogram produkcji '!U114=\"X\",\"ND, uprawa zastana\"))))","v":false},{"$f":"'Harmonogram produkcji '!V114","v":"00:00:00"},{"$f":"'Harmonogram produkcji '!F114","v":"00:00:00"},null,null,null,{"$f":"'Harmonogram produkcji '!Y114","v":0},{"$f":"'Harmonogram produkcji '!Z114","v":0},{"$f":"'Harmonogram produkcji '!W114","v":0},{"$f":"'Harmonogram produkcji '!X114","v":0}]
[{"$f":"'Harmonogram produkcji '!B115","v":0},{"$f":"'Harmonogram produkcji '!C115","v":0},{"$f":"'Harmonogram produkcji '!D115","v":0},{"$f":"'Harmonogram produkcji '!E115","v":0},{"$f":"IF('Harmonogram produkcji '!G115=\"X\",\"z pierwszych 12 miesiecy okresu konwersji\",IF('Harmonogram produkcji '!H115=\"X\",\"W okresie konwersji 2 rok \",IF('Harmonogram produkcji '!I115=\"X\",\"W okresie konwersji 3 rok \",IF('Harmonogram produkcji '!J115=\"X\",\"Ekologiczny \"))))","v":false},{"$f":"'Harmonogram produkcji '!L115","v":0},{"$f":"'Harmonogram produkcji '!M115","v":0},null,{"$f":"'Harmonogram produkcji '!P115","v":0},{"$f":"'Harmonogram produkcji '!Q115","v":0},{"$f":"IF('Harmonogram produkcji '!R115=\"X\",\"ekologiczny \",IF('Harmonogram produkcji '!S115=\"X\",\"nieekologiczny\",IF('Harmonogram produkcji '!T115=\"X\",\"z własnego gospodarstwa\",IF('Harmonogram produkcji '!U115=\"X\",\"ND, uprawa zastana\"))))","v":false},{"$f":"'Harmonogram produkcji '!V115","v":"00:00:00"},{"$f":"'Harmonogram produkcji '!F115","v":"00:00:00"},null,null,null,{"$f":"'Harmonogram produkcji '!Y115","v":0},{"$f":"'Harmonogram produkcji '!Z115","v":0},{"$f":"'Harmonogram produkcji '!W115","v":0},{"$f":"'Harmonogram produkcji '!X115","v":0}]
[{"$f":"'Harmonogram produkcji '!B116","v":0},{"$f":"'Harmonogram produkcji '!C116","v":0},{"$f":"'Harmonogram produkcji '!D116","v":0},{"$f":"'Harmonogram produkcji '!E116","v":0},{"$f":"IF('Harmonogram produkcji '!G116=\"X\",\"z pierwszych 12 miesiecy okresu konwersji\",IF('Harmonogram produkcji '!H116=\"X\",\"W okresie konwersji 2 rok \",IF('Harmonogram produkcji '!I116=\"X\",\"W okresie konwersji 3 rok \",IF('Harmonogram produkcji '!J116=\"X\",\"Ekologiczny \"))))","v":false},{"$f":"'Harmonogram produkcji '!L116","v":0},{"$f":"'Harmonogram produkcji '!M116","v":0},null,{"$f":"'Harmonogram produkcji '!P116","v":0},{"$f":"'Harmonogram produkcji '!Q116","v":0},{"$f":"IF('Harmonogram produkcji '!R116=\"X\",\"ekologiczny \",IF('Harmonogram produkcji '!S116=\"X\",\"nieekologiczny\",IF('Harmonogram produkcji '!T116=\"X\",\"z własnego gospodarstwa\",IF('Harmonogram produkcji '!U116=\"X\",\"ND, uprawa zastana\"))))","v":false},{"$f":"'Harmonogram produkcji '!V116","v":"00:00:00"},{"$f":"'Harmonogram produkcji '!F116","v":"00:00:00"},null,null,null,{"$f":"'Harmonogram produkcji '!Y116","v":0},{"$f":"'Harmonogram produkcji '!Z116","v":0},{"$f":"'Harmonogram produkcji '!W116","v":0},{"$f":"'Harmonogram produkcji '!X116","v":0}]
[{"$f":"'Harmonogram produkcji '!B117","v":0},{"$f":"'Harmonogram produkcji '!C117","v":0},{"$f":"'Harmonogram produkcji '!D117","v":0},{"$f":"'Harmonogram produkcji '!E117","v":0},{"$f":"IF('Harmonogram produkcji '!G117=\"X\",\"z pierwszych 12 miesiecy okresu konwersji\",IF('Harmonogram produkcji '!H117=\"X\",\"W okresie konwersji 2 rok \",IF('Harmonogram produkcji '!I117=\"X\",\"W okresie konwersji 3 rok \",IF('Harmonogram produkcji '!J117=\"X\",\"Ekologiczny \"))))","v":false},{"$f":"'Harmonogram produkcji '!L117","v":0},{"$f":"'Harmonogram produkcji '!M117","v":0},null,{"$f":"'Harmonogram produkcji '!P117","v":0},{"$f":"'Harmonogram produkcji '!Q117","v":0},{"$f":"IF('Harmonogram produkcji '!R117=\"X\",\"ekologiczny \",IF('Harmonogram produkcji '!S117=\"X\",\"nieekologiczny\",IF('Harmonogram produkcji '!T117=\"X\",\"z własnego gospodarstwa\",IF('Harmonogram produkcji '!U117=\"X\",\"ND, uprawa zastana\"))))","v":false},{"$f":"'Harmonogram produkcji '!V117","v":"00:00:00"},{"$f":"'Harmonogram produkcji '!F117","v":"00:00:00"},null,null,null,{"$f":"'Harmonogram produkcji '!Y117","v":0},{"$f":"'Harmonogram produkcji '!Z117","v":0},{"$f":"'Harmonogram produkcji '!W117","v":0},{"$f":"'Harmonogram produkcji '!X117","v":0}]
[{"$f":"'Harmonogram produkcji '!B118","v":0},{"$f":"'Harmonogram produkcji '!C118","v":0},{"$f":"'Harmonogram produkcji '!D118","v":0},{"$f":"'Harmonogram produkcji '!E118","v":0},{"$f":"IF('Harmonogram produkcji '!G118=\"X\",\"z pierwszych 12 miesiecy okresu konwersji\",IF('Harmonogram produkcji '!H118=\"X\",\"W okresie konwersji 2 rok \",IF('Harmonogram produkcji '!I118=\"X\",\"W okresie konwersji 3 rok \",IF('Harmonogram produkcji '!J118=\"X\",\"Ekologiczny \"))))","v":false},{"$f":"'Harmonogram produkcji '!L118","v":0},{"$f":"'Harmonogram produkcji '!M118","v":0},null,{"$f":"'Harmonogram produkcji '!P118","v":0},{"$f":"'Harmonogram produkcji '!Q118","v":0},{"$f":"IF('Harmonogram produkcji '!R118=\"X\",\"ekologiczny \",IF('Harmonogram produkcji '!S118=\"X\",\"nieekologiczny\",IF('Harmonogram produkcji '!T118=\"X\",\"z własnego gospodarstwa\",IF('Harmonogram produkcji '!U118=\"X\",\"ND, uprawa zastana\"))))","v":false},{"$f":"'Harmonogram produkcji '!V118","v":"00:00:00"},{"$f":"'Harmonogram produkcji '!F118","v":"00:00:00"},null,null,null,{"$f":"'Harmonogram produkcji '!Y118","v":0},{"$f":"'Harmonogram produkcji '!Z118","v":0},{"$f":"'Harmonogram produkcji '!W118","v":0},{"$f":"'Harmonogram produkcji '!X118","v":0}]
[{"$f":"'Harmonogram produkcji '!B119","v":0},{"$f":"'Harmonogram produkcji '!C119","v":0},{"$f":"'Harmonogram produkcji '!D119","v":0},{"$f":"'Harmonogram produkcji '!E119","v":0},{"$f":"IF('Harmonogram produkcji '!G119=\"X\",\"z pierwszych 12 miesiecy okresu konwersji\",IF('Harmonogram produkcji '!H119=\"X\",\"W okresie konwersji 2 rok \",IF('Harmonogram produkcji '!I119=\"X\",\"W okresie konwersji 3 rok \",IF('Harmonogram produkcji '!J119=\"X\",\"Ekologiczny \"))))","v":false},{"$f":"'Harmonogram produkcji '!L119","v":0},{"$f":"'Harmonogram produkcji '!M119","v":0},null,{"$f":"'Harmonogram produkcji '!P119","v":0},{"$f":"'Harmonogram produkcji '!Q119","v":0},{"$f":"IF('Harmonogram produkcji '!R119=\"X\",\"ekologiczny \",IF('Harmonogram produkcji '!S119=\"X\",\"nieekologiczny\",IF('Harmonogram produkcji '!T119=\"X\",\"z własnego gospodarstwa\",IF('Harmonogram produkcji '!U119=\"X\",\"ND, uprawa zastana\"))))","v":false},{"$f":"'Harmonogram produkcji '!V119","v":"00:00:00"},{"$f":"'Harmonogram produkcji '!F119","v":"00:00:00"},null,null,null,{"$f":"'Harmonogram produkcji '!Y119","v":0},{"$f":"'Harmonogram produkcji '!Z119","v":0},{"$f":"'Harmonogram produkcji '!W119","v":0},{"$f":"'Harmonogram produkcji '!X119","v":0}]
[{"$f":"'Harmonogram produkcji '!B120","v":0},{"$f":"'Harmonogram produkcji '!C120","v":0},{"$f":"'Harmonogram produkcji '!D120","v":0},{"$f":"'Harmonogram produkcji '!E120","v":0},{"$f":"IF('Harmonogram produkcji '!G120=\"X\",\"z pierwszych 12 miesiecy okresu konwersji\",IF('Harmonogram produkcji '!H120=\"X\",\"W okresie konwersji 2 rok \",IF('Harmonogram produkcji '!I120=\"X\",\"W okresie konwersji 3 rok \",IF('Harmonogram produkcji '!J120=\"X\",\"Ekologiczny \"))))","v":false},{"$f":"'Harmonogram produkcji '!L120","v":0},{"$f":"'Harmonogram produkcji '!M120","v":0},null,{"$f":"'Harmonogram produkcji '!P120","v":0},{"$f":"'Harmonogram produkcji '!Q120","v":0},{"$f":"IF('Harmonogram produkcji '!R120=\"X\",\"ekologiczny \",IF('Harmonogram produkcji '!S120=\"X\",\"nieekologiczny\",IF('Harmonogram produkcji '!T120=\"X\",\"z własnego gospodarstwa\",IF('Harmonogram produkcji '!U120=\"X\",\"ND, uprawa zastana\"))))","v":false},{"$f":"'Harmonogram produkcji '!V120","v":"00:00:00"},{"$f":"'Harmonogram produkcji '!F120","v":"00:00:00"},null,null,null,{"$f":"'Harmonogram produkcji '!Y120","v":0},{"$f":"'Harmonogram produkcji '!Z120","v":0},{"$f":"'Harmonogram produkcji '!W120","v":0},{"$f":"'Harmonogram produkcji '!X120","v":0}]
[{"$f":"'Harmonogram produkcji '!B121","v":0},{"$f":"'Harmonogram produkcji '!C121","v":0},{"$f":"'Harmonogram produkcji '!D121","v":0},{"$f":"'Harmonogram produkcji '!E121","v":0},{"$f":"IF('Harmonogram produkcji '!G121=\"X\",\"z pierwszych 12 miesiecy okresu konwersji\",IF('Harmonogram produkcji '!H121=\"X\",\"W okresie konwersji 2 rok \",IF('Harmonogram produkcji '!I121=\"X\",\"W okresie konwersji 3 rok \",IF('Harmonogram produkcji '!J121=\"X\",\"Ekologiczny \"))))","v":false},{"$f":"'Harmonogram produkcji '!L121","v":0},{"$f":"'Harmonogram produkcji '!M121","v":0},null,{"$f":"'Harmonogram produkcji '!P121","v":0},{"$f":"'Harmonogram produkcji '!Q121","v":0},{"$f":"IF('Harmonogram produkcji '!R121=\"X\",\"ekologiczny \",IF('Harmonogram produkcji '!S121=\"X\",\"nieekologiczny\",IF('Harmonogram produkcji '!T121=\"X\",\"z własnego gospodarstwa\",IF('Harmonogram produkcji '!U121=\"X\",\"ND, uprawa zastana\"))))","v":false},{"$f":"'Harmonogram produkcji '!V121","v":"00:00:00"},{"$f":"'Harmonogram produkcji '!F121","v":"00:00:00"},null,null,null,{"$f":"'Harmonogram produkcji '!Y121","v":0},{"$f":"'Harmonogram produkcji '!Z121","v":0},{"$f":"'Harmonogram produkcji '!W121","v":0},{"$f":"'Harmonogram produkcji '!X121","v":0}]
[{"$f":"'Harmonogram produkcji '!B122","v":0},{"$f":"'Harmonogram produkcji '!C122","v":0},{"$f":"'Harmonogram produkcji '!D122","v":0},{"$f":"'Harmonogram produkcji '!E122","v":0},{"$f":"IF('Harmonogram produkcji '!G122=\"X\",\"z pierwszych 12 miesiecy okresu konwersji\",IF('Harmonogram produkcji '!H122=\"X\",\"W okresie konwersji 2 rok \",IF('Harmonogram produkcji '!I122=\"X\",\"W okresie konwersji 3 rok \",IF('Harmonogram produkcji '!J122=\"X\",\"Ekologiczny \"))))","v":false},{"$f":"'Harmonogram produkcji '!L122","v":0},{"$f":"'Harmonogram produkcji '!M122","v":0},null,{"$f":"'Harmonogram produkcji '!P122","v":0},{"$f":"'Harmonogram produkcji '!Q122","v":0},{"$f":"IF('Harmonogram produkcji '!R122=\"X\",\"ekologiczny \",IF('Harmonogram produkcji '!S122=\"X\",\"nieekologiczny\",IF('Harmonogram produkcji '!T122=\"X\",\"z własnego gospodarstwa\",IF('Harmonogram produkcji '!U122=\"X\",\"ND, uprawa zastana\"))))","v":false},{"$f":"'Harmonogram produkcji '!V122","v":"00:00:00"},{"$f":"'Harmonogram produkcji '!F122","v":"00:00:00"},null,null,null,{"$f":"'Harmonogram produkcji '!Y122","v":0},{"$f":"'Harmonogram produkcji '!Z122","v":0},{"$f":"'Harmonogram produkcji '!W122","v":0},{"$f":"'Harmonogram produkcji '!X122","v":0}]
[{"$f":"'Harmonogram produkcji '!B123","v":0},{"$f":"'Harmonogram produkcji '!C123","v":0},{"$f":"'Harmonogram produkcji '!D123","v":0},{"$f":"'Harmonogram produkcji '!E123","v":0},{"$f":"IF('Harmonogram produkcji '!G123=\"X\",\"z pierwszych 12 miesiecy okresu konwersji\",IF('Harmonogram produkcji '!H123=\"X\",\"W okresie konwersji 2 rok \",IF('Harmonogram produkcji '!I123=\"X\",\"W okresie konwersji 3 rok \",IF('Harmonogram produkcji '!J123=\"X\",\"Ekologiczny \"))))","v":false},{"$f":"'Harmonogram produkcji '!L123","v":0},{"$f":"'Harmonogram produkcji '!M123","v":0},null,{"$f":"'Harmonogram produkcji '!P123","v":0},{"$f":"'Harmonogram produkcji '!Q123","v":0},{"$f":"IF('Harmonogram produkcji '!R123=\"X\",\"ekologiczny \",IF('Harmonogram produkcji '!S123=\"X\",\"nieekologiczny\",IF('Harmonogram produkcji '!T123=\"X\",\"z własnego gospodarstwa\",IF('Harmonogram produkcji '!U123=\"X\",\"ND, uprawa zastana\"))))","v":false},{"$f":"'Harmonogram produkcji '!V123","v":"00:00:00"},{"$f":"'Harmonogram produkcji '!F123","v":"00:00:00"},null,null,null,{"$f":"'Harmonogram produkcji '!Y123","v":0},{"$f":"'Harmonogram produkcji '!Z123","v":0},{"$f":"'Harmonogram produkcji '!W123","v":0},{"$f":"'Harmonogram produkcji '!X123","v":0}]
[{"$f":"'Harmonogram produkcji '!B124","v":0},{"$f":"'Harmonogram produkcji '!C124","v":0},{"$f":"'Harmonogram produkcji '!D124","v":0},{"$f":"'Harmonogram produkcji '!E124","v":0},{"$f":"IF('Harmonogram produkcji '!G124=\"X\",\"z pierwszych 12 miesiecy okresu konwersji\",IF('Harmonogram produkcji '!H124=\"X\",\"W okresie konwersji 2 rok \",IF('Harmonogram produkcji '!I124=\"X\",\"W okresie konwersji 3 rok \",IF('Harmonogram produkcji '!J124=\"X\",\"Ekologiczny \"))))","v":false},{"$f":"'Harmonogram produkcji '!L124","v":0},{"$f":"'Harmonogram produkcji '!M124","v":0},null,{"$f":"'Harmonogram produkcji '!P124","v":0},{"$f":"'Harmonogram produkcji '!Q124","v":0},{"$f":"IF('Harmonogram produkcji '!R124=\"X\",\"ekologiczny \",IF('Harmonogram produkcji '!S124=\"X\",\"nieekologiczny\",IF('Harmonogram produkcji '!T124=\"X\",\"z własnego gospodarstwa\",IF('Harmonogram produkcji '!U124=\"X\",\"ND, uprawa zastana\"))))","v":false},{"$f":"'Harmonogram produkcji '!V124","v":"00:00:00"},{"$f":"'Harmonogram produkcji '!F124","v":"00:00:00"},null,null,null,{"$f":"'Harmonogram produkcji '!Y124","v":0},{"$f":"'Harmonogram produkcji '!Z124","v":0},{"$f":"'Harmonogram produkcji '!W124","v":0},{"$f":"'Harmonogram produkcji '!X124","v":0}]
[{"$f":"'Harmonogram produkcji '!B125","v":0},{"$f":"'Harmonogram produkcji '!C125","v":0},{"$f":"'Harmonogram produkcji '!D125","v":0},{"$f":"'Harmonogram produkcji '!E125","v":0},{"$f":"IF('Harmonogram produkcji '!G125=\"X\",\"z pierwszych 12 miesiecy okresu konwersji\",IF('Harmonogram produkcji '!H125=\"X\",\"W okresie konwersji 2 rok \",IF('Harmonogram produkcji '!I125=\"X\",\"W okresie konwersji 3 rok \",IF('Harmonogram produkcji '!J125=\"X\",\"Ekologiczny \"))))","v":false},{"$f":"'Harmonogram produkcji '!L125","v":0},{"$f":"'Harmonogram produkcji '!M125","v":0},null,{"$f":"'Harmonogram produkcji '!P125","v":0},{"$f":"'Harmonogram produkcji '!Q125","v":0},{"$f":"IF('Harmonogram produkcji '!R125=\"X\",\"ekologiczny \",IF('Harmonogram produkcji '!S125=\"X\",\"nieekologiczny\",IF('Harmonogram produkcji '!T125=\"X\",\"z własnego gospodarstwa\",IF('Harmonogram produkcji '!U125=\"X\",\"ND, uprawa zastana\"))))","v":false},{"$f":"'Harmonogram produkcji '!V125","v":"00:00:00"},{"$f":"'Harmonogram produkcji '!F125","v":"00:00:00"},null,null,null,{"$f":"'Harmonogram produkcji '!Y125","v":0},{"$f":"'Harmonogram produkcji '!Z125","v":0},{"$f":"'Harmonogram produkcji '!W125","v":0},{"$f":"'Harmonogram produkcji '!X125","v":0}]
[{"$f":"'Harmonogram produkcji '!B126","v":0},{"$f":"'Harmonogram produkcji '!C126","v":0},{"$f":"'Harmonogram produkcji '!D126","v":0},{"$f":"'Harmonogram produkcji '!E126","v":0},{"$f":"IF('Harmonogram produkcji '!G126=\"X\",\"z pierwszych 12 miesiecy okresu konwersji\",IF('Harmonogram produkcji '!H126=\"X\",\"W okresie konwersji 2 rok \",IF('Harmonogram produkcji '!I126=\"X\",\"W okresie konwersji 3 rok \",IF('Harmonogram produkcji '!J126=\"X\",\"Ekologiczny \"))))","v":false},{"$f":"'Harmonogram produkcji '!L126","v":0},{"$f":"'Harmonogram produkcji '!M126","v":0},null,{"$f":"'Harmonogram produkcji '!P126","v":0},{"$f":"'Harmonogram produkcji '!Q126","v":0},{"$f":"IF('Harmonogram produkcji '!R126=\"X\",\"ekologiczny \",IF('Harmonogram produkcji '!S126=\"X\",\"nieekologiczny\",IF('Harmonogram produkcji '!T126=\"X\",\"z własnego gospodarstwa\",IF('Harmonogram produkcji '!U126=\"X\",\"ND, uprawa zastana\"))))","v":false},{"$f":"'Harmonogram produkcji '!V126","v":"00:00:00"},{"$f":"'Harmonogram produkcji '!F126","v":"00:00:00"},null,null,null,{"$f":"'Harmonogram produkcji '!Y126","v":0},{"$f":"'Harmonogram produkcji '!Z126","v":0},{"$f":"'Harmonogram produkcji '!W126","v":0},{"$f":"'Harmonogram produkcji '!X126","v":0}]
[{"$f":"'Harmonogram produkcji '!B127","v":0},{"$f":"'Harmonogram produkcji '!C127","v":0},{"$f":"'Harmonogram produkcji '!D127","v":0},{"$f":"'Harmonogram produkcji '!E127","v":0},{"$f":"IF('Harmonogram produkcji '!G127=\"X\",\"z pierwszych 12 miesiecy okresu konwersji\",IF('Harmonogram produkcji '!H127=\"X\",\"W okresie konwersji 2 rok \",IF('Harmonogram produkcji '!I127=\"X\",\"W okresie konwersji 3 rok \",IF('Harmonogram produkcji '!J127=\"X\",\"Ekologiczny \"))))","v":false},{"$f":"'Harmonogram produkcji '!L127","v":0},{"$f":"'Harmonogram produkcji '!M127","v":0},null,{"$f":"'Harmonogram produkcji '!P127","v":0},{"$f":"'Harmonogram produkcji '!Q127","v":0},{"$f":"IF('Harmonogram produkcji '!R127=\"X\",\"ekologiczny \",IF('Harmonogram produkcji '!S127=\"X\",\"nieekologiczny\",IF('Harmonogram produkcji '!T127=\"X\",\"z własnego gospodarstwa\",IF('Harmonogram produkcji '!U127=\"X\",\"ND, uprawa zastana\"))))","v":false},{"$f":"'Harmonogram produkcji '!V127","v":"00:00:00"},{"$f":"'Harmonogram produkcji '!F127","v":"00:00:00"},null,null,null,{"$f":"'Harmonogram produkcji '!Y127","v":0},{"$f":"'Harmonogram produkcji '!Z127","v":0},{"$f":"'Harmonogram produkcji '!W127","v":0},{"$f":"'Harmonogram produkcji '!X127","v":0}]
[{"$f":"'Harmonogram produkcji '!B128","v":0},{"$f":"'Harmonogram produkcji '!C128","v":0},{"$f":"'Harmonogram produkcji '!D128","v":0},{"$f":"'Harmonogram produkcji '!E128","v":0},{"$f":"IF('Harmonogram produkcji '!G128=\"X\",\"z pierwszych 12 miesiecy okresu konwersji\",IF('Harmonogram produkcji '!H128=\"X\",\"W okresie konwersji 2 rok \",IF('Harmonogram produkcji '!I128=\"X\",\"W okresie konwersji 3 rok \",IF('Harmonogram produkcji '!J128=\"X\",\"Ekologiczny \"))))","v":false},{"$f":"'Harmonogram produkcji '!L128","v":0},{"$f":"'Harmonogram produkcji '!M128","v":0},null,{"$f":"'Harmonogram produkcji '!P128","v":0},{"$f":"'Harmonogram produkcji '!Q128","v":0},{"$f":"IF('Harmonogram produkcji '!R128=\"X\",\"ekologiczny \",IF('Harmonogram produkcji '!S128=\"X\",\"nieekologiczny\",IF('Harmonogram produkcji '!T128=\"X\",\"z własnego gospodarstwa\",IF('Harmonogram produkcji '!U128=\"X\",\"ND, uprawa zastana\"))))","v":false},{"$f":"'Harmonogram produkcji '!V128","v":"00:00:00"},{"$f":"'Harmonogram produkcji '!F128","v":"00:00:00"},null,null,null,{"$f":"'Harmonogram produkcji '!Y128","v":0},{"$f":"'Harmonogram produkcji '!Z128","v":0},{"$f":"'Harmonogram produkcji '!W128","v":0},{"$f":"'Harmonogram produkcji '!X128","v":0}]
[{"$f":"'Harmonogram produkcji '!B129","v":0},{"$f":"'Harmonogram produkcji '!C129","v":0},{"$f":"'Harmonogram produkcji '!D129","v":0},{"$f":"'Harmonogram produkcji '!E129","v":0},{"$f":"IF('Harmonogram produkcji '!G129=\"X\",\"z pierwszych 12 miesiecy okresu konwersji\",IF('Harmonogram produkcji '!H129=\"X\",\"W okresie konwersji 2 rok \",IF('Harmonogram produkcji '!I129=\"X\",\"W okresie konwersji 3 rok \",IF('Harmonogram produkcji '!J129=\"X\",\"Ekologiczny \"))))","v":false},{"$f":"'Harmonogram produkcji '!L129","v":0},{"$f":"'Harmonogram produkcji '!M129","v":0},null,{"$f":"'Harmonogram produkcji '!P129","v":0},{"$f":"'Harmonogram produkcji '!Q129","v":0},{"$f":"IF('Harmonogram produkcji '!R129=\"X\",\"ekologiczny \",IF('Harmonogram produkcji '!S129=\"X\",\"nieekologiczny\",IF('Harmonogram produkcji '!T129=\"X\",\"z własnego gospodarstwa\",IF('Harmonogram produkcji '!U129=\"X\",\"ND, uprawa zastana\"))))","v":false},{"$f":"'Harmonogram produkcji '!V129","v":"00:00:00"},{"$f":"'Harmonogram produkcji '!F129","v":"00:00:00"},null,null,null,{"$f":"'Harmonogram produkcji '!Y129","v":0},{"$f":"'Harmonogram produkcji '!Z129","v":0},{"$f":"'Harmonogram produkcji '!W129","v":0},{"$f":"'Harmonogram produkcji '!X129","v":0}]
[{"$f":"'Harmonogram produkcji '!B130","v":0},{"$f":"'Harmonogram produkcji '!C130","v":0},{"$f":"'Harmonogram produkcji '!D130","v":0},{"$f":"'Harmonogram produkcji '!E130","v":0},{"$f":"IF('Harmonogram produkcji '!G130=\"X\",\"z pierwszych 12 miesiecy okresu konwersji\",IF('Harmonogram produkcji '!H130=\"X\",\"W okresie konwersji 2 rok \",IF('Harmonogram produkcji '!I130=\"X\",\"W okresie konwersji 3 rok \",IF('Harmonogram produkcji '!J130=\"X\",\"Ekologiczny \"))))","v":false},{"$f":"'Harmonogram produkcji '!L130","v":0},{"$f":"'Harmonogram produkcji '!M130","v":0},null,{"$f":"'Harmonogram produkcji '!P130","v":0},{"$f":"'Harmonogram produkcji '!Q130","v":0},{"$f":"IF('Harmonogram produkcji '!R130=\"X\",\"ekologiczny \",IF('Harmonogram produkcji '!S130=\"X\",\"nieekologiczny\",IF('Harmonogram produkcji '!T130=\"X\",\"z własnego gospodarstwa\",IF('Harmonogram produkcji '!U130=\"X\",\"ND, uprawa zastana\"))))","v":false},{"$f":"'Harmonogram produkcji '!V130","v":"00:00:00"},{"$f":"'Harmonogram produkcji '!F130","v":"00:00:00"},null,null,null,{"$f":"'Harmonogram produkcji '!Y130","v":0},{"$f":"'Harmonogram produkcji '!Z130","v":0},{"$f":"'Harmonogram produkcji '!W130","v":0},{"$f":"'Harmonogram produkcji '!X130","v":0}]
[{"$f":"'Harmonogram produkcji '!B131","v":0},{"$f":"'Harmonogram produkcji '!C131","v":0},{"$f":"'Harmonogram produkcji '!D131","v":0},{"$f":"'Harmonogram produkcji '!E131","v":0},{"$f":"IF('Harmonogram produkcji '!G131=\"X\",\"z pierwszych 12 miesiecy okresu konwersji\",IF('Harmonogram produkcji '!H131=\"X\",\"W okresie konwersji 2 rok \",IF('Harmonogram produkcji '!I131=\"X\",\"W okresie konwersji 3 rok \",IF('Harmonogram produkcji '!J131=\"X\",\"Ekologiczny \"))))","v":false},{"$f":"'Harmonogram produkcji '!L131","v":0},{"$f":"'Harmonogram produkcji '!M131","v":0},null,{"$f":"'Harmonogram produkcji '!P131","v":0},{"$f":"'Harmonogram produkcji '!Q131","v":0},{"$f":"IF('Harmonogram produkcji '!R131=\"X\",\"ekologiczny \",IF('Harmonogram produkcji '!S131=\"X\",\"nieekologiczny\",IF('Harmonogram produkcji '!T131=\"X\",\"z własnego gospodarstwa\",IF('Harmonogram produkcji '!U131=\"X\",\"ND, uprawa zastana\"))))","v":false},{"$f":"'Harmonogram produkcji '!V131","v":"00:00:00"},{"$f":"'Harmonogram produkcji '!F131","v":"00:00:00"},null,null,null,{"$f":"'Harmonogram produkcji '!Y131","v":0},{"$f":"'Harmonogram produkcji '!Z131","v":0},{"$f":"'Harmonogram produkcji '!W131","v":0},{"$f":"'Harmonogram produkcji '!X131","v":0}]
[{"$f":"'Harmonogram produkcji '!B132","v":0},{"$f":"'Harmonogram produkcji '!C132","v":0},{"$f":"'Harmonogram produkcji '!D132","v":0},{"$f":"'Harmonogram produkcji '!E132","v":0},{"$f":"IF('Harmonogram produkcji '!G132=\"X\",\"z pierwszych 12 miesiecy okresu konwersji\",IF('Harmonogram produkcji '!H132=\"X\",\"W okresie konwersji 2 rok \",IF('Harmonogram produkcji '!I132=\"X\",\"W okresie konwersji 3 rok \",IF('Harmonogram produkcji '!J132=\"X\",\"Ekologiczny \"))))","v":false},{"$f":"'Harmonogram produkcji '!L132","v":0},{"$f":"'Harmonogram produkcji '!M132","v":0},null,{"$f":"'Harmonogram produkcji '!P132","v":0},{"$f":"'Harmonogram produkcji '!Q132","v":0},{"$f":"IF('Harmonogram produkcji '!R132=\"X\",\"ekologiczny \",IF('Harmonogram produkcji '!S132=\"X\",\"nieekologiczny\",IF('Harmonogram produkcji '!T132=\"X\",\"z własnego gospodarstwa\",IF('Harmonogram produkcji '!U132=\"X\",\"ND, uprawa zastana\"))))","v":false},{"$f":"'Harmonogram produkcji '!V132","v":"00:00:00"},{"$f":"'Harmonogram produkcji '!F132","v":"00:00:00"},null,null,null,{"$f":"'Harmonogram produkcji '!Y132","v":0},{"$f":"'Harmonogram produkcji '!Z132","v":0},{"$f":"'Harmonogram produkcji '!W132","v":0},{"$f":"'Harmonogram produkcji '!X132","v":0}]
[{"$f":"'Harmonogram produkcji '!B133","v":0},{"$f":"'Harmonogram produkcji '!C133","v":0},{"$f":"'Harmonogram produkcji '!D133","v":0},{"$f":"'Harmonogram produkcji '!E133","v":0},{"$f":"IF('Harmonogram produkcji '!G133=\"X\",\"z pierwszych 12 miesiecy okresu konwersji\",IF('Harmonogram produkcji '!H133=\"X\",\"W okresie konwersji 2 rok \",IF('Harmonogram produkcji '!I133=\"X\",\"W okresie konwersji 3 rok \",IF('Harmonogram produkcji '!J133=\"X\",\"Ekologiczny \"))))","v":false},{"$f":"'Harmonogram produkcji '!L133","v":0},{"$f":"'Harmonogram produkcji '!M133","v":0},null,{"$f":"'Harmonogram produkcji '!P133","v":0},{"$f":"'Harmonogram produkcji '!Q133","v":0},{"$f":"IF('Harmonogram produkcji '!R133=\"X\",\"ekologiczny \",IF('Harmonogram produkcji '!S133=\"X\",\"nieekologiczny\",IF('Harmonogram produkcji '!T133=\"X\",\"z własnego gospodarstwa\",IF('Harmonogram produkcji '!U133=\"X\",\"ND, uprawa zastana\"))))","v":false},{"$f":"'Harmonogram produkcji '!V133","v":"00:00:00"},{"$f":"'Harmonogram produkcji '!F133","v":"00:00:00"},null,null,null,{"$f":"'Harmonogram produkcji '!Y133","v":0},{"$f":"'Harmonogram produkcji '!Z133","v":0},{"$f":"'Harmonogram produkcji '!W133","v":0},{"$f":"'Harmonogram produkcji '!X133","v":0}]
[{"$f":"'Harmonogram produkcji '!B134","v":0},{"$f":"'Harmonogram produkcji '!C134","v":0},{"$f":"'Harmonogram produkcji '!D134","v":0},{"$f":"'Harmonogram produkcji '!E134","v":0},{"$f":"IF('Harmonogram produkcji '!G134=\"X\",\"z pierwszych 12 miesiecy okresu konwersji\",IF('Harmonogram produkcji '!H134=\"X\",\"W okresie konwersji 2 rok \",IF('Harmonogram produkcji '!I134=\"X\",\"W okresie konwersji 3 rok \",IF('Harmonogram produkcji '!J134=\"X\",\"Ekologiczny \"))))","v":false},{"$f":"'Harmonogram produkcji '!L134","v":0},{"$f":"'Harmonogram produkcji '!M134","v":0},null,{"$f":"'Harmonogram produkcji '!P134","v":0},{"$f":"'Harmonogram produkcji '!Q134","v":0},{"$f":"IF('Harmonogram produkcji '!R134=\"X\",\"ekologiczny \",IF('Harmonogram produkcji '!S134=\"X\",\"nieekologiczny\",IF('Harmonogram produkcji '!T134=\"X\",\"z własnego gospodarstwa\",IF('Harmonogram produkcji '!U134=\"X\",\"ND, uprawa zastana\"))))","v":false},{"$f":"'Harmonogram produkcji '!V134","v":"00:00:00"},{"$f":"'Harmonogram produkcji '!F134","v":"00:00:00"},null,null,null,{"$f":"'Harmonogram produkcji '!Y134","v":0},{"$f":"'Harmonogram produkcji '!Z134","v":0},{"$f":"'Harmonogram produkcji '!W134","v":0},{"$f":"'Harmonogram produkcji '!X134","v":0}]
[{"$f":"'Harmonogram produkcji '!B135","v":0},{"$f":"'Harmonogram produkcji '!C135","v":0},{"$f":"'Harmonogram produkcji '!D135","v":0},{"$f":"'Harmonogram produkcji '!E135","v":0},{"$f":"IF('Harmonogram produkcji '!G135=\"X\",\"z pierwszych 12 miesiecy okresu konwersji\",IF('Harmonogram produkcji '!H135=\"X\",\"W okresie konwersji 2 rok \",IF('Harmonogram produkcji '!I135=\"X\",\"W okresie konwersji 3 rok \",IF('Harmonogram produkcji '!J135=\"X\",\"Ekologiczny \"))))","v":false},{"$f":"'Harmonogram produkcji '!L135","v":0},{"$f":"'Harmonogram produkcji '!M135","v":0},null,{"$f":"'Harmonogram produkcji '!P135","v":0},{"$f":"'Harmonogram produkcji '!Q135","v":0},{"$f":"IF('Harmonogram produkcji '!R135=\"X\",\"ekologiczny \",IF('Harmonogram produkcji '!S135=\"X\",\"nieekologiczny\",IF('Harmonogram produkcji '!T135=\"X\",\"z własnego gospodarstwa\",IF('Harmonogram produkcji '!U135=\"X\",\"ND, uprawa zastana\"))))","v":false},{"$f":"'Harmonogram produkcji '!V135","v":"00:00:00"},{"$f":"'Harmonogram produkcji '!F135","v":"00:00:00"},null,null,null,{"$f":"'Harmonogram produkcji '!Y135","v":0},{"$f":"'Harmonogram produkcji '!Z135","v":0},{"$f":"'Harmonogram produkcji '!W135","v":0},{"$f":"'Harmonogram produkcji '!X135","v":0}]
[{"$f":"'Harmonogram produkcji '!B136","v":0},{"$f":"'Harmonogram produkcji '!C136","v":0},{"$f":"'Harmonogram produkcji '!D136","v":0},{"$f":"'Harmonogram produkcji '!E136","v":0},{"$f":"IF('Harmonogram produkcji '!G136=\"X\",\"z pierwszych 12 miesiecy okresu konwersji\",IF('Harmonogram produkcji '!H136=\"X\",\"W okresie konwersji 2 rok \",IF('Harmonogram produkcji '!I136=\"X\",\"W okresie konwersji 3 rok \",IF('Harmonogram produkcji '!J136=\"X\",\"Ekologiczny \"))))","v":false},{"$f":"'Harmonogram produkcji '!L136","v":0},{"$f":"'Harmonogram produkcji '!M136","v":0},null,{"$f":"'Harmonogram produkcji '!P136","v":0},{"$f":"'Harmonogram produkcji '!Q136","v":0},{"$f":"IF('Harmonogram produkcji '!R136=\"X\",\"ekologiczny \",IF('Harmonogram produkcji '!S136=\"X\",\"nieekologiczny\",IF('Harmonogram produkcji '!T136=\"X\",\"z własnego gospodarstwa\",IF('Harmonogram produkcji '!U136=\"X\",\"ND, uprawa zastana\"))))","v":false},{"$f":"'Harmonogram produkcji '!V136","v":"00:00:00"},{"$f":"'Harmonogram produkcji '!F136","v":"00:00:00"},null,null,null,{"$f":"'Harmonogram produkcji '!Y136","v":0},{"$f":"'Harmonogram produkcji '!Z136","v":0},{"$f":"'Harmonogram produkcji '!W136","v":0},{"$f":"'Harmonogram produkcji '!X136","v":0}]
[{"$f":"'Harmonogram produkcji '!B137","v":0},{"$f":"'Harmonogram produkcji '!C137","v":0},{"$f":"'Harmonogram produkcji '!D137","v":0},{"$f":"'Harmonogram produkcji '!E137","v":0},{"$f":"IF('Harmonogram produkcji '!G137=\"X\",\"z pierwszych 12 miesiecy okresu konwersji\",IF('Harmonogram produkcji '!H137=\"X\",\"W okresie konwersji 2 rok \",IF('Harmonogram produkcji '!I137=\"X\",\"W okresie konwersji 3 rok \",IF('Harmonogram produkcji '!J137=\"X\",\"Ekologiczny \"))))","v":false},{"$f":"'Harmonogram produkcji '!L137","v":0},{"$f":"'Harmonogram produkcji '!M137","v":0},null,{"$f":"'Harmonogram produkcji '!P137","v":0},{"$f":"'Harmonogram produkcji '!Q137","v":0},{"$f":"IF('Harmonogram produkcji '!R137=\"X\",\"ekologiczny \",IF('Harmonogram produkcji '!S137=\"X\",\"nieekologiczny\",IF('Harmonogram produkcji '!T137=\"X\",\"z własnego gospodarstwa\",IF('Harmonogram produkcji '!U137=\"X\",\"ND, uprawa zastana\"))))","v":false},{"$f":"'Harmonogram produkcji '!V137","v":"00:00:00"},{"$f":"'Harmonogram produkcji '!F137","v":"00:00:00"},null,null,null,{"$f":"'Harmonogram produkcji '!Y137","v":0},{"$f":"'Harmonogram produkcji '!Z137","v":0},{"$f":"'Harmonogram produkcji '!W137","v":0},{"$f":"'Harmonogram produkcji '!X137","v":0}]
[{"$f":"'Harmonogram produkcji '!B138","v":0},{"$f":"'Harmonogram produkcji '!C138","v":0},{"$f":"'Harmonogram produkcji '!D138","v":0},{"$f":"'Harmonogram produkcji '!E138","v":0},{"$f":"IF('Harmonogram produkcji '!G138=\"X\",\"z pierwszych 12 miesiecy okresu konwersji\",IF('Harmonogram produkcji '!H138=\"X\",\"W okresie konwersji 2 rok \",IF('Harmonogram produkcji '!I138=\"X\",\"W okresie konwersji 3 rok \",IF('Harmonogram produkcji '!J138=\"X\",\"Ekologiczny \"))))","v":false},{"$f":"'Harmonogram produkcji '!L138","v":0},{"$f":"'Harmonogram produkcji '!M138","v":0},null,{"$f":"'Harmonogram produkcji '!P138","v":0},{"$f":"'Harmonogram produkcji '!Q138","v":0},{"$f":"IF('Harmonogram produkcji '!R138=\"X\",\"ekologiczny \",IF('Harmonogram produkcji '!S138=\"X\",\"nieekologiczny\",IF('Harmonogram produkcji '!T138=\"X\",\"z własnego gospodarstwa\",IF('Harmonogram produkcji '!U138=\"X\",\"ND, uprawa zastana\"))))","v":false},{"$f":"'Harmonogram produkcji '!V138","v":"00:00:00"},{"$f":"'Harmonogram produkcji '!F138","v":"00:00:00"},null,null,null,{"$f":"'Harmonogram produkcji '!Y138","v":0},{"$f":"'Harmonogram produkcji '!Z138","v":0},{"$f":"'Harmonogram produkcji '!W138","v":0},{"$f":"'Harmonogram produkcji '!X138","v":0}]
[{"$f":"'Harmonogram produkcji '!B139","v":0},{"$f":"'Harmonogram produkcji '!C139","v":0},{"$f":"'Harmonogram produkcji '!D139","v":0},{"$f":"'Harmonogram produkcji '!E139","v":0},{"$f":"IF('Harmonogram produkcji '!G139=\"X\",\"z pierwszych 12 miesiecy okresu konwersji\",IF('Harmonogram produkcji '!H139=\"X\",\"W okresie konwersji 2 rok \",IF('Harmonogram produkcji '!I139=\"X\",\"W okresie konwersji 3 rok \",IF('Harmonogram produkcji '!J139=\"X\",\"Ekologiczny \"))))","v":false},{"$f":"'Harmonogram produkcji '!L139","v":0},{"$f":"'Harmonogram produkcji '!M139","v":0},null,{"$f":"'Harmonogram produkcji '!P139","v":0},{"$f":"'Harmonogram produkcji '!Q139","v":0},{"$f":"IF('Harmonogram produkcji '!R139=\"X\",\"ekologiczny \",IF('Harmonogram produkcji '!S139=\"X\",\"nieekologiczny\",IF('Harmonogram produkcji '!T139=\"X\",\"z własnego gospodarstwa\",IF('Harmonogram produkcji '!U139=\"X\",\"ND, uprawa zastana\"))))","v":false},{"$f":"'Harmonogram produkcji '!V139","v":"00:00:00"},{"$f":"'Harmonogram produkcji '!F139","v":"00:00:00"},null,null,null,{"$f":"'Harmonogram produkcji '!Y139","v":0},{"$f":"'Harmonogram produkcji '!Z139","v":0},{"$f":"'Harmonogram produkcji '!W139","v":0},{"$f":"'Harmonogram produkcji '!X139","v":0}]
[{"$f":"'Harmonogram produkcji '!B140","v":0},{"$f":"'Harmonogram produkcji '!C140","v":0},{"$f":"'Harmonogram produkcji '!D140","v":0},{"$f":"'Harmonogram produkcji '!E140","v":0},{"$f":"IF('Harmonogram produkcji '!G140=\"X\",\"z pierwszych 12 miesiecy okresu konwersji\",IF('Harmonogram produkcji '!H140=\"X\",\"W okresie konwersji 2 rok \",IF('Harmonogram produkcji '!I140=\"X\",\"W okresie konwersji 3 rok \",IF('Harmonogram produkcji '!J140=\"X\",\"Ekologiczny \"))))","v":false},{"$f":"'Harmonogram produkcji '!L140","v":0},{"$f":"'Harmonogram produkcji '!M140","v":0},null,{"$f":"'Harmonogram produkcji '!P140","v":0},{"$f":"'Harmonogram produkcji '!Q140","v":0},{"$f":"IF('Harmonogram produkcji '!R140=\"X\",\"ekologiczny \",IF('Harmonogram produkcji '!S140=\"X\",\"nieekologiczny\",IF('Harmonogram produkcji '!T140=\"X\",\"z własnego gospodarstwa\",IF('Harmonogram produkcji '!U140=\"X\",\"ND, uprawa zastana\"))))","v":false},{"$f":"'Harmonogram produkcji '!V140","v":"00:00:00"},{"$f":"'Harmonogram produkcji '!F140","v":"00:00:00"},null,null,null,{"$f":"'Harmonogram produkcji '!Y140","v":0},{"$f":"'Harmonogram produkcji '!Z140","v":0},{"$f":"'Harmonogram produkcji '!W140","v":0},{"$f":"'Harmonogram produkcji '!X140","v":0}]
[{"$f":"'Harmonogram produkcji '!B141","v":0},{"$f":"'Harmonogram produkcji '!C141","v":0},{"$f":"'Harmonogram produkcji '!D141","v":0},{"$f":"'Harmonogram produkcji '!E141","v":0},{"$f":"IF('Harmonogram produkcji '!G141=\"X\",\"z pierwszych 12 miesiecy okresu konwersji\",IF('Harmonogram produkcji '!H141=\"X\",\"W okresie konwersji 2 rok \",IF('Harmonogram produkcji '!I141=\"X\",\"W okresie konwersji 3 rok \",IF('Harmonogram produkcji '!J141=\"X\",\"Ekologiczny \"))))","v":false},{"$f":"'Harmonogram produkcji '!L141","v":0},{"$f":"'Harmonogram produkcji '!M141","v":0},null,{"$f":"'Harmonogram produkcji '!P141","v":0},{"$f":"'Harmonogram produkcji '!Q141","v":0},{"$f":"IF('Harmonogram produkcji '!R141=\"X\",\"ekologiczny \",IF('Harmonogram produkcji '!S141=\"X\",\"nieekologiczny\",IF('Harmonogram produkcji '!T141=\"X\",\"z własnego gospodarstwa\",IF('Harmonogram produkcji '!U141=\"X\",\"ND, uprawa zastana\"))))","v":false},{"$f":"'Harmonogram produkcji '!V141","v":"00:00:00"},{"$f":"'Harmonogram produkcji '!F141","v":"00:00:00"},null,null,null,{"$f":"'Harmonogram produkcji '!Y141","v":0},{"$f":"'Harmonogram produkcji '!Z141","v":0},{"$f":"'Harmonogram produkcji '!W141","v":0},{"$f":"'Harmonogram produkcji '!X141","v":0}]
[{"$f":"'Harmonogram produkcji '!B142","v":0},{"$f":"'Harmonogram produkcji '!C142","v":0},{"$f":"'Harmonogram produkcji '!D142","v":0},{"$f":"'Harmonogram produkcji '!E142","v":0},{"$f":"IF('Harmonogram produkcji '!G142=\"X\",\"z pierwszych 12 miesiecy okresu konwersji\",IF('Harmonogram produkcji '!H142=\"X\",\"W okresie konwersji 2 rok \",IF('Harmonogram produkcji '!I142=\"X\",\"W okresie konwersji 3 rok \",IF('Harmonogram produkcji '!J142=\"X\",\"Ekologiczny \"))))","v":false},{"$f":"'Harmonogram produkcji '!L142","v":0},{"$f":"'Harmonogram produkcji '!M142","v":0},null,{"$f":"'Harmonogram produkcji '!P142","v":0},{"$f":"'Harmonogram produkcji '!Q142","v":0},{"$f":"IF('Harmonogram produkcji '!R142=\"X\",\"ekologiczny \",IF('Harmonogram produkcji '!S142=\"X\",\"nieekologiczny\",IF('Harmonogram produkcji '!T142=\"X\",\"z własnego gospodarstwa\",IF('Harmonogram produkcji '!U142=\"X\",\"ND, uprawa zastana\"))))","v":false},{"$f":"'Harmonogram produkcji '!V142","v":"00:00:00"},{"$f":"'Harmonogram produkcji '!F142","v":"00:00:00"},null,null,null,{"$f":"'Harmonogram produkcji '!Y142","v":0},{"$f":"'Harmonogram produkcji '!Z142","v":0},{"$f":"'Harmonogram produkcji '!W142","v":0},{"$f":"'Harmonogram produkcji '!X142","v":0}]
[{"$f":"'Harmonogram produkcji '!B143","v":0},{"$f":"'Harmonogram produkcji '!C143","v":0},{"$f":"'Harmonogram produkcji '!D143","v":0},{"$f":"'Harmonogram produkcji '!E143","v":0},{"$f":"IF('Harmonogram produkcji '!G143=\"X\",\"z pierwszych 12 miesiecy okresu konwersji\",IF('Harmonogram produkcji '!H143=\"X\",\"W okresie konwersji 2 rok \",IF('Harmonogram produkcji '!I143=\"X\",\"W okresie konwersji 3 rok \",IF('Harmonogram produkcji '!J143=\"X\",\"Ekologiczny \"))))","v":false},{"$f":"'Harmonogram produkcji '!L143","v":0},{"$f":"'Harmonogram produkcji '!M143","v":0},null,{"$f":"'Harmonogram produkcji '!P143","v":0},{"$f":"'Harmonogram produkcji '!Q143","v":0},{"$f":"IF('Harmonogram produkcji '!R143=\"X\",\"ekologiczny \",IF('Harmonogram produkcji '!S143=\"X\",\"nieekologiczny\",IF('Harmonogram produkcji '!T143=\"X\",\"z własnego gospodarstwa\",IF('Harmonogram produkcji '!U143=\"X\",\"ND, uprawa zastana\"))))","v":false},{"$f":"'Harmonogram produkcji '!V143","v":"00:00:00"},{"$f":"'Harmonogram produkcji '!F143","v":"00:00:00"},null,null,null,{"$f":"'Harmonogram produkcji '!Y143","v":0},{"$f":"'Harmonogram produkcji '!Z143","v":0},{"$f":"'Harmonogram produkcji '!W143","v":0},{"$f":"'Harmonogram produkcji '!X143","v":0}]
[{"$f":"'Harmonogram produkcji '!B144","v":0},{"$f":"'Harmonogram produkcji '!C144","v":0},{"$f":"'Harmonogram produkcji '!D144","v":0},{"$f":"'Harmonogram produkcji '!E144","v":0},{"$f":"IF('Harmonogram produkcji '!G144=\"X\",\"z pierwszych 12 miesiecy okresu konwersji\",IF('Harmonogram produkcji '!H144=\"X\",\"W okresie konwersji 2 rok \",IF('Harmonogram produkcji '!I144=\"X\",\"W okresie konwersji 3 rok \",IF('Harmonogram produkcji '!J144=\"X\",\"Ekologiczny \"))))","v":false},{"$f":"'Harmonogram produkcji '!L144","v":0},{"$f":"'Harmonogram produkcji '!M144","v":0},null,{"$f":"'Harmonogram produkcji '!P144","v":0},{"$f":"'Harmonogram produkcji '!Q144","v":0},{"$f":"IF('Harmonogram produkcji '!R144=\"X\",\"ekologiczny \",IF('Harmonogram produkcji '!S144=\"X\",\"nieekologiczny\",IF('Harmonogram produkcji '!T144=\"X\",\"z własnego gospodarstwa\",IF('Harmonogram produkcji '!U144=\"X\",\"ND, uprawa zastana\"))))","v":false},{"$f":"'Harmonogram produkcji '!V144","v":"00:00:00"},{"$f":"'Harmonogram produkcji '!F144","v":"00:00:00"},null,null,null,{"$f":"'Harmonogram produkcji '!Y144","v":0},{"$f":"'Harmonogram produkcji '!Z144","v":0},{"$f":"'Harmonogram produkcji '!W144","v":0},{"$f":"'Harmonogram produkcji '!X144","v":0}]
[{"$f":"'Harmonogram produkcji '!B145","v":0},{"$f":"'Harmonogram produkcji '!C145","v":0},{"$f":"'Harmonogram produkcji '!D145","v":0},{"$f":"'Harmonogram produkcji '!E145","v":0},{"$f":"IF('Harmonogram produkcji '!G145=\"X\",\"z pierwszych 12 miesiecy okresu konwersji\",IF('Harmonogram produkcji '!H145=\"X\",\"W okresie konwersji 2 rok \",IF('Harmonogram produkcji '!I145=\"X\",\"W okresie konwersji 3 rok \",IF('Harmonogram produkcji '!J145=\"X\",\"Ekologiczny \"))))","v":false},{"$f":"'Harmonogram produkcji '!L145","v":0},{"$f":"'Harmonogram produkcji '!M145","v":0},null,{"$f":"'Harmonogram produkcji '!P145","v":0},{"$f":"'Harmonogram produkcji '!Q145","v":0},{"$f":"IF('Harmonogram produkcji '!R145=\"X\",\"ekologiczny \",IF('Harmonogram produkcji '!S145=\"X\",\"nieekologiczny\",IF('Harmonogram produkcji '!T145=\"X\",\"z własnego gospodarstwa\",IF('Harmonogram produkcji '!U145=\"X\",\"ND, uprawa zastana\"))))","v":false},{"$f":"'Harmonogram produkcji '!V145","v":"00:00:00"},{"$f":"'Harmonogram produkcji '!F145","v":"00:00:00"},null,null,null,{"$f":"'Harmonogram produkcji '!Y145","v":0},{"$f":"'Harmonogram produkcji '!Z145","v":0},{"$f":"'Harmonogram produkcji '!W145","v":0},{"$f":"'Harmonogram produkcji '!X145","v":0}]
[{"$f":"'Harmonogram produkcji '!B146","v":0},{"$f":"'Harmonogram produkcji '!C146","v":0},{"$f":"'Harmonogram produkcji '!D146","v":0},{"$f":"'Harmonogram produkcji '!E146","v":0},{"$f":"IF('Harmonogram produkcji '!G146=\"X\",\"z pierwszych 12 miesiecy okresu konwersji\",IF('Harmonogram produkcji '!H146=\"X\",\"W okresie konwersji 2 rok \",IF('Harmonogram produkcji '!I146=\"X\",\"W okresie konwersji 3 rok \",IF('Harmonogram produkcji '!J146=\"X\",\"Ekologiczny \"))))","v":false},{"$f":"'Harmonogram produkcji '!L146","v":0},{"$f":"'Harmonogram produkcji '!M146","v":0},null,{"$f":"'Harmonogram produkcji '!P146","v":0},{"$f":"'Harmonogram produkcji '!Q146","v":0},{"$f":"IF('Harmonogram produkcji '!R146=\"X\",\"ekologiczny \",IF('Harmonogram produkcji '!S146=\"X\",\"nieekologiczny\",IF('Harmonogram produkcji '!T146=\"X\",\"z własnego gospodarstwa\",IF('Harmonogram produkcji '!U146=\"X\",\"ND, uprawa zastana\"))))","v":false},{"$f":"'Harmonogram produkcji '!V146","v":"00:00:00"},{"$f":"'Harmonogram produkcji '!F146","v":"00:00:00"},null,null,null,{"$f":"'Harmonogram produkcji '!Y146","v":0},{"$f":"'Harmonogram produkcji '!Z146","v":0},{"$f":"'Harmonogram produkcji '!W146","v":0},{"$f":"'Harmonogram produkcji '!X146","v":0}]
[{"$f":"'Harmonogram produkcji '!B147","v":0},{"$f":"'Harmonogram produkcji '!C147","v":0},{"$f":"'Harmonogram produkcji '!D147","v":0},{"$f":"'Harmonogram produkcji '!E147","v":0},{"$f":"IF('Harmonogram produkcji '!G147=\"X\",\"z pierwszych 12 miesiecy okresu konwersji\",IF('Harmonogram produkcji '!H147=\"X\",\"W okresie konwersji 2 rok \",IF('Harmonogram produkcji '!I147=\"X\",\"W okresie konwersji 3 rok \",IF('Harmonogram produkcji '!J147=\"X\",\"Ekologiczny \"))))","v":false},{"$f":"'Harmonogram produkcji '!L147","v":0},{"$f":"'Harmonogram produkcji '!M147","v":0},null,{"$f":"'Harmonogram produkcji '!P147","v":0},{"$f":"'Harmonogram produkcji '!Q147","v":0},{"$f":"IF('Harmonogram produkcji '!R147=\"X\",\"ekologiczny \",IF('Harmonogram produkcji '!S147=\"X\",\"nieekologiczny\",IF('Harmonogram produkcji '!T147=\"X\",\"z własnego gospodarstwa\",IF('Harmonogram produkcji '!U147=\"X\",\"ND, uprawa zastana\"))))","v":false},{"$f":"'Harmonogram produkcji '!V147","v":"00:00:00"},{"$f":"'Harmonogram produkcji '!F147","v":"00:00:00"},null,null,null,{"$f":"'Harmonogram produkcji '!Y147","v":0},{"$f":"'Harmonogram produkcji '!Z147","v":0},{"$f":"'Harmonogram produkcji '!W147","v":0},{"$f":"'Harmonogram produkcji '!X147","v":0}]
[{"$f":"'Harmonogram produkcji '!B148","v":0},{"$f":"'Harmonogram produkcji '!C148","v":0},{"$f":"'Harmonogram produkcji '!D148","v":0},{"$f":"'Harmonogram produkcji '!E148","v":0},{"$f":"IF('Harmonogram produkcji '!G148=\"X\",\"z pierwszych 12 miesiecy okresu konwersji\",IF('Harmonogram produkcji '!H148=\"X\",\"W okresie konwersji 2 rok \",IF('Harmonogram produkcji '!I148=\"X\",\"W okresie konwersji 3 rok \",IF('Harmonogram produkcji '!J148=\"X\",\"Ekologiczny \"))))","v":false},{"$f":"'Harmonogram produkcji '!L148","v":0},{"$f":"'Harmonogram produkcji '!M148","v":0},null,{"$f":"'Harmonogram produkcji '!P148","v":0},{"$f":"'Harmonogram produkcji '!Q148","v":0},{"$f":"IF('Harmonogram produkcji '!R148=\"X\",\"ekologiczny \",IF('Harmonogram produkcji '!S148=\"X\",\"nieekologiczny\",IF('Harmonogram produkcji '!T148=\"X\",\"z własnego gospodarstwa\",IF('Harmonogram produkcji '!U148=\"X\",\"ND, uprawa zastana\"))))","v":false},{"$f":"'Harmonogram produkcji '!V148","v":"00:00:00"},{"$f":"'Harmonogram produkcji '!F148","v":"00:00:00"},null,null,null,{"$f":"'Harmonogram produkcji '!Y148","v":0},{"$f":"'Harmonogram produkcji '!Z148","v":0},{"$f":"'Harmonogram produkcji '!W148","v":0},{"$f":"'Harmonogram produkcji '!X148","v":0}]
[{"$f":"'Harmonogram produkcji '!B149","v":0},{"$f":"'Harmonogram produkcji '!C149","v":0},{"$f":"'Harmonogram produkcji '!D149","v":0},{"$f":"'Harmonogram produkcji '!E149","v":0},{"$f":"IF('Harmonogram produkcji '!G149=\"X\",\"z pierwszych 12 miesiecy okresu konwersji\",IF('Harmonogram produkcji '!H149=\"X\",\"W okresie konwersji 2 rok \",IF('Harmonogram produkcji '!I149=\"X\",\"W okresie konwersji 3 rok \",IF('Harmonogram produkcji '!J149=\"X\",\"Ekologiczny \"))))","v":false},{"$f":"'Harmonogram produkcji '!L149","v":0},{"$f":"'Harmonogram produkcji '!M149","v":0},null,{"$f":"'Harmonogram produkcji '!P149","v":0},{"$f":"'Harmonogram produkcji '!Q149","v":0},{"$f":"IF('Harmonogram produkcji '!R149=\"X\",\"ekologiczny \",IF('Harmonogram produkcji '!S149=\"X\",\"nieekologiczny\",IF('Harmonogram produkcji '!T149=\"X\",\"z własnego gospodarstwa\",IF('Harmonogram produkcji '!U149=\"X\",\"ND, uprawa zastana\"))))","v":false},{"$f":"'Harmonogram produkcji '!V149","v":"00:00:00"},{"$f":"'Harmonogram produkcji '!F149","v":"00:00:00"},null,null,null,{"$f":"'Harmonogram produkcji '!Y149","v":0},{"$f":"'Harmonogram produkcji '!Z149","v":0},{"$f":"'Harmonogram produkcji '!W149","v":0},{"$f":"'Harmonogram produkcji '!X149","v":0}]
[{"$f":"'Harmonogram produkcji '!B150","v":0},{"$f":"'Harmonogram produkcji '!C150","v":0},{"$f":"'Harmonogram produkcji '!D150","v":0},{"$f":"'Harmonogram produkcji '!E150","v":0},{"$f":"IF('Harmonogram produkcji '!G150=\"X\",\"z pierwszych 12 miesiecy okresu konwersji\",IF('Harmonogram produkcji '!H150=\"X\",\"W okresie konwersji 2 rok \",IF('Harmonogram produkcji '!I150=\"X\",\"W okresie konwersji 3 rok \",IF('Harmonogram produkcji '!J150=\"X\",\"Ekologiczny \"))))","v":false},{"$f":"'Harmonogram produkcji '!L150","v":0},{"$f":"'Harmonogram produkcji '!M150","v":0},null,{"$f":"'Harmonogram produkcji '!P150","v":0},{"$f":"'Harmonogram produkcji '!Q150","v":0},{"$f":"IF('Harmonogram produkcji '!R150=\"X\",\"ekologiczny \",IF('Harmonogram produkcji '!S150=\"X\",\"nieekologiczny\",IF('Harmonogram produkcji '!T150=\"X\",\"z własnego gospodarstwa\",IF('Harmonogram produkcji '!U150=\"X\",\"ND, uprawa zastana\"))))","v":false},{"$f":"'Harmonogram produkcji '!V150","v":"00:00:00"},{"$f":"'Harmonogram produkcji '!F150","v":"00:00:00"},null,null,null,{"$f":"'Harmonogram produkcji '!Y150","v":0},{"$f":"'Harmonogram produkcji '!Z150","v":0},{"$f":"'Harmonogram produkcji '!W150","v":0},{"$f":"'Harmonogram produkcji '!X150","v":0}]
[{"$f":"'Harmonogram produkcji '!B151","v":0},{"$f":"'Harmonogram produkcji '!C151","v":0},{"$f":"'Harmonogram produkcji '!D151","v":0},{"$f":"'Harmonogram produkcji '!E151","v":0},{"$f":"IF('Harmonogram produkcji '!G151=\"X\",\"z pierwszych 12 miesiecy okresu konwersji\",IF('Harmonogram produkcji '!H151=\"X\",\"W okresie konwersji 2 rok \",IF('Harmonogram produkcji '!I151=\"X\",\"W okresie konwersji 3 rok \",IF('Harmonogram produkcji '!J151=\"X\",\"Ekologiczny \"))))","v":false},{"$f":"'Harmonogram produkcji '!L151","v":0},{"$f":"'Harmonogram produkcji '!M151","v":0},null,{"$f":"'Harmonogram produkcji '!P151","v":0},{"$f":"'Harmonogram produkcji '!Q151","v":0},{"$f":"IF('Harmonogram produkcji '!R151=\"X\",\"ekologiczny \",IF('Harmonogram produkcji '!S151=\"X\",\"nieekologiczny\",IF('Harmonogram produkcji '!T151=\"X\",\"z własnego gospodarstwa\",IF('Harmonogram produkcji '!U151=\"X\",\"ND, uprawa zastana\"))))","v":false},{"$f":"'Harmonogram produkcji '!V151","v":"00:00:00"},{"$f":"'Harmonogram produkcji '!F151","v":"00:00:00"},null,null,null,{"$f":"'Harmonogram produkcji '!Y151","v":0},{"$f":"'Harmonogram produkcji '!Z151","v":0},{"$f":"'Harmonogram produkcji '!W151","v":0},{"$f":"'Harmonogram produkcji '!X151","v":0}]
[{"$f":"'Harmonogram produkcji '!B152","v":0},{"$f":"'Harmonogram produkcji '!C152","v":0},{"$f":"'Harmonogram produkcji '!D152","v":0},{"$f":"'Harmonogram produkcji '!E152","v":0},{"$f":"IF('Harmonogram produkcji '!G152=\"X\",\"z pierwszych 12 miesiecy okresu konwersji\",IF('Harmonogram produkcji '!H152=\"X\",\"W okresie konwersji 2 rok \",IF('Harmonogram produkcji '!I152=\"X\",\"W okresie konwersji 3 rok \",IF('Harmonogram produkcji '!J152=\"X\",\"Ekologiczny \"))))","v":false},{"$f":"'Harmonogram produkcji '!L152","v":0},{"$f":"'Harmonogram produkcji '!M152","v":0},null,{"$f":"'Harmonogram produkcji '!P152","v":0},{"$f":"'Harmonogram produkcji '!Q152","v":0},{"$f":"IF('Harmonogram produkcji '!R152=\"X\",\"ekologiczny \",IF('Harmonogram produkcji '!S152=\"X\",\"nieekologiczny\",IF('Harmonogram produkcji '!T152=\"X\",\"z własnego gospodarstwa\",IF('Harmonogram produkcji '!U152=\"X\",\"ND, uprawa zastana\"))))","v":false},{"$f":"'Harmonogram produkcji '!V152","v":"00:00:00"},{"$f":"'Harmonogram produkcji '!F152","v":"00:00:00"},null,null,null,{"$f":"'Harmonogram produkcji '!Y152","v":0},{"$f":"'Harmonogram produkcji '!Z152","v":0},{"$f":"'Harmonogram produkcji '!W152","v":0},{"$f":"'Harmonogram produkcji '!X152","v":0}]
[{"$f":"'Harmonogram produkcji '!B153","v":0},{"$f":"'Harmonogram produkcji '!C153","v":0},{"$f":"'Harmonogram produkcji '!D153","v":0},{"$f":"'Harmonogram produkcji '!E153","v":0},{"$f":"IF('Harmonogram produkcji '!G153=\"X\",\"z pierwszych 12 miesiecy okresu konwersji\",IF('Harmonogram produkcji '!H153=\"X\",\"W okresie konwersji 2 rok \",IF('Harmonogram produkcji '!I153=\"X\",\"W okresie konwersji 3 rok \",IF('Harmonogram produkcji '!J153=\"X\",\"Ekologiczny \"))))","v":false},{"$f":"'Harmonogram produkcji '!L153","v":0},{"$f":"'Harmonogram produkcji '!M153","v":0},null,{"$f":"'Harmonogram produkcji '!P153","v":0},{"$f":"'Harmonogram produkcji '!Q153","v":0},{"$f":"IF('Harmonogram produkcji '!R153=\"X\",\"ekologiczny \",IF('Harmonogram produkcji '!S153=\"X\",\"nieekologiczny\",IF('Harmonogram produkcji '!T153=\"X\",\"z własnego gospodarstwa\",IF('Harmonogram produkcji '!U153=\"X\",\"ND, uprawa zastana\"))))","v":false},{"$f":"'Harmonogram produkcji '!V153","v":"00:00:00"},{"$f":"'Harmonogram produkcji '!F153","v":"00:00:00"},null,null,null,{"$f":"'Harmonogram produkcji '!Y153","v":0},{"$f":"'Harmonogram produkcji '!Z153","v":0},{"$f":"'Harmonogram produkcji '!W153","v":0},{"$f":"'Harmonogram produkcji '!X153","v":0}]
[{"$f":"'Harmonogram produkcji '!B154","v":0},{"$f":"'Harmonogram produkcji '!C154","v":0},{"$f":"'Harmonogram produkcji '!D154","v":0},{"$f":"'Harmonogram produkcji '!E154","v":0},{"$f":"IF('Harmonogram produkcji '!G154=\"X\",\"z pierwszych 12 miesiecy okresu konwersji\",IF('Harmonogram produkcji '!H154=\"X\",\"W okresie konwersji 2 rok \",IF('Harmonogram produkcji '!I154=\"X\",\"W okresie konwersji 3 rok \",IF('Harmonogram produkcji '!J154=\"X\",\"Ekologiczny \"))))","v":false},{"$f":"'Harmonogram produkcji '!L154","v":0},{"$f":"'Harmonogram produkcji '!M154","v":0},null,{"$f":"'Harmonogram produkcji '!P154","v":0},{"$f":"'Harmonogram produkcji '!Q154","v":0},{"$f":"IF('Harmonogram produkcji '!R154=\"X\",\"ekologiczny \",IF('Harmonogram produkcji '!S154=\"X\",\"nieekologiczny\",IF('Harmonogram produkcji '!T154=\"X\",\"z własnego gospodarstwa\",IF('Harmonogram produkcji '!U154=\"X\",\"ND, uprawa zastana\"))))","v":false},{"$f":"'Harmonogram produkcji '!V154","v":"00:00:00"},{"$f":"'Harmonogram produkcji '!F154","v":"00:00:00"},null,null,null,{"$f":"'Harmonogram produkcji '!Y154","v":0},{"$f":"'Harmonogram produkcji '!Z154","v":0},{"$f":"'Harmonogram produkcji '!W154","v":0},{"$f":"'Harmonogram produkcji '!X154","v":0}]
[{"$f":"'Harmonogram produkcji '!B155","v":0},{"$f":"'Harmonogram produkcji '!C155","v":0},{"$f":"'Harmonogram produkcji '!D155","v":0},{"$f":"'Harmonogram produkcji '!E155","v":0},{"$f":"IF('Harmonogram produkcji '!G155=\"X\",\"z pierwszych 12 miesiecy okresu konwersji\",IF('Harmonogram produkcji '!H155=\"X\",\"W okresie konwersji 2 rok \",IF('Harmonogram produkcji '!I155=\"X\",\"W okresie konwersji 3 rok \",IF('Harmonogram produkcji '!J155=\"X\",\"Ekologiczny \"))))","v":false},{"$f":"'Harmonogram produkcji '!L155","v":0},{"$f":"'Harmonogram produkcji '!M155","v":0},null,{"$f":"'Harmonogram produkcji '!P155","v":0},{"$f":"'Harmonogram produkcji '!Q155","v":0},{"$f":"IF('Harmonogram produkcji '!R155=\"X\",\"ekologiczny \",IF('Harmonogram produkcji '!S155=\"X\",\"nieekologiczny\",IF('Harmonogram produkcji '!T155=\"X\",\"z własnego gospodarstwa\",IF('Harmonogram produkcji '!U155=\"X\",\"ND, uprawa zastana\"))))","v":false},{"$f":"'Harmonogram produkcji '!V155","v":"00:00:00"},{"$f":"'Harmonogram produkcji '!F155","v":"00:00:00"},null,null,null,{"$f":"'Harmonogram produkcji '!Y155","v":0},{"$f":"'Harmonogram produkcji '!Z155","v":0},{"$f":"'Harmonogram produkcji '!W155","v":0},{"$f":"'Harmonogram produkcji '!X155","v":0}]
[{"$f":"'Harmonogram produkcji '!B156","v":0},{"$f":"'Harmonogram produkcji '!C156","v":0},{"$f":"'Harmonogram produkcji '!D156","v":0},{"$f":"'Harmonogram produkcji '!E156","v":0},{"$f":"IF('Harmonogram produkcji '!G156=\"X\",\"z pierwszych 12 miesiecy okresu konwersji\",IF('Harmonogram produkcji '!H156=\"X\",\"W okresie konwersji 2 rok \",IF('Harmonogram produkcji '!I156=\"X\",\"W okresie konwersji 3 rok \",IF('Harmonogram produkcji '!J156=\"X\",\"Ekologiczny \"))))","v":false},{"$f":"'Harmonogram produkcji '!L156","v":0},{"$f":"'Harmonogram produkcji '!M156","v":0},null,{"$f":"'Harmonogram produkcji '!P156","v":0},{"$f":"'Harmonogram produkcji '!Q156","v":0},{"$f":"IF('Harmonogram produkcji '!R156=\"X\",\"ekologiczny \",IF('Harmonogram produkcji '!S156=\"X\",\"nieekologiczny\",IF('Harmonogram produkcji '!T156=\"X\",\"z własnego gospodarstwa\",IF('Harmonogram produkcji '!U156=\"X\",\"ND, uprawa zastana\"))))","v":false},{"$f":"'Harmonogram produkcji '!V156","v":"00:00:00"},{"$f":"'Harmonogram produkcji '!F156","v":"00:00:00"},null,null,null,{"$f":"'Harmonogram produkcji '!Y156","v":0},{"$f":"'Harmonogram produkcji '!Z156","v":0},{"$f":"'Harmonogram produkcji '!W156","v":0},{"$f":"'Harmonogram produkcji '!X156","v":0}]
[{"$f":"'Harmonogram produkcji '!B157","v":0},{"$f":"'Harmonogram produkcji '!C157","v":0},{"$f":"'Harmonogram produkcji '!D157","v":0},{"$f":"'Harmonogram produkcji '!E157","v":0},{"$f":"IF('Harmonogram produkcji '!G157=\"X\",\"z pierwszych 12 miesiecy okresu konwersji\",IF('Harmonogram produkcji '!H157=\"X\",\"W okresie konwersji 2 rok \",IF('Harmonogram produkcji '!I157=\"X\",\"W okresie konwersji 3 rok \",IF('Harmonogram produkcji '!J157=\"X\",\"Ekologiczny \"))))","v":false},{"$f":"'Harmonogram produkcji '!L157","v":0},{"$f":"'Harmonogram produkcji '!M157","v":0},null,{"$f":"'Harmonogram produkcji '!P157","v":0},{"$f":"'Harmonogram produkcji '!Q157","v":0},{"$f":"IF('Harmonogram produkcji '!R157=\"X\",\"ekologiczny \",IF('Harmonogram produkcji '!S157=\"X\",\"nieekologiczny\",IF('Harmonogram produkcji '!T157=\"X\",\"z własnego gospodarstwa\",IF('Harmonogram produkcji '!U157=\"X\",\"ND, uprawa zastana\"))))","v":false},{"$f":"'Harmonogram produkcji '!V157","v":"00:00:00"},{"$f":"'Harmonogram produkcji '!F157","v":"00:00:00"},null,null,null,{"$f":"'Harmonogram produkcji '!Y157","v":0},{"$f":"'Harmonogram produkcji '!Z157","v":0},{"$f":"'Harmonogram produkcji '!W157","v":0},{"$f":"'Harmonogram produkcji '!X157","v":0}]
[{"$f":"'Harmonogram produkcji '!B158","v":0},{"$f":"'Harmonogram produkcji '!C158","v":0},{"$f":"'Harmonogram produkcji '!D158","v":0},{"$f":"'Harmonogram produkcji '!E158","v":0},{"$f":"IF('Harmonogram produkcji '!G158=\"X\",\"z pierwszych 12 miesiecy okresu konwersji\",IF('Harmonogram produkcji '!H158=\"X\",\"W okresie konwersji 2 rok \",IF('Harmonogram produkcji '!I158=\"X\",\"W okresie konwersji 3 rok \",IF('Harmonogram produkcji '!J158=\"X\",\"Ekologiczny \"))))","v":false},{"$f":"'Harmonogram produkcji '!L158","v":0},{"$f":"'Harmonogram produkcji '!M158","v":0},null,{"$f":"'Harmonogram produkcji '!P158","v":0},{"$f":"'Harmonogram produkcji '!Q158","v":0},{"$f":"IF('Harmonogram produkcji '!R158=\"X\",\"ekologiczny \",IF('Harmonogram produkcji '!S158=\"X\",\"nieekologiczny\",IF('Harmonogram produkcji '!T158=\"X\",\"z własnego gospodarstwa\",IF('Harmonogram produkcji '!U158=\"X\",\"ND, uprawa zastana\"))))","v":false},{"$f":"'Harmonogram produkcji '!V158","v":"00:00:00"},{"$f":"'Harmonogram produkcji '!F158","v":"00:00:00"},null,null,null,{"$f":"'Harmonogram produkcji '!Y158","v":0},{"$f":"'Harmonogram produkcji '!Z158","v":0},{"$f":"'Harmonogram produkcji '!W158","v":0},{"$f":"'Harmonogram produkcji '!X158","v":0}]
[{"$f":"'Harmonogram produkcji '!B159","v":0},{"$f":"'Harmonogram produkcji '!C159","v":0},{"$f":"'Harmonogram produkcji '!D159","v":0},{"$f":"'Harmonogram produkcji '!E159","v":0},{"$f":"IF('Harmonogram produkcji '!G159=\"X\",\"z pierwszych 12 miesiecy okresu konwersji\",IF('Harmonogram produkcji '!H159=\"X\",\"W okresie konwersji 2 rok \",IF('Harmonogram produkcji '!I159=\"X\",\"W okresie konwersji 3 rok \",IF('Harmonogram produkcji '!J159=\"X\",\"Ekologiczny \"))))","v":false},{"$f":"'Harmonogram produkcji '!L159","v":0},{"$f":"'Harmonogram produkcji '!M159","v":0},null,{"$f":"'Harmonogram produkcji '!P159","v":0},{"$f":"'Harmonogram produkcji '!Q159","v":0},{"$f":"IF('Harmonogram produkcji '!R159=\"X\",\"ekologiczny \",IF('Harmonogram produkcji '!S159=\"X\",\"nieekologiczny\",IF('Harmonogram produkcji '!T159=\"X\",\"z własnego gospodarstwa\",IF('Harmonogram produkcji '!U159=\"X\",\"ND, uprawa zastana\"))))","v":false},{"$f":"'Harmonogram produkcji '!V159","v":"00:00:00"},{"$f":"'Harmonogram produkcji '!F159","v":"00:00:00"},null,null,null,{"$f":"'Harmonogram produkcji '!Y159","v":0},{"$f":"'Harmonogram produkcji '!Z159","v":0},{"$f":"'Harmonogram produkcji '!W159","v":0},{"$f":"'Harmonogram produkcji '!X159","v":0}]
[{"$f":"'Harmonogram produkcji '!B160","v":0},{"$f":"'Harmonogram produkcji '!C160","v":0},{"$f":"'Harmonogram produkcji '!D160","v":0},{"$f":"'Harmonogram produkcji '!E160","v":0},{"$f":"IF('Harmonogram produkcji '!G160=\"X\",\"z pierwszych 12 miesiecy okresu konwersji\",IF('Harmonogram produkcji '!H160=\"X\",\"W okresie konwersji 2 rok \",IF('Harmonogram produkcji '!I160=\"X\",\"W okresie konwersji 3 rok \",IF('Harmonogram produkcji '!J160=\"X\",\"Ekologiczny \"))))","v":false},{"$f":"'Harmonogram produkcji '!L160","v":0},{"$f":"'Harmonogram produkcji '!M160","v":0},null,{"$f":"'Harmonogram produkcji '!P160","v":0},{"$f":"'Harmonogram produkcji '!Q160","v":0},{"$f":"IF('Harmonogram produkcji '!R160=\"X\",\"ekologiczny \",IF('Harmonogram produkcji '!S160=\"X\",\"nieekologiczny\",IF('Harmonogram produkcji '!T160=\"X\",\"z własnego gospodarstwa\",IF('Harmonogram produkcji '!U160=\"X\",\"ND, uprawa zastana\"))))","v":false},{"$f":"'Harmonogram produkcji '!V160","v":"00:00:00"},{"$f":"'Harmonogram produkcji '!F160","v":"00:00:00"},null,null,null,{"$f":"'Harmonogram produkcji '!Y160","v":0},{"$f":"'Harmonogram produkcji '!Z160","v":0},{"$f":"'Harmonogram produkcji '!W160","v":0},{"$f":"'Harmonogram produkcji '!X160","v":0}]
[{"$f":"'Harmonogram produkcji '!B161","v":0},{"$f":"'Harmonogram produkcji '!C161","v":0},{"$f":"'Harmonogram produkcji '!D161","v":0},{"$f":"'Harmonogram produkcji '!E161","v":0},{"$f":"IF('Harmonogram produkcji '!G161=\"X\",\"z pierwszych 12 miesiecy okresu konwersji\",IF('Harmonogram produkcji '!H161=\"X\",\"W okresie konwersji 2 rok \",IF('Harmonogram produkcji '!I161=\"X\",\"W okresie konwersji 3 rok \",IF('Harmonogram produkcji '!J161=\"X\",\"Ekologiczny \"))))","v":false},{"$f":"'Harmonogram produkcji '!L161","v":0},{"$f":"'Harmonogram produkcji '!M161","v":0},null,{"$f":"'Harmonogram produkcji '!P161","v":0},{"$f":"'Harmonogram produkcji '!Q161","v":0},{"$f":"IF('Harmonogram produkcji '!R161=\"X\",\"ekologiczny \",IF('Harmonogram produkcji '!S161=\"X\",\"nieekologiczny\",IF('Harmonogram produkcji '!T161=\"X\",\"z własnego gospodarstwa\",IF('Harmonogram produkcji '!U161=\"X\",\"ND, uprawa zastana\"))))","v":false},{"$f":"'Harmonogram produkcji '!V161","v":"00:00:00"},{"$f":"'Harmonogram produkcji '!F161","v":"00:00:00"},null,null,null,{"$f":"'Harmonogram produkcji '!Y161","v":0},{"$f":"'Harmonogram produkcji '!Z161","v":0},{"$f":"'Harmonogram produkcji '!W161","v":0},{"$f":"'Harmonogram produkcji '!X161","v":0}]
[{"$f":"'Harmonogram produkcji '!B162","v":0},{"$f":"'Harmonogram produkcji '!C162","v":0},{"$f":"'Harmonogram produkcji '!D162","v":0},{"$f":"'Harmonogram produkcji '!E162","v":0},{"$f":"IF('Harmonogram produkcji '!G162=\"X\",\"z pierwszych 12 miesiecy okresu konwersji\",IF('Harmonogram produkcji '!H162=\"X\",\"W okresie konwersji 2 rok \",IF('Harmonogram produkcji '!I162=\"X\",\"W okresie konwersji 3 rok \",IF('Harmonogram produkcji '!J162=\"X\",\"Ekologiczny \"))))","v":false},{"$f":"'Harmonogram produkcji '!L162","v":0},{"$f":"'Harmonogram produkcji '!M162","v":0},null,{"$f":"'Harmonogram produkcji '!P162","v":0},{"$f":"'Harmonogram produkcji '!Q162","v":0},{"$f":"IF('Harmonogram produkcji '!R162=\"X\",\"ekologiczny \",IF('Harmonogram produkcji '!S162=\"X\",\"nieekologiczny\",IF('Harmonogram produkcji '!T162=\"X\",\"z własnego gospodarstwa\",IF('Harmonogram produkcji '!U162=\"X\",\"ND, uprawa zastana\"))))","v":false},{"$f":"'Harmonogram produkcji '!V162","v":"00:00:00"},{"$f":"'Harmonogram produkcji '!F162","v":"00:00:00"},null,null,null,{"$f":"'Harmonogram produkcji '!Y162","v":0},{"$f":"'Harmonogram produkcji '!Z162","v":0},{"$f":"'Harmonogram produkcji '!W162","v":0},{"$f":"'Harmonogram produkcji '!X162","v":0}]
[{"$f":"'Harmonogram produkcji '!B163","v":0},{"$f":"'Harmonogram produkcji '!C163","v":0},{"$f":"'Harmonogram produkcji '!D163","v":0},{"$f":"'Harmonogram produkcji '!E163","v":0},{"$f":"IF('Harmonogram produkcji '!G163=\"X\",\"z pierwszych 12 miesiecy okresu konwersji\",IF('Harmonogram produkcji '!H163=\"X\",\"W okresie konwersji 2 rok \",IF('Harmonogram produkcji '!I163=\"X\",\"W okresie konwersji 3 rok \",IF('Harmonogram produkcji '!J163=\"X\",\"Ekologiczny \"))))","v":false},{"$f":"'Harmonogram produkcji '!L163","v":0},{"$f":"'Harmonogram produkcji '!M163","v":0},null,{"$f":"'Harmonogram produkcji '!P163","v":0},{"$f":"'Harmonogram produkcji '!Q163","v":0},{"$f":"IF('Harmonogram produkcji '!R163=\"X\",\"ekologiczny \",IF('Harmonogram produkcji '!S163=\"X\",\"nieekologiczny\",IF('Harmonogram produkcji '!T163=\"X\",\"z własnego gospodarstwa\",IF('Harmonogram produkcji '!U163=\"X\",\"ND, uprawa zastana\"))))","v":false},{"$f":"'Harmonogram produkcji '!V163","v":"00:00:00"},{"$f":"'Harmonogram produkcji '!F163","v":"00:00:00"},null,null,null,{"$f":"'Harmonogram produkcji '!Y163","v":0},{"$f":"'Harmonogram produkcji '!Z163","v":0},{"$f":"'Harmonogram produkcji '!W163","v":0},{"$f":"'Harmonogram produkcji '!X163","v":0}]
[{"$f":"'Harmonogram produkcji '!B164","v":0},{"$f":"'Harmonogram produkcji '!C164","v":0},{"$f":"'Harmonogram produkcji '!D164","v":0},{"$f":"'Harmonogram produkcji '!E164","v":0},{"$f":"IF('Harmonogram produkcji '!G164=\"X\",\"z pierwszych 12 miesiecy okresu konwersji\",IF('Harmonogram produkcji '!H164=\"X\",\"W okresie konwersji 2 rok \",IF('Harmonogram produkcji '!I164=\"X\",\"W okresie konwersji 3 rok \",IF('Harmonogram produkcji '!J164=\"X\",\"Ekologiczny \"))))","v":false},{"$f":"'Harmonogram produkcji '!L164","v":0},{"$f":"'Harmonogram produkcji '!M164","v":0},null,{"$f":"'Harmonogram produkcji '!P164","v":0},{"$f":"'Harmonogram produkcji '!Q164","v":0},{"$f":"IF('Harmonogram produkcji '!R164=\"X\",\"ekologiczny \",IF('Harmonogram produkcji '!S164=\"X\",\"nieekologiczny\",IF('Harmonogram produkcji '!T164=\"X\",\"z własnego gospodarstwa\",IF('Harmonogram produkcji '!U164=\"X\",\"ND, uprawa zastana\"))))","v":false},{"$f":"'Harmonogram produkcji '!V164","v":"00:00:00"},{"$f":"'Harmonogram produkcji '!F164","v":"00:00:00"},null,null,null,{"$f":"'Harmonogram produkcji '!Y164","v":0},{"$f":"'Harmonogram produkcji '!Z164","v":0},{"$f":"'Harmonogram produkcji '!W164","v":0},{"$f":"'Harmonogram produkcji '!X164","v":0}]
[{"$f":"'Harmonogram produkcji '!B165","v":0},{"$f":"'Harmonogram produkcji '!C165","v":0},{"$f":"'Harmonogram produkcji '!D165","v":0},{"$f":"'Harmonogram produkcji '!E165","v":0},{"$f":"IF('Harmonogram produkcji '!G165=\"X\",\"z pierwszych 12 miesiecy okresu konwersji\",IF('Harmonogram produkcji '!H165=\"X\",\"W okresie konwersji 2 rok \",IF('Harmonogram produkcji '!I165=\"X\",\"W okresie konwersji 3 rok \",IF('Harmonogram produkcji '!J165=\"X\",\"Ekologiczny \"))))","v":false},{"$f":"'Harmonogram produkcji '!L165","v":0},{"$f":"'Harmonogram produkcji '!M165","v":0},null,{"$f":"'Harmonogram produkcji '!P165","v":0},{"$f":"'Harmonogram produkcji '!Q165","v":0},{"$f":"IF('Harmonogram produkcji '!R165=\"X\",\"ekologiczny \",IF('Harmonogram produkcji '!S165=\"X\",\"nieekologiczny\",IF('Harmonogram produkcji '!T165=\"X\",\"z własnego gospodarstwa\",IF('Harmonogram produkcji '!U165=\"X\",\"ND, uprawa zastana\"))))","v":false},{"$f":"'Harmonogram produkcji '!V165","v":"00:00:00"},{"$f":"'Harmonogram produkcji '!F165","v":"00:00:00"},null,null,null,{"$f":"'Harmonogram produkcji '!Y165","v":0},{"$f":"'Harmonogram produkcji '!Z165","v":0},{"$f":"'Harmonogram produkcji '!W165","v":0},{"$f":"'Harmonogram produkcji '!X165","v":0}]
[{"$f":"'Harmonogram produkcji '!B166","v":0},{"$f":"'Harmonogram produkcji '!C166","v":0},{"$f":"'Harmonogram produkcji '!D166","v":0},{"$f":"'Harmonogram produkcji '!E166","v":0},{"$f":"IF('Harmonogram produkcji '!G166=\"X\",\"z pierwszych 12 miesiecy okresu konwersji\",IF('Harmonogram produkcji '!H166=\"X\",\"W okresie konwersji 2 rok \",IF('Harmonogram produkcji '!I166=\"X\",\"W okresie konwersji 3 rok \",IF('Harmonogram produkcji '!J166=\"X\",\"Ekologiczny \"))))","v":false},{"$f":"'Harmonogram produkcji '!L166","v":0},{"$f":"'Harmonogram produkcji '!M166","v":0},null,{"$f":"'Harmonogram produkcji '!P166","v":0},{"$f":"'Harmonogram produkcji '!Q166","v":0},{"$f":"IF('Harmonogram produkcji '!R166=\"X\",\"ekologiczny \",IF('Harmonogram produkcji '!S166=\"X\",\"nieekologiczny\",IF('Harmonogram produkcji '!T166=\"X\",\"z własnego gospodarstwa\",IF('Harmonogram produkcji '!U166=\"X\",\"ND, uprawa zastana\"))))","v":false},{"$f":"'Harmonogram produkcji '!V166","v":"00:00:00"},{"$f":"'Harmonogram produkcji '!F166","v":"00:00:00"},null,null,null,{"$f":"'Harmonogram produkcji '!Y166","v":0},{"$f":"'Harmonogram produkcji '!Z166","v":0},{"$f":"'Harmonogram produkcji '!W166","v":0},{"$f":"'Harmonogram produkcji '!X166","v":0}]
[{"$f":"'Harmonogram produkcji '!B167","v":0},{"$f":"'Harmonogram produkcji '!C167","v":0},{"$f":"'Harmonogram produkcji '!D167","v":0},{"$f":"'Harmonogram produkcji '!E167","v":0},{"$f":"IF('Harmonogram produkcji '!G167=\"X\",\"z pierwszych 12 miesiecy okresu konwersji\",IF('Harmonogram produkcji '!H167=\"X\",\"W okresie konwersji 2 rok \",IF('Harmonogram produkcji '!I167=\"X\",\"W okresie konwersji 3 rok \",IF('Harmonogram produkcji '!J167=\"X\",\"Ekologiczny \"))))","v":false},{"$f":"'Harmonogram produkcji '!L167","v":0},{"$f":"'Harmonogram produkcji '!M167","v":0},null,{"$f":"'Harmonogram produkcji '!P167","v":0},{"$f":"'Harmonogram produkcji '!Q167","v":0},{"$f":"IF('Harmonogram produkcji '!R167=\"X\",\"ekologiczny \",IF('Harmonogram produkcji '!S167=\"X\",\"nieekologiczny\",IF('Harmonogram produkcji '!T167=\"X\",\"z własnego gospodarstwa\",IF('Harmonogram produkcji '!U167=\"X\",\"ND, uprawa zastana\"))))","v":false},{"$f":"'Harmonogram produkcji '!V167","v":"00:00:00"},{"$f":"'Harmonogram produkcji '!F167","v":"00:00:00"},null,null,null,{"$f":"'Harmonogram produkcji '!Y167","v":0},{"$f":"'Harmonogram produkcji '!Z167","v":0},{"$f":"'Harmonogram produkcji '!W167","v":0},{"$f":"'Harmonogram produkcji '!X167","v":0}]
[{"$f":"'Harmonogram produkcji '!B168","v":0},{"$f":"'Harmonogram produkcji '!C168","v":0},{"$f":"'Harmonogram produkcji '!D168","v":0},{"$f":"'Harmonogram produkcji '!E168","v":0},{"$f":"IF('Harmonogram produkcji '!G168=\"X\",\"z pierwszych 12 miesiecy okresu konwersji\",IF('Harmonogram produkcji '!H168=\"X\",\"W okresie konwersji 2 rok \",IF('Harmonogram produkcji '!I168=\"X\",\"W okresie konwersji 3 rok \",IF('Harmonogram produkcji '!J168=\"X\",\"Ekologiczny \"))))","v":false},{"$f":"'Harmonogram produkcji '!L168","v":0},{"$f":"'Harmonogram produkcji '!M168","v":0},null,{"$f":"'Harmonogram produkcji '!P168","v":0},{"$f":"'Harmonogram produkcji '!Q168","v":0},{"$f":"IF('Harmonogram produkcji '!R168=\"X\",\"ekologiczny \",IF('Harmonogram produkcji '!S168=\"X\",\"nieekologiczny\",IF('Harmonogram produkcji '!T168=\"X\",\"z własnego gospodarstwa\",IF('Harmonogram produkcji '!U168=\"X\",\"ND, uprawa zastana\"))))","v":false},{"$f":"'Harmonogram produkcji '!V168","v":"00:00:00"},{"$f":"'Harmonogram produkcji '!F168","v":"00:00:00"},null,null,null,{"$f":"'Harmonogram produkcji '!Y168","v":0},{"$f":"'Harmonogram produkcji '!Z168","v":0},{"$f":"'Harmonogram produkcji '!W168","v":0},{"$f":"'Harmonogram produkcji '!X168","v":0}]
[{"$f":"'Harmonogram produkcji '!B169","v":0},{"$f":"'Harmonogram produkcji '!C169","v":0},{"$f":"'Harmonogram produkcji '!D169","v":0},{"$f":"'Harmonogram produkcji '!E169","v":0},{"$f":"IF('Harmonogram produkcji '!G169=\"X\",\"z pierwszych 12 miesiecy okresu konwersji\",IF('Harmonogram produkcji '!H169=\"X\",\"W okresie konwersji 2 rok \",IF('Harmonogram produkcji '!I169=\"X\",\"W okresie konwersji 3 rok \",IF('Harmonogram produkcji '!J169=\"X\",\"Ekologiczny \"))))","v":false},{"$f":"'Harmonogram produkcji '!L169","v":0},{"$f":"'Harmonogram produkcji '!M169","v":0},null,{"$f":"'Harmonogram produkcji '!P169","v":0},{"$f":"'Harmonogram produkcji '!Q169","v":0},{"$f":"IF('Harmonogram produkcji '!R169=\"X\",\"ekologiczny \",IF('Harmonogram produkcji '!S169=\"X\",\"nieekologiczny\",IF('Harmonogram produkcji '!T169=\"X\",\"z własnego gospodarstwa\",IF('Harmonogram produkcji '!U169=\"X\",\"ND, uprawa zastana\"))))","v":false},{"$f":"'Harmonogram produkcji '!V169","v":"00:00:00"},{"$f":"'Harmonogram produkcji '!F169","v":"00:00:00"},null,null,null,{"$f":"'Harmonogram produkcji '!Y169","v":0},{"$f":"'Harmonogram produkcji '!Z169","v":0},{"$f":"'Harmonogram produkcji '!W169","v":0},{"$f":"'Harmonogram produkcji '!X169","v":0}]
[{"$f":"'Harmonogram produkcji '!B170","v":0},{"$f":"'Harmonogram produkcji '!C170","v":0},{"$f":"'Harmonogram produkcji '!D170","v":0},{"$f":"'Harmonogram produkcji '!E170","v":0},{"$f":"IF('Harmonogram produkcji '!G170=\"X\",\"z pierwszych 12 miesiecy okresu konwersji\",IF('Harmonogram produkcji '!H170=\"X\",\"W okresie konwersji 2 rok \",IF('Harmonogram produkcji '!I170=\"X\",\"W okresie konwersji 3 rok \",IF('Harmonogram produkcji '!J170=\"X\",\"Ekologiczny \"))))","v":false},{"$f":"'Harmonogram produkcji '!L170","v":0},{"$f":"'Harmonogram produkcji '!M170","v":0},null,{"$f":"'Harmonogram produkcji '!P170","v":0},{"$f":"'Harmonogram produkcji '!Q170","v":0},{"$f":"IF('Harmonogram produkcji '!R170=\"X\",\"ekologiczny \",IF('Harmonogram produkcji '!S170=\"X\",\"nieekologiczny\",IF('Harmonogram produkcji '!T170=\"X\",\"z własnego gospodarstwa\",IF('Harmonogram produkcji '!U170=\"X\",\"ND, uprawa zastana\"))))","v":false},{"$f":"'Harmonogram produkcji '!V170","v":"00:00:00"},{"$f":"'Harmonogram produkcji '!F170","v":"00:00:00"},null,null,null,{"$f":"'Harmonogram produkcji '!Y170","v":0},{"$f":"'Harmonogram produkcji '!Z170","v":0},{"$f":"'Harmonogram produkcji '!W170","v":0},{"$f":"'Harmonogram produkcji '!X170","v":0}]
[{"$f":"'Harmonogram produkcji '!B171","v":0},{"$f":"'Harmonogram produkcji '!C171","v":0},{"$f":"'Harmonogram produkcji '!D171","v":0},{"$f":"'Harmonogram produkcji '!E171","v":0},{"$f":"IF('Harmonogram produkcji '!G171=\"X\",\"z pierwszych 12 miesiecy okresu konwersji\",IF('Harmonogram produkcji '!H171=\"X\",\"W okresie konwersji 2 rok \",IF('Harmonogram produkcji '!I171=\"X\",\"W okresie konwersji 3 rok \",IF('Harmonogram produkcji '!J171=\"X\",\"Ekologiczny \"))))","v":false},{"$f":"'Harmonogram produkcji '!L171","v":0},{"$f":"'Harmonogram produkcji '!M171","v":0},null,{"$f":"'Harmonogram produkcji '!P171","v":0},{"$f":"'Harmonogram produkcji '!Q171","v":0},{"$f":"IF('Harmonogram produkcji '!R171=\"X\",\"ekologiczny \",IF('Harmonogram produkcji '!S171=\"X\",\"nieekologiczny\",IF('Harmonogram produkcji '!T171=\"X\",\"z własnego gospodarstwa\",IF('Harmonogram produkcji '!U171=\"X\",\"ND, uprawa zastana\"))))","v":false},{"$f":"'Harmonogram produkcji '!V171","v":"00:00:00"},{"$f":"'Harmonogram produkcji '!F171","v":"00:00:00"},null,null,null,{"$f":"'Harmonogram produkcji '!Y171","v":0},{"$f":"'Harmonogram produkcji '!Z171","v":0},{"$f":"'Harmonogram produkcji '!W171","v":0},{"$f":"'Harmonogram produkcji '!X171","v":0}]
[{"$f":"'Harmonogram produkcji '!B172","v":0},{"$f":"'Harmonogram produkcji '!C172","v":0},{"$f":"'Harmonogram produkcji '!D172","v":0},{"$f":"'Harmonogram produkcji '!E172","v":0},{"$f":"IF('Harmonogram produkcji '!G172=\"X\",\"z pierwszych 12 miesiecy okresu konwersji\",IF('Harmonogram produkcji '!H172=\"X\",\"W okresie konwersji 2 rok \",IF('Harmonogram produkcji '!I172=\"X\",\"W okresie konwersji 3 rok \",IF('Harmonogram produkcji '!J172=\"X\",\"Ekologiczny \"))))","v":false},{"$f":"'Harmonogram produkcji '!L172","v":0},{"$f":"'Harmonogram produkcji '!M172","v":0},null,{"$f":"'Harmonogram produkcji '!P172","v":0},{"$f":"'Harmonogram produkcji '!Q172","v":0},{"$f":"IF('Harmonogram produkcji '!R172=\"X\",\"ekologiczny \",IF('Harmonogram produkcji '!S172=\"X\",\"nieekologiczny\",IF('Harmonogram produkcji '!T172=\"X\",\"z własnego gospodarstwa\",IF('Harmonogram produkcji '!U172=\"X\",\"ND, uprawa zastana\"))))","v":false},{"$f":"'Harmonogram produkcji '!V172","v":"00:00:00"},{"$f":"'Harmonogram produkcji '!F172","v":"00:00:00"},null,null,null,{"$f":"'Harmonogram produkcji '!Y172","v":0},{"$f":"'Harmonogram produkcji '!Z172","v":0},{"$f":"'Harmonogram produkcji '!W172","v":0},{"$f":"'Harmonogram produkcji '!X172","v":0}]
[{"$f":"'Harmonogram produkcji '!B173","v":0},{"$f":"'Harmonogram produkcji '!C173","v":0},{"$f":"'Harmonogram produkcji '!D173","v":0},{"$f":"'Harmonogram produkcji '!E173","v":0},{"$f":"IF('Harmonogram produkcji '!G173=\"X\",\"z pierwszych 12 miesiecy okresu konwersji\",IF('Harmonogram produkcji '!H173=\"X\",\"W okresie konwersji 2 rok \",IF('Harmonogram produkcji '!I173=\"X\",\"W okresie konwersji 3 rok \",IF('Harmonogram produkcji '!J173=\"X\",\"Ekologiczny \"))))","v":false},{"$f":"'Harmonogram produkcji '!L173","v":0},{"$f":"'Harmonogram produkcji '!M173","v":0},null,{"$f":"'Harmonogram produkcji '!P173","v":0},{"$f":"'Harmonogram produkcji '!Q173","v":0},{"$f":"IF('Harmonogram produkcji '!R173=\"X\",\"ekologiczny \",IF('Harmonogram produkcji '!S173=\"X\",\"nieekologiczny\",IF('Harmonogram produkcji '!T173=\"X\",\"z własnego gospodarstwa\",IF('Harmonogram produkcji '!U173=\"X\",\"ND, uprawa zastana\"))))","v":false},{"$f":"'Harmonogram produkcji '!V173","v":"00:00:00"},{"$f":"'Harmonogram produkcji '!F173","v":"00:00:00"},null,null,null,{"$f":"'Harmonogram produkcji '!Y173","v":0},{"$f":"'Harmonogram produkcji '!Z173","v":0},{"$f":"'Harmonogram produkcji '!W173","v":0},{"$f":"'Harmonogram produkcji '!X173","v":0}]
[{"$f":"'Harmonogram produkcji '!B174","v":0},{"$f":"'Harmonogram produkcji '!C174","v":0},{"$f":"'Harmonogram produkcji '!D174","v":0},{"$f":"'Harmonogram produkcji '!E174","v":0},{"$f":"IF('Harmonogram produkcji '!G174=\"X\",\"z pierwszych 12 miesiecy okresu konwersji\",IF('Harmonogram produkcji '!H174=\"X\",\"W okresie konwersji 2 rok \",IF('Harmonogram produkcji '!I174=\"X\",\"W okresie konwersji 3 rok \",IF('Harmonogram produkcji '!J174=\"X\",\"Ekologiczny \"))))","v":false},{"$f":"'Harmonogram produkcji '!L174","v":0},{"$f":"'Harmonogram produkcji '!M174","v":0},null,{"$f":"'Harmonogram produkcji '!P174","v":0},{"$f":"'Harmonogram produkcji '!Q174","v":0},{"$f":"IF('Harmonogram produkcji '!R174=\"X\",\"ekologiczny \",IF('Harmonogram produkcji '!S174=\"X\",\"nieekologiczny\",IF('Harmonogram produkcji '!T174=\"X\",\"z własnego gospodarstwa\",IF('Harmonogram produkcji '!U174=\"X\",\"ND, uprawa zastana\"))))","v":false},{"$f":"'Harmonogram produkcji '!V174","v":"00:00:00"},{"$f":"'Harmonogram produkcji '!F174","v":"00:00:00"},null,null,null,{"$f":"'Harmonogram produkcji '!Y174","v":0},{"$f":"'Harmonogram produkcji '!Z174","v":0},{"$f":"'Harmonogram produkcji '!W174","v":0},{"$f":"'Harmonogram produkcji '!X174","v":0}]
[{"$f":"'Harmonogram produkcji '!B175","v":0},{"$f":"'Harmonogram produkcji '!C175","v":0},{"$f":"'Harmonogram produkcji '!D175","v":0},{"$f":"'Harmonogram produkcji '!E175","v":0},{"$f":"IF('Harmonogram produkcji '!G175=\"X\",\"z pierwszych 12 miesiecy okresu konwersji\",IF('Harmonogram produkcji '!H175=\"X\",\"W okresie konwersji 2 rok \",IF('Harmonogram produkcji '!I175=\"X\",\"W okresie konwersji 3 rok \",IF('Harmonogram produkcji '!J175=\"X\",\"Ekologiczny \"))))","v":false},{"$f":"'Harmonogram produkcji '!L175","v":0},{"$f":"'Harmonogram produkcji '!M175","v":0},null,{"$f":"'Harmonogram produkcji '!P175","v":0},{"$f":"'Harmonogram produkcji '!Q175","v":0},{"$f":"IF('Harmonogram produkcji '!R175=\"X\",\"ekologiczny \",IF('Harmonogram produkcji '!S175=\"X\",\"nieekologiczny\",IF('Harmonogram produkcji '!T175=\"X\",\"z własnego gospodarstwa\",IF('Harmonogram produkcji '!U175=\"X\",\"ND, uprawa zastana\"))))","v":false},{"$f":"'Harmonogram produkcji '!V175","v":"00:00:00"},{"$f":"'Harmonogram produkcji '!F175","v":"00:00:00"},null,null,null,{"$f":"'Harmonogram produkcji '!Y175","v":0},{"$f":"'Harmonogram produkcji '!Z175","v":0},{"$f":"'Harmonogram produkcji '!W175","v":0},{"$f":"'Harmonogram produkcji '!X175","v":0}]
[{"$f":"'Harmonogram produkcji '!B176","v":0},{"$f":"'Harmonogram produkcji '!C176","v":0},{"$f":"'Harmonogram produkcji '!D176","v":0},{"$f":"'Harmonogram produkcji '!E176","v":0},{"$f":"IF('Harmonogram produkcji '!G176=\"X\",\"z pierwszych 12 miesiecy okresu konwersji\",IF('Harmonogram produkcji '!H176=\"X\",\"W okresie konwersji 2 rok \",IF('Harmonogram produkcji '!I176=\"X\",\"W okresie konwersji 3 rok \",IF('Harmonogram produkcji '!J176=\"X\",\"Ekologiczny \"))))","v":false},{"$f":"'Harmonogram produkcji '!L176","v":0},{"$f":"'Harmonogram produkcji '!M176","v":0},null,{"$f":"'Harmonogram produkcji '!P176","v":0},{"$f":"'Harmonogram produkcji '!Q176","v":0},{"$f":"IF('Harmonogram produkcji '!R176=\"X\",\"ekologiczny \",IF('Harmonogram produkcji '!S176=\"X\",\"nieekologiczny\",IF('Harmonogram produkcji '!T176=\"X\",\"z własnego gospodarstwa\",IF('Harmonogram produkcji '!U176=\"X\",\"ND, uprawa zastana\"))))","v":false},{"$f":"'Harmonogram produkcji '!V176","v":"00:00:00"},{"$f":"'Harmonogram produkcji '!F176","v":"00:00:00"},null,null,null,{"$f":"'Harmonogram produkcji '!Y176","v":0},{"$f":"'Harmonogram produkcji '!Z176","v":0},{"$f":"'Harmonogram produkcji '!W176","v":0},{"$f":"'Harmonogram produkcji '!X176","v":0}]
[{"$f":"'Harmonogram produkcji '!B177","v":0},{"$f":"'Harmonogram produkcji '!C177","v":0},{"$f":"'Harmonogram produkcji '!D177","v":0},{"$f":"'Harmonogram produkcji '!E177","v":0},{"$f":"IF('Harmonogram produkcji '!G177=\"X\",\"z pierwszych 12 miesiecy okresu konwersji\",IF('Harmonogram produkcji '!H177=\"X\",\"W okresie konwersji 2 rok \",IF('Harmonogram produkcji '!I177=\"X\",\"W okresie konwersji 3 rok \",IF('Harmonogram produkcji '!J177=\"X\",\"Ekologiczny \"))))","v":false},{"$f":"'Harmonogram produkcji '!L177","v":0},{"$f":"'Harmonogram produkcji '!M177","v":0},null,{"$f":"'Harmonogram produkcji '!P177","v":0},{"$f":"'Harmonogram produkcji '!Q177","v":0},{"$f":"IF('Harmonogram produkcji '!R177=\"X\",\"ekologiczny \",IF('Harmonogram produkcji '!S177=\"X\",\"nieekologiczny\",IF('Harmonogram produkcji '!T177=\"X\",\"z własnego gospodarstwa\",IF('Harmonogram produkcji '!U177=\"X\",\"ND, uprawa zastana\"))))","v":false},{"$f":"'Harmonogram produkcji '!V177","v":"00:00:00"},{"$f":"'Harmonogram produkcji '!F177","v":"00:00:00"},null,null,null,{"$f":"'Harmonogram produkcji '!Y177","v":0},{"$f":"'Harmonogram produkcji '!Z177","v":0},{"$f":"'Harmonogram produkcji '!W177","v":0},{"$f":"'Harmonogram produkcji '!X177","v":0}]
[{"$f":"'Harmonogram produkcji '!B178","v":0},{"$f":"'Harmonogram produkcji '!C178","v":0},{"$f":"'Harmonogram produkcji '!D178","v":0},{"$f":"'Harmonogram produkcji '!E178","v":0},{"$f":"IF('Harmonogram produkcji '!G178=\"X\",\"z pierwszych 12 miesiecy okresu konwersji\",IF('Harmonogram produkcji '!H178=\"X\",\"W okresie konwersji 2 rok \",IF('Harmonogram produkcji '!I178=\"X\",\"W okresie konwersji 3 rok \",IF('Harmonogram produkcji '!J178=\"X\",\"Ekologiczny \"))))","v":false},{"$f":"'Harmonogram produkcji '!L178","v":0},{"$f":"'Harmonogram produkcji '!M178","v":0},null,{"$f":"'Harmonogram produkcji '!P178","v":0},{"$f":"'Harmonogram produkcji '!Q178","v":0},{"$f":"IF('Harmonogram produkcji '!R178=\"X\",\"ekologiczny \",IF('Harmonogram produkcji '!S178=\"X\",\"nieekologiczny\",IF('Harmonogram produkcji '!T178=\"X\",\"z własnego gospodarstwa\",IF('Harmonogram produkcji '!U178=\"X\",\"ND, uprawa zastana\"))))","v":false},{"$f":"'Harmonogram produkcji '!V178","v":"00:00:00"},{"$f":"'Harmonogram produkcji '!F178","v":"00:00:00"},null,null,null,{"$f":"'Harmonogram produkcji '!Y178","v":0},{"$f":"'Harmonogram produkcji '!Z178","v":0},{"$f":"'Harmonogram produkcji '!W178","v":0},{"$f":"'Harmonogram produkcji '!X178","v":0}]
[{"$f":"'Harmonogram produkcji '!B179","v":0},{"$f":"'Harmonogram produkcji '!C179","v":0},{"$f":"'Harmonogram produkcji '!D179","v":0},{"$f":"'Harmonogram produkcji '!E179","v":0},{"$f":"IF('Harmonogram produkcji '!G179=\"X\",\"z pierwszych 12 miesiecy okresu konwersji\",IF('Harmonogram produkcji '!H179=\"X\",\"W okresie konwersji 2 rok \",IF('Harmonogram produkcji '!I179=\"X\",\"W okresie konwersji 3 rok \",IF('Harmonogram produkcji '!J179=\"X\",\"Ekologiczny \"))))","v":false},{"$f":"'Harmonogram produkcji '!L179","v":0},{"$f":"'Harmonogram produkcji '!M179","v":0},null,{"$f":"'Harmonogram produkcji '!P179","v":0},{"$f":"'Harmonogram produkcji '!Q179","v":0},{"$f":"IF('Harmonogram produkcji '!R179=\"X\",\"ekologiczny \",IF('Harmonogram produkcji '!S179=\"X\",\"nieekologiczny\",IF('Harmonogram produkcji '!T179=\"X\",\"z własnego gospodarstwa\",IF('Harmonogram produkcji '!U179=\"X\",\"ND, uprawa zastana\"))))","v":false},{"$f":"'Harmonogram produkcji '!V179","v":"00:00:00"},{"$f":"'Harmonogram produkcji '!F179","v":"00:00:00"},null,null,null,{"$f":"'Harmonogram produkcji '!Y179","v":0},{"$f":"'Harmonogram produkcji '!Z179","v":0},{"$f":"'Harmonogram produkcji '!W179","v":0},{"$f":"'Harmonogram produkcji '!X179","v":0}]
[{"$f":"'Harmonogram produkcji '!B180","v":0},{"$f":"'Harmonogram produkcji '!C180","v":0},{"$f":"'Harmonogram produkcji '!D180","v":0},{"$f":"'Harmonogram produkcji '!E180","v":0},{"$f":"IF('Harmonogram produkcji '!G180=\"X\",\"z pierwszych 12 miesiecy okresu konwersji\",IF('Harmonogram produkcji '!H180=\"X\",\"W okresie konwersji 2 rok \",IF('Harmonogram produkcji '!I180=\"X\",\"W okresie konwersji 3 rok \",IF('Harmonogram produkcji '!J180=\"X\",\"Ekologiczny \"))))","v":false},{"$f":"'Harmonogram produkcji '!L180","v":0},{"$f":"'Harmonogram produkcji '!M180","v":0},null,{"$f":"'Harmonogram produkcji '!P180","v":0},{"$f":"'Harmonogram produkcji '!Q180","v":0},{"$f":"IF('Harmonogram produkcji '!R180=\"X\",\"ekologiczny \",IF('Harmonogram produkcji '!S180=\"X\",\"nieekologiczny\",IF('Harmonogram produkcji '!T180=\"X\",\"z własnego gospodarstwa\",IF('Harmonogram produkcji '!U180=\"X\",\"ND, uprawa zastana\"))))","v":false},{"$f":"'Harmonogram produkcji '!V180","v":"00:00:00"},{"$f":"'Harmonogram produkcji '!F180","v":"00:00:00"},null,null,null,{"$f":"'Harmonogram produkcji '!Y180","v":0},{"$f":"'Harmonogram produkcji '!Z180","v":0},{"$f":"'Harmonogram produkcji '!W180","v":0},{"$f":"'Harmonogram produkcji '!X180","v":0}]
[{"$f":"'Harmonogram produkcji '!B181","v":0},{"$f":"'Harmonogram produkcji '!C181","v":0},{"$f":"'Harmonogram produkcji '!D181","v":0},{"$f":"'Harmonogram produkcji '!E181","v":0},{"$f":"IF('Harmonogram produkcji '!G181=\"X\",\"z pierwszych 12 miesiecy okresu konwersji\",IF('Harmonogram produkcji '!H181=\"X\",\"W okresie konwersji 2 rok \",IF('Harmonogram produkcji '!I181=\"X\",\"W okresie konwersji 3 rok \",IF('Harmonogram produkcji '!J181=\"X\",\"Ekologiczny \"))))","v":false},{"$f":"'Harmonogram produkcji '!L181","v":0},{"$f":"'Harmonogram produkcji '!M181","v":0},null,{"$f":"'Harmonogram produkcji '!P181","v":0},{"$f":"'Harmonogram produkcji '!Q181","v":0},{"$f":"IF('Harmonogram produkcji '!R181=\"X\",\"ekologiczny \",IF('Harmonogram produkcji '!S181=\"X\",\"nieekologiczny\",IF('Harmonogram produkcji '!T181=\"X\",\"z własnego gospodarstwa\",IF('Harmonogram produkcji '!U181=\"X\",\"ND, uprawa zastana\"))))","v":false},{"$f":"'Harmonogram produkcji '!V181","v":"00:00:00"},{"$f":"'Harmonogram produkcji '!F181","v":"00:00:00"},null,null,null,{"$f":"'Harmonogram produkcji '!Y181","v":0},{"$f":"'Harmonogram produkcji '!Z181","v":0},{"$f":"'Harmonogram produkcji '!W181","v":0},{"$f":"'Harmonogram produkcji '!X181","v":0}]
[{"$f":"'Harmonogram produkcji '!B182","v":0},{"$f":"'Harmonogram produkcji '!C182","v":0},{"$f":"'Harmonogram produkcji '!D182","v":0},{"$f":"'Harmonogram produkcji '!E182","v":0},{"$f":"IF('Harmonogram produkcji '!G182=\"X\",\"z pierwszych 12 miesiecy okresu konwersji\",IF('Harmonogram produkcji '!H182=\"X\",\"W okresie konwersji 2 rok \",IF('Harmonogram produkcji '!I182=\"X\",\"W okresie konwersji 3 rok \",IF('Harmonogram produkcji '!J182=\"X\",\"Ekologiczny \"))))","v":false},{"$f":"'Harmonogram produkcji '!L182","v":0},{"$f":"'Harmonogram produkcji '!M182","v":0},null,{"$f":"'Harmonogram produkcji '!P182","v":0},{"$f":"'Harmonogram produkcji '!Q182","v":0},{"$f":"IF('Harmonogram produkcji '!R182=\"X\",\"ekologiczny \",IF('Harmonogram produkcji '!S182=\"X\",\"nieekologiczny\",IF('Harmonogram produkcji '!T182=\"X\",\"z własnego gospodarstwa\",IF('Harmonogram produkcji '!U182=\"X\",\"ND, uprawa zastana\"))))","v":false},{"$f":"'Harmonogram produkcji '!V182","v":"00:00:00"},{"$f":"'Harmonogram produkcji '!F182","v":"00:00:00"},null,null,null,{"$f":"'Harmonogram produkcji '!Y182","v":0},{"$f":"'Harmonogram produkcji '!Z182","v":0},{"$f":"'Harmonogram produkcji '!W182","v":0},{"$f":"'Harmonogram produkcji '!X182","v":0}]
[{"$f":"'Harmonogram produkcji '!B183","v":0},{"$f":"'Harmonogram produkcji '!C183","v":0},{"$f":"'Harmonogram produkcji '!D183","v":0},{"$f":"'Harmonogram produkcji '!E183","v":0},{"$f":"IF('Harmonogram produkcji '!G183=\"X\",\"z pierwszych 12 miesiecy okresu konwersji\",IF('Harmonogram produkcji '!H183=\"X\",\"W okresie konwersji 2 rok \",IF('Harmonogram produkcji '!I183=\"X\",\"W okresie konwersji 3 rok \",IF('Harmonogram produkcji '!J183=\"X\",\"Ekologiczny \"))))","v":false},{"$f":"'Harmonogram produkcji '!L183","v":0},{"$f":"'Harmonogram produkcji '!M183","v":0},null,{"$f":"'Harmonogram produkcji '!P183","v":0},{"$f":"'Harmonogram produkcji '!Q183","v":0},{"$f":"IF('Harmonogram produkcji '!R183=\"X\",\"ekologiczny \",IF('Harmonogram produkcji '!S183=\"X\",\"nieekologiczny\",IF('Harmonogram produkcji '!T183=\"X\",\"z własnego gospodarstwa\",IF('Harmonogram produkcji '!U183=\"X\",\"ND, uprawa zastana\"))))","v":false},{"$f":"'Harmonogram produkcji '!V183","v":"00:00:00"},{"$f":"'Harmonogram produkcji '!F183","v":"00:00:00"},null,null,null,{"$f":"'Harmonogram produkcji '!Y183","v":0},{"$f":"'Harmonogram produkcji '!Z183","v":0},{"$f":"'Harmonogram produkcji '!W183","v":0},{"$f":"'Harmonogram produkcji '!X183","v":0}]
[{"$f":"'Harmonogram produkcji '!B184","v":0},{"$f":"'Harmonogram produkcji '!C184","v":0},{"$f":"'Harmonogram produkcji '!D184","v":0},{"$f":"'Harmonogram produkcji '!E184","v":0},{"$f":"IF('Harmonogram produkcji '!G184=\"X\",\"z pierwszych 12 miesiecy okresu konwersji\",IF('Harmonogram produkcji '!H184=\"X\",\"W okresie konwersji 2 rok \",IF('Harmonogram produkcji '!I184=\"X\",\"W okresie konwersji 3 rok \",IF('Harmonogram produkcji '!J184=\"X\",\"Ekologiczny \"))))","v":false},{"$f":"'Harmonogram produkcji '!L184","v":0},{"$f":"'Harmonogram produkcji '!M184","v":0},null,{"$f":"'Harmonogram produkcji '!P184","v":0},{"$f":"'Harmonogram produkcji '!Q184","v":0},{"$f":"IF('Harmonogram produkcji '!R184=\"X\",\"ekologiczny \",IF('Harmonogram produkcji '!S184=\"X\",\"nieekologiczny\",IF('Harmonogram produkcji '!T184=\"X\",\"z własnego gospodarstwa\",IF('Harmonogram produkcji '!U184=\"X\",\"ND, uprawa zastana\"))))","v":false},{"$f":"'Harmonogram produkcji '!V184","v":"00:00:00"},{"$f":"'Harmonogram produkcji '!F184","v":"00:00:00"},null,null,null,{"$f":"'Harmonogram produkcji '!Y184","v":0},{"$f":"'Harmonogram produkcji '!Z184","v":0},{"$f":"'Harmonogram produkcji '!W184","v":0},{"$f":"'Harmonogram produkcji '!X184","v":0}]
[{"$f":"'Harmonogram produkcji '!B185","v":0},{"$f":"'Harmonogram produkcji '!C185","v":0},{"$f":"'Harmonogram produkcji '!D185","v":0},{"$f":"'Harmonogram produkcji '!E185","v":0},{"$f":"IF('Harmonogram produkcji '!G185=\"X\",\"z pierwszych 12 miesiecy okresu konwersji\",IF('Harmonogram produkcji '!H185=\"X\",\"W okresie konwersji 2 rok \",IF('Harmonogram produkcji '!I185=\"X\",\"W okresie konwersji 3 rok \",IF('Harmonogram produkcji '!J185=\"X\",\"Ekologiczny \"))))","v":false},{"$f":"'Harmonogram produkcji '!L185","v":0},{"$f":"'Harmonogram produkcji '!M185","v":0},null,{"$f":"'Harmonogram produkcji '!P185","v":0},{"$f":"'Harmonogram produkcji '!Q185","v":0},{"$f":"IF('Harmonogram produkcji '!R185=\"X\",\"ekologiczny \",IF('Harmonogram produkcji '!S185=\"X\",\"nieekologiczny\",IF('Harmonogram produkcji '!T185=\"X\",\"z własnego gospodarstwa\",IF('Harmonogram produkcji '!U185=\"X\",\"ND, uprawa zastana\"))))","v":false},{"$f":"'Harmonogram produkcji '!V185","v":"00:00:00"},{"$f":"'Harmonogram produkcji '!F185","v":"00:00:00"},null,null,null,{"$f":"'Harmonogram produkcji '!Y185","v":0},{"$f":"'Harmonogram produkcji '!Z185","v":0},{"$f":"'Harmonogram produkcji '!W185","v":0},{"$f":"'Harmonogram produkcji '!X185","v":0}]
[{"$f":"'Harmonogram produkcji '!B186","v":0},{"$f":"'Harmonogram produkcji '!C186","v":0},{"$f":"'Harmonogram produkcji '!D186","v":0},{"$f":"'Harmonogram produkcji '!E186","v":0},{"$f":"IF('Harmonogram produkcji '!G186=\"X\",\"z pierwszych 12 miesiecy okresu konwersji\",IF('Harmonogram produkcji '!H186=\"X\",\"W okresie konwersji 2 rok \",IF('Harmonogram produkcji '!I186=\"X\",\"W okresie konwersji 3 rok \",IF('Harmonogram produkcji '!J186=\"X\",\"Ekologiczny \"))))","v":false},{"$f":"'Harmonogram produkcji '!L186","v":0},{"$f":"'Harmonogram produkcji '!M186","v":0},null,{"$f":"'Harmonogram produkcji '!P186","v":0},{"$f":"'Harmonogram produkcji '!Q186","v":0},{"$f":"IF('Harmonogram produkcji '!R186=\"X\",\"ekologiczny \",IF('Harmonogram produkcji '!S186=\"X\",\"nieekologiczny\",IF('Harmonogram produkcji '!T186=\"X\",\"z własnego gospodarstwa\",IF('Harmonogram produkcji '!U186=\"X\",\"ND, uprawa zastana\"))))","v":false},{"$f":"'Harmonogram produkcji '!V186","v":"00:00:00"},{"$f":"'Harmonogram produkcji '!F186","v":"00:00:00"},null,null,null,{"$f":"'Harmonogram produkcji '!Y186","v":0},{"$f":"'Harmonogram produkcji '!Z186","v":0},{"$f":"'Harmonogram produkcji '!W186","v":0},{"$f":"'Harmonogram produkcji '!X186","v":0}]
[{"$f":"'Harmonogram produkcji '!B187","v":0},{"$f":"'Harmonogram produkcji '!C187","v":0},{"$f":"'Harmonogram produkcji '!D187","v":0},{"$f":"'Harmonogram produkcji '!E187","v":0},{"$f":"IF('Harmonogram produkcji '!G187=\"X\",\"z pierwszych 12 miesiecy okresu konwersji\",IF('Harmonogram produkcji '!H187=\"X\",\"W okresie konwersji 2 rok \",IF('Harmonogram produkcji '!I187=\"X\",\"W okresie konwersji 3 rok \",IF('Harmonogram produkcji '!J187=\"X\",\"Ekologiczny \"))))","v":false},{"$f":"'Harmonogram produkcji '!L187","v":0},{"$f":"'Harmonogram produkcji '!M187","v":0},null,{"$f":"'Harmonogram produkcji '!P187","v":0},{"$f":"'Harmonogram produkcji '!Q187","v":0},{"$f":"IF('Harmonogram produkcji '!R187=\"X\",\"ekologiczny \",IF('Harmonogram produkcji '!S187=\"X\",\"nieekologiczny\",IF('Harmonogram produkcji '!T187=\"X\",\"z własnego gospodarstwa\",IF('Harmonogram produkcji '!U187=\"X\",\"ND, uprawa zastana\"))))","v":false},{"$f":"'Harmonogram produkcji '!V187","v":"00:00:00"},{"$f":"'Harmonogram produkcji '!F187","v":"00:00:00"},null,null,null,{"$f":"'Harmonogram produkcji '!Y187","v":0},{"$f":"'Harmonogram produkcji '!Z187","v":0},{"$f":"'Harmonogram produkcji '!W187","v":0},{"$f":"'Harmonogram produkcji '!X187","v":0}]
[{"$f":"'Harmonogram produkcji '!B188","v":0},{"$f":"'Harmonogram produkcji '!C188","v":0},{"$f":"'Harmonogram produkcji '!D188","v":0},{"$f":"'Harmonogram produkcji '!E188","v":0},{"$f":"IF('Harmonogram produkcji '!G188=\"X\",\"z pierwszych 12 miesiecy okresu konwersji\",IF('Harmonogram produkcji '!H188=\"X\",\"W okresie konwersji 2 rok \",IF('Harmonogram produkcji '!I188=\"X\",\"W okresie konwersji 3 rok \",IF('Harmonogram produkcji '!J188=\"X\",\"Ekologiczny \"))))","v":false},{"$f":"'Harmonogram produkcji '!L188","v":0},{"$f":"'Harmonogram produkcji '!M188","v":0},null,{"$f":"'Harmonogram produkcji '!P188","v":0},{"$f":"'Harmonogram produkcji '!Q188","v":0},{"$f":"IF('Harmonogram produkcji '!R188=\"X\",\"ekologiczny \",IF('Harmonogram produkcji '!S188=\"X\",\"nieekologiczny\",IF('Harmonogram produkcji '!T188=\"X\",\"z własnego gospodarstwa\",IF('Harmonogram produkcji '!U188=\"X\",\"ND, uprawa zastana\"))))","v":false},{"$f":"'Harmonogram produkcji '!V188","v":"00:00:00"},{"$f":"'Harmonogram produkcji '!F188","v":"00:00:00"},null,null,null,{"$f":"'Harmonogram produkcji '!Y188","v":0},{"$f":"'Harmonogram produkcji '!Z188","v":0},{"$f":"'Harmonogram produkcji '!W188","v":0},{"$f":"'Harmonogram produkcji '!X188","v":0}]
[{"$f":"'Harmonogram produkcji '!B189","v":0},{"$f":"'Harmonogram produkcji '!C189","v":0},{"$f":"'Harmonogram produkcji '!D189","v":0},{"$f":"'Harmonogram produkcji '!E189","v":0},{"$f":"IF('Harmonogram produkcji '!G189=\"X\",\"z pierwszych 12 miesiecy okresu konwersji\",IF('Harmonogram produkcji '!H189=\"X\",\"W okresie konwersji 2 rok \",IF('Harmonogram produkcji '!I189=\"X\",\"W okresie konwersji 3 rok \",IF('Harmonogram produkcji '!J189=\"X\",\"Ekologiczny \"))))","v":false},{"$f":"'Harmonogram produkcji '!L189","v":0},{"$f":"'Harmonogram produkcji '!M189","v":0},null,{"$f":"'Harmonogram produkcji '!P189","v":0},{"$f":"'Harmonogram produkcji '!Q189","v":0},{"$f":"IF('Harmonogram produkcji '!R189=\"X\",\"ekologiczny \",IF('Harmonogram produkcji '!S189=\"X\",\"nieekologiczny\",IF('Harmonogram produkcji '!T189=\"X\",\"z własnego gospodarstwa\",IF('Harmonogram produkcji '!U189=\"X\",\"ND, uprawa zastana\"))))","v":false},{"$f":"'Harmonogram produkcji '!V189","v":"00:00:00"},{"$f":"'Harmonogram produkcji '!F189","v":"00:00:00"},null,null,null,{"$f":"'Harmonogram produkcji '!Y189","v":0},{"$f":"'Harmonogram produkcji '!Z189","v":0},{"$f":"'Harmonogram produkcji '!W189","v":0},{"$f":"'Harmonogram produkcji '!X189","v":0}]
[{"$f":"'Harmonogram produkcji '!B190","v":0},{"$f":"'Harmonogram produkcji '!C190","v":0},{"$f":"'Harmonogram produkcji '!D190","v":0},{"$f":"'Harmonogram produkcji '!E190","v":0},{"$f":"IF('Harmonogram produkcji '!G190=\"X\",\"z pierwszych 12 miesiecy okresu konwersji\",IF('Harmonogram produkcji '!H190=\"X\",\"W okresie konwersji 2 rok \",IF('Harmonogram produkcji '!I190=\"X\",\"W okresie konwersji 3 rok \",IF('Harmonogram produkcji '!J190=\"X\",\"Ekologiczny \"))))","v":false},{"$f":"'Harmonogram produkcji '!L190","v":0},{"$f":"'Harmonogram produkcji '!M190","v":0},null,{"$f":"'Harmonogram produkcji '!P190","v":0},{"$f":"'Harmonogram produkcji '!Q190","v":0},{"$f":"IF('Harmonogram produkcji '!R190=\"X\",\"ekologiczny \",IF('Harmonogram produkcji '!S190=\"X\",\"nieekologiczny\",IF('Harmonogram produkcji '!T190=\"X\",\"z własnego gospodarstwa\",IF('Harmonogram produkcji '!U190=\"X\",\"ND, uprawa zastana\"))))","v":false},{"$f":"'Harmonogram produkcji '!V190","v":"00:00:00"},{"$f":"'Harmonogram produkcji '!F190","v":"00:00:00"},null,null,null,{"$f":"'Harmonogram produkcji '!Y190","v":0},{"$f":"'Harmonogram produkcji '!Z190","v":0},{"$f":"'Harmonogram produkcji '!W190","v":0},{"$f":"'Harmonogram produkcji '!X190","v":0}]
[{"$f":"'Harmonogram produkcji '!B191","v":0},{"$f":"'Harmonogram produkcji '!C191","v":0},{"$f":"'Harmonogram produkcji '!D191","v":0},{"$f":"'Harmonogram produkcji '!E191","v":0},{"$f":"IF('Harmonogram produkcji '!G191=\"X\",\"z pierwszych 12 miesiecy okresu konwersji\",IF('Harmonogram produkcji '!H191=\"X\",\"W okresie konwersji 2 rok \",IF('Harmonogram produkcji '!I191=\"X\",\"W okresie konwersji 3 rok \",IF('Harmonogram produkcji '!J191=\"X\",\"Ekologiczny \"))))","v":false},{"$f":"'Harmonogram produkcji '!L191","v":0},{"$f":"'Harmonogram produkcji '!M191","v":0},null,{"$f":"'Harmonogram produkcji '!P191","v":0},{"$f":"'Harmonogram produkcji '!Q191","v":0},{"$f":"IF('Harmonogram produkcji '!R191=\"X\",\"ekologiczny \",IF('Harmonogram produkcji '!S191=\"X\",\"nieekologiczny\",IF('Harmonogram produkcji '!T191=\"X\",\"z własnego gospodarstwa\",IF('Harmonogram produkcji '!U191=\"X\",\"ND, uprawa zastana\"))))","v":false},{"$f":"'Harmonogram produkcji '!V191","v":"00:00:00"},{"$f":"'Harmonogram produkcji '!F191","v":"00:00:00"},null,null,null,{"$f":"'Harmonogram produkcji '!Y191","v":0},{"$f":"'Harmonogram produkcji '!Z191","v":0},{"$f":"'Harmonogram produkcji '!W191","v":0},{"$f":"'Harmonogram produkcji '!X191","v":0}]
[{"$f":"'Harmonogram produkcji '!B192","v":0},{"$f":"'Harmonogram produkcji '!C192","v":0},{"$f":"'Harmonogram produkcji '!D192","v":0},{"$f":"'Harmonogram produkcji '!E192","v":0},{"$f":"IF('Harmonogram produkcji '!G192=\"X\",\"z pierwszych 12 miesiecy okresu konwersji\",IF('Harmonogram produkcji '!H192=\"X\",\"W okresie konwersji 2 rok \",IF('Harmonogram produkcji '!I192=\"X\",\"W okresie konwersji 3 rok \",IF('Harmonogram produkcji '!J192=\"X\",\"Ekologiczny \"))))","v":false},{"$f":"'Harmonogram produkcji '!L192","v":0},{"$f":"'Harmonogram produkcji '!M192","v":0},null,{"$f":"'Harmonogram produkcji '!P192","v":0},{"$f":"'Harmonogram produkcji '!Q192","v":0},{"$f":"IF('Harmonogram produkcji '!R192=\"X\",\"ekologiczny \",IF('Harmonogram produkcji '!S192=\"X\",\"nieekologiczny\",IF('Harmonogram produkcji '!T192=\"X\",\"z własnego gospodarstwa\",IF('Harmonogram produkcji '!U192=\"X\",\"ND, uprawa zastana\"))))","v":false},{"$f":"'Harmonogram produkcji '!V192","v":"00:00:00"},{"$f":"'Harmonogram produkcji '!F192","v":"00:00:00"},null,null,null,{"$f":"'Harmonogram produkcji '!Y192","v":0},{"$f":"'Harmonogram produkcji '!Z192","v":0},{"$f":"'Harmonogram produkcji '!W192","v":0},{"$f":"'Harmonogram produkcji '!X192","v":0}]
[{"$f":"'Harmonogram produkcji '!B193","v":0},{"$f":"'Harmonogram produkcji '!C193","v":0},{"$f":"'Harmonogram produkcji '!D193","v":0},{"$f":"'Harmonogram produkcji '!E193","v":0},{"$f":"IF('Harmonogram produkcji '!G193=\"X\",\"z pierwszych 12 miesiecy okresu konwersji\",IF('Harmonogram produkcji '!H193=\"X\",\"W okresie konwersji 2 rok \",IF('Harmonogram produkcji '!I193=\"X\",\"W okresie konwersji 3 rok \",IF('Harmonogram produkcji '!J193=\"X\",\"Ekologiczny \"))))","v":false},{"$f":"'Harmonogram produkcji '!L193","v":0},{"$f":"'Harmonogram produkcji '!M193","v":0},null,{"$f":"'Harmonogram produkcji '!P193","v":0},{"$f":"'Harmonogram produkcji '!Q193","v":0},{"$f":"IF('Harmonogram produkcji '!R193=\"X\",\"ekologiczny \",IF('Harmonogram produkcji '!S193=\"X\",\"nieekologiczny\",IF('Harmonogram produkcji '!T193=\"X\",\"z własnego gospodarstwa\",IF('Harmonogram produkcji '!U193=\"X\",\"ND, uprawa zastana\"))))","v":false},{"$f":"'Harmonogram produkcji '!V193","v":"00:00:00"},{"$f":"'Harmonogram produkcji '!F193","v":"00:00:00"},null,null,null,{"$f":"'Harmonogram produkcji '!Y193","v":0},{"$f":"'Harmonogram produkcji '!Z193","v":0},{"$f":"'Harmonogram produkcji '!W193","v":0},{"$f":"'Harmonogram produkcji '!X193","v":0}]
[{"$f":"'Harmonogram produkcji '!B194","v":0},{"$f":"'Harmonogram produkcji '!C194","v":0},{"$f":"'Harmonogram produkcji '!D194","v":0},{"$f":"'Harmonogram produkcji '!E194","v":0},{"$f":"IF('Harmonogram produkcji '!G194=\"X\",\"z pierwszych 12 miesiecy okresu konwersji\",IF('Harmonogram produkcji '!H194=\"X\",\"W okresie konwersji 2 rok \",IF('Harmonogram produkcji '!I194=\"X\",\"W okresie konwersji 3 rok \",IF('Harmonogram produkcji '!J194=\"X\",\"Ekologiczny \"))))","v":false},{"$f":"'Harmonogram produkcji '!L194","v":0},{"$f":"'Harmonogram produkcji '!M194","v":0},null,{"$f":"'Harmonogram produkcji '!P194","v":0},{"$f":"'Harmonogram produkcji '!Q194","v":0},{"$f":"IF('Harmonogram produkcji '!R194=\"X\",\"ekologiczny \",IF('Harmonogram produkcji '!S194=\"X\",\"nieekologiczny\",IF('Harmonogram produkcji '!T194=\"X\",\"z własnego gospodarstwa\",IF('Harmonogram produkcji '!U194=\"X\",\"ND, uprawa zastana\"))))","v":false},{"$f":"'Harmonogram produkcji '!V194","v":"00:00:00"},{"$f":"'Harmonogram produkcji '!F194","v":"00:00:00"},null,null,null,{"$f":"'Harmonogram produkcji '!Y194","v":0},{"$f":"'Harmonogram produkcji '!Z194","v":0},{"$f":"'Harmonogram produkcji '!W194","v":0},{"$f":"'Harmonogram produkcji '!X194","v":0}]
[{"$f":"'Harmonogram produkcji '!B195","v":0},{"$f":"'Harmonogram produkcji '!C195","v":0},{"$f":"'Harmonogram produkcji '!D195","v":0},{"$f":"'Harmonogram produkcji '!E195","v":0},{"$f":"IF('Harmonogram produkcji '!G195=\"X\",\"z pierwszych 12 miesiecy okresu konwersji\",IF('Harmonogram produkcji '!H195=\"X\",\"W okresie konwersji 2 rok \",IF('Harmonogram produkcji '!I195=\"X\",\"W okresie konwersji 3 rok \",IF('Harmonogram produkcji '!J195=\"X\",\"Ekologiczny \"))))","v":false},{"$f":"'Harmonogram produkcji '!L195","v":0},{"$f":"'Harmonogram produkcji '!M195","v":0},null,{"$f":"'Harmonogram produkcji '!P195","v":0},{"$f":"'Harmonogram produkcji '!Q195","v":0},{"$f":"IF('Harmonogram produkcji '!R195=\"X\",\"ekologiczny \",IF('Harmonogram produkcji '!S195=\"X\",\"nieekologiczny\",IF('Harmonogram produkcji '!T195=\"X\",\"z własnego gospodarstwa\",IF('Harmonogram produkcji '!U195=\"X\",\"ND, uprawa zastana\"))))","v":false},{"$f":"'Harmonogram produkcji '!V195","v":"00:00:00"},{"$f":"'Harmonogram produkcji '!F195","v":"00:00:00"},null,null,null,{"$f":"'Harmonogram produkcji '!Y195","v":0},{"$f":"'Harmonogram produkcji '!Z195","v":0},{"$f":"'Harmonogram produkcji '!W195","v":0},{"$f":"'Harmonogram produkcji '!X195","v":0}]
[{"$f":"'Harmonogram produkcji '!B196","v":0},{"$f":"'Harmonogram produkcji '!C196","v":0},{"$f":"'Harmonogram produkcji '!D196","v":0},{"$f":"'Harmonogram produkcji '!E196","v":0},{"$f":"IF('Harmonogram produkcji '!G196=\"X\",\"z pierwszych 12 miesiecy okresu konwersji\",IF('Harmonogram produkcji '!H196=\"X\",\"W okresie konwersji 2 rok \",IF('Harmonogram produkcji '!I196=\"X\",\"W okresie konwersji 3 rok \",IF('Harmonogram produkcji '!J196=\"X\",\"Ekologiczny \"))))","v":false},{"$f":"'Harmonogram produkcji '!L196","v":0},{"$f":"'Harmonogram produkcji '!M196","v":0},null,{"$f":"'Harmonogram produkcji '!P196","v":0},{"$f":"'Harmonogram produkcji '!Q196","v":0},{"$f":"IF('Harmonogram produkcji '!R196=\"X\",\"ekologiczny \",IF('Harmonogram produkcji '!S196=\"X\",\"nieekologiczny\",IF('Harmonogram produkcji '!T196=\"X\",\"z własnego gospodarstwa\",IF('Harmonogram produkcji '!U196=\"X\",\"ND, uprawa zastana\"))))","v":false},{"$f":"'Harmonogram produkcji '!V196","v":"00:00:00"},{"$f":"'Harmonogram produkcji '!F196","v":"00:00:00"},null,null,null,{"$f":"'Harmonogram produkcji '!Y196","v":0},{"$f":"'Harmonogram produkcji '!Z196","v":0},{"$f":"'Harmonogram produkcji '!W196","v":0},{"$f":"'Harmonogram produkcji '!X196","v":0}]
[{"$f":"'Harmonogram produkcji '!B197","v":0},{"$f":"'Harmonogram produkcji '!C197","v":0},{"$f":"'Harmonogram produkcji '!D197","v":0},{"$f":"'Harmonogram produkcji '!E197","v":0},{"$f":"IF('Harmonogram produkcji '!G197=\"X\",\"z pierwszych 12 miesiecy okresu konwersji\",IF('Harmonogram produkcji '!H197=\"X\",\"W okresie konwersji 2 rok \",IF('Harmonogram produkcji '!I197=\"X\",\"W okresie konwersji 3 rok \",IF('Harmonogram produkcji '!J197=\"X\",\"Ekologiczny \"))))","v":false},{"$f":"'Harmonogram produkcji '!L197","v":0},{"$f":"'Harmonogram produkcji '!M197","v":0},null,{"$f":"'Harmonogram produkcji '!P197","v":0},{"$f":"'Harmonogram produkcji '!Q197","v":0},{"$f":"IF('Harmonogram produkcji '!R197=\"X\",\"ekologiczny \",IF('Harmonogram produkcji '!S197=\"X\",\"nieekologiczny\",IF('Harmonogram produkcji '!T197=\"X\",\"z własnego gospodarstwa\",IF('Harmonogram produkcji '!U197=\"X\",\"ND, uprawa zastana\"))))","v":false},{"$f":"'Harmonogram produkcji '!V197","v":"00:00:00"},{"$f":"'Harmonogram produkcji '!F197","v":"00:00:00"},null,null,null,{"$f":"'Harmonogram produkcji '!Y197","v":0},{"$f":"'Harmonogram produkcji '!Z197","v":0},{"$f":"'Harmonogram produkcji '!W197","v":0},{"$f":"'Harmonogram produkcji '!X197","v":0}]
[{"$f":"'Harmonogram produkcji '!B198","v":0},{"$f":"'Harmonogram produkcji '!C198","v":0},{"$f":"'Harmonogram produkcji '!D198","v":0},{"$f":"'Harmonogram produkcji '!E198","v":0},{"$f":"IF('Harmonogram produkcji '!G198=\"X\",\"z pierwszych 12 miesiecy okresu konwersji\",IF('Harmonogram produkcji '!H198=\"X\",\"W okresie konwersji 2 rok \",IF('Harmonogram produkcji '!I198=\"X\",\"W okresie konwersji 3 rok \",IF('Harmonogram produkcji '!J198=\"X\",\"Ekologiczny \"))))","v":false},{"$f":"'Harmonogram produkcji '!L198","v":0},{"$f":"'Harmonogram produkcji '!M198","v":0},null,{"$f":"'Harmonogram produkcji '!P198","v":0},{"$f":"'Harmonogram produkcji '!Q198","v":0},{"$f":"IF('Harmonogram produkcji '!R198=\"X\",\"ekologiczny \",IF('Harmonogram produkcji '!S198=\"X\",\"nieekologiczny\",IF('Harmonogram produkcji '!T198=\"X\",\"z własnego gospodarstwa\",IF('Harmonogram produkcji '!U198=\"X\",\"ND, uprawa zastana\"))))","v":false},{"$f":"'Harmonogram produkcji '!V198","v":"00:00:00"},{"$f":"'Harmonogram produkcji '!F198","v":"00:00:00"},null,null,null,{"$f":"'Harmonogram produkcji '!Y198","v":0},{"$f":"'Harmonogram produkcji '!Z198","v":0},{"$f":"'Harmonogram produkcji '!W198","v":0},{"$f":"'Harmonogram produkcji '!X198","v":0}]
[{"$f":"'Harmonogram produkcji '!B199","v":0},{"$f":"'Harmonogram produkcji '!C199","v":0},{"$f":"'Harmonogram produkcji '!D199","v":0},{"$f":"'Harmonogram produkcji '!E199","v":0},{"$f":"IF('Harmonogram produkcji '!G199=\"X\",\"z pierwszych 12 miesiecy okresu konwersji\",IF('Harmonogram produkcji '!H199=\"X\",\"W okresie konwersji 2 rok \",IF('Harmonogram produkcji '!I199=\"X\",\"W okresie konwersji 3 rok \",IF('Harmonogram produkcji '!J199=\"X\",\"Ekologiczny \"))))","v":false},{"$f":"'Harmonogram produkcji '!L199","v":0},{"$f":"'Harmonogram produkcji '!M199","v":0},null,{"$f":"'Harmonogram produkcji '!P199","v":0},{"$f":"'Harmonogram produkcji '!Q199","v":0},{"$f":"IF('Harmonogram produkcji '!R199=\"X\",\"ekologiczny \",IF('Harmonogram produkcji '!S199=\"X\",\"nieekologiczny\",IF('Harmonogram produkcji '!T199=\"X\",\"z własnego gospodarstwa\",IF('Harmonogram produkcji '!U199=\"X\",\"ND, uprawa zastana\"))))","v":false},{"$f":"'Harmonogram produkcji '!V199","v":"00:00:00"},{"$f":"'Harmonogram produkcji '!F199","v":"00:00:00"},null,null,null,{"$f":"'Harmonogram produkcji '!Y199","v":0},{"$f":"'Harmonogram produkcji '!Z199","v":0},{"$f":"'Harmonogram produkcji '!W199","v":0},{"$f":"'Harmonogram produkcji '!X199","v":0}]
[{"$f":"'Harmonogram produkcji '!B200","v":0},{"$f":"'Harmonogram produkcji '!C200","v":0},{"$f":"'Harmonogram produkcji '!D200","v":0},{"$f":"'Harmonogram produkcji '!E200","v":0},{"$f":"IF('Harmonogram produkcji '!G200=\"X\",\"z pierwszych 12 miesiecy okresu konwersji\",IF('Harmonogram produkcji '!H200=\"X\",\"W okresie konwersji 2 rok \",IF('Harmonogram produkcji '!I200=\"X\",\"W okresie konwersji 3 rok \",IF('Harmonogram produkcji '!J200=\"X\",\"Ekologiczny \"))))","v":false},{"$f":"'Harmonogram produkcji '!L200","v":0},{"$f":"'Harmonogram produkcji '!M200","v":0},null,{"$f":"'Harmonogram produkcji '!P200","v":0},{"$f":"'Harmonogram produkcji '!Q200","v":0},{"$f":"IF('Harmonogram produkcji '!R200=\"X\",\"ekologiczny \",IF('Harmonogram produkcji '!S200=\"X\",\"nieekologiczny\",IF('Harmonogram produkcji '!T200=\"X\",\"z własnego gospodarstwa\",IF('Harmonogram produkcji '!U200=\"X\",\"ND, uprawa zastana\"))))","v":false},{"$f":"'Harmonogram produkcji '!V200","v":"00:00:00"},{"$f":"'Harmonogram produkcji '!F200","v":"00:00:00"},null,null,null,{"$f":"'Harmonogram produkcji '!Y200","v":0},{"$f":"'Harmonogram produkcji '!Z200","v":0},{"$f":"'Harmonogram produkcji '!W200","v":0},{"$f":"'Harmonogram produkcji '!X200","v":0}]
[{"$f":"'Harmonogram produkcji '!B201","v":0},{"$f":"'Harmonogram produkcji '!C201","v":0},{"$f":"'Harmonogram produkcji '!D201","v":0},{"$f":"'Harmonogram produkcji '!E201","v":0},{"$f":"IF('Harmonogram produkcji '!G201=\"X\",\"z pierwszych 12 miesiecy okresu konwersji\",IF('Harmonogram produkcji '!H201=\"X\",\"W okresie konwersji 2 rok \",IF('Harmonogram produkcji '!I201=\"X\",\"W okresie konwersji 3 rok \",IF('Harmonogram produkcji '!J201=\"X\",\"Ekologiczny \"))))","v":false},{"$f":"'Harmonogram produkcji '!L201","v":0},{"$f":"'Harmonogram produkcji '!M201","v":0},null,{"$f":"'Harmonogram produkcji '!P201","v":0},{"$f":"'Harmonogram produkcji '!Q201","v":0},{"$f":"IF('Harmonogram produkcji '!R201=\"X\",\"ekologiczny \",IF('Harmonogram produkcji '!S201=\"X\",\"nieekologiczny\",IF('Harmonogram produkcji '!T201=\"X\",\"z własnego gospodarstwa\",IF('Harmonogram produkcji '!U201=\"X\",\"ND, uprawa zastana\"))))","v":false},{"$f":"'Harmonogram produkcji '!V201","v":"00:00:00"},{"$f":"'Harmonogram produkcji '!F201","v":"00:00:00"},null,null,null,{"$f":"'Harmonogram produkcji '!Y201","v":0},{"$f":"'Harmonogram produkcji '!Z201","v":0},{"$f":"'Harmonogram produkcji '!W201","v":0},{"$f":"'Harmonogram produkcji '!X201","v":0}]
[{"$f":"'Harmonogram produkcji '!B202","v":0},{"$f":"'Harmonogram produkcji '!C202","v":0},{"$f":"'Harmonogram produkcji '!D202","v":0},{"$f":"'Harmonogram produkcji '!E202","v":0},{"$f":"IF('Harmonogram produkcji '!G202=\"X\",\"z pierwszych 12 miesiecy okresu konwersji\",IF('Harmonogram produkcji '!H202=\"X\",\"W okresie konwersji 2 rok \",IF('Harmonogram produkcji '!I202=\"X\",\"W okresie konwersji 3 rok \",IF('Harmonogram produkcji '!J202=\"X\",\"Ekologiczny \"))))","v":false},{"$f":"'Harmonogram produkcji '!L202","v":0},{"$f":"'Harmonogram produkcji '!M202","v":0},null,{"$f":"'Harmonogram produkcji '!P202","v":0},{"$f":"'Harmonogram produkcji '!Q202","v":0},{"$f":"IF('Harmonogram produkcji '!R202=\"X\",\"ekologiczny \",IF('Harmonogram produkcji '!S202=\"X\",\"nieekologiczny\",IF('Harmonogram produkcji '!T202=\"X\",\"z własnego gospodarstwa\",IF('Harmonogram produkcji '!U202=\"X\",\"ND, uprawa zastana\"))))","v":false},{"$f":"'Harmonogram produkcji '!V202","v":"00:00:00"},{"$f":"'Harmonogram produkcji '!F202","v":"00:00:00"},null,null,null,{"$f":"'Harmonogram produkcji '!Y202","v":0},{"$f":"'Harmonogram produkcji '!Z202","v":0},{"$f":"'Harmonogram produkcji '!W202","v":0},{"$f":"'Harmonogram produkcji '!X202","v":0}]
[{"$f":"'Harmonogram produkcji '!B203","v":0},{"$f":"'Harmonogram produkcji '!C203","v":0},{"$f":"'Harmonogram produkcji '!D203","v":0},{"$f":"'Harmonogram produkcji '!E203","v":0},{"$f":"IF('Harmonogram produkcji '!G203=\"X\",\"z pierwszych 12 miesiecy okresu konwersji\",IF('Harmonogram produkcji '!H203=\"X\",\"W okresie konwersji 2 rok \",IF('Harmonogram produkcji '!I203=\"X\",\"W okresie konwersji 3 rok \",IF('Harmonogram produkcji '!J203=\"X\",\"Ekologiczny \"))))","v":false},{"$f":"'Harmonogram produkcji '!L203","v":0},{"$f":"'Harmonogram produkcji '!M203","v":0},null,{"$f":"'Harmonogram produkcji '!P203","v":0},{"$f":"'Harmonogram produkcji '!Q203","v":0},{"$f":"IF('Harmonogram produkcji '!R203=\"X\",\"ekologiczny \",IF('Harmonogram produkcji '!S203=\"X\",\"nieekologiczny\",IF('Harmonogram produkcji '!T203=\"X\",\"z własnego gospodarstwa\",IF('Harmonogram produkcji '!U203=\"X\",\"ND, uprawa zastana\"))))","v":false},{"$f":"'Harmonogram produkcji '!V203","v":"00:00:00"},{"$f":"'Harmonogram produkcji '!F203","v":"00:00:00"},null,null,null,{"$f":"'Harmonogram produkcji '!Y203","v":0},{"$f":"'Harmonogram produkcji '!Z203","v":0},{"$f":"'Harmonogram produkcji '!W203","v":0},{"$f":"'Harmonogram produkcji '!X203","v":0}]
[{"$f":"'Harmonogram produkcji '!B204","v":0},{"$f":"'Harmonogram produkcji '!C204","v":0},{"$f":"'Harmonogram produkcji '!D204","v":0},{"$f":"'Harmonogram produkcji '!E204","v":0},{"$f":"IF('Harmonogram produkcji '!G204=\"X\",\"z pierwszych 12 miesiecy okresu konwersji\",IF('Harmonogram produkcji '!H204=\"X\",\"W okresie konwersji 2 rok \",IF('Harmonogram produkcji '!I204=\"X\",\"W okresie konwersji 3 rok \",IF('Harmonogram produkcji '!J204=\"X\",\"Ekologiczny \"))))","v":false},{"$f":"'Harmonogram produkcji '!L204","v":0},{"$f":"'Harmonogram produkcji '!M204","v":0},null,{"$f":"'Harmonogram produkcji '!P204","v":0},{"$f":"'Harmonogram produkcji '!Q204","v":0},{"$f":"IF('Harmonogram produkcji '!R204=\"X\",\"ekologiczny \",IF('Harmonogram produkcji '!S204=\"X\",\"nieekologiczny\",IF('Harmonogram produkcji '!T204=\"X\",\"z własnego gospodarstwa\",IF('Harmonogram produkcji '!U204=\"X\",\"ND, uprawa zastana\"))))","v":false},{"$f":"'Harmonogram produkcji '!V204","v":"00:00:00"},{"$f":"'Harmonogram produkcji '!F204","v":"00:00:00"},null,null,null,{"$f":"'Harmonogram produkcji '!Y204","v":0},{"$f":"'Harmonogram produkcji '!Z204","v":0},{"$f":"'Harmonogram produkcji '!W204","v":0},{"$f":"'Harmonogram produkcji '!X204","v":0}]
[{"$f":"'Harmonogram produkcji '!B205","v":0},{"$f":"'Harmonogram produkcji '!C205","v":0},{"$f":"'Harmonogram produkcji '!D205","v":0},{"$f":"'Harmonogram produkcji '!E205","v":0},{"$f":"IF('Harmonogram produkcji '!G205=\"X\",\"z pierwszych 12 miesiecy okresu konwersji\",IF('Harmonogram produkcji '!H205=\"X\",\"W okresie konwersji 2 rok \",IF('Harmonogram produkcji '!I205=\"X\",\"W okresie konwersji 3 rok \",IF('Harmonogram produkcji '!J205=\"X\",\"Ekologiczny \"))))","v":false},{"$f":"'Harmonogram produkcji '!L205","v":0},{"$f":"'Harmonogram produkcji '!M205","v":0},null,{"$f":"'Harmonogram produkcji '!P205","v":0},{"$f":"'Harmonogram produkcji '!Q205","v":0},{"$f":"IF('Harmonogram produkcji '!R205=\"X\",\"ekologiczny \",IF('Harmonogram produkcji '!S205=\"X\",\"nieekologiczny\",IF('Harmonogram produkcji '!T205=\"X\",\"z własnego gospodarstwa\",IF('Harmonogram produkcji '!U205=\"X\",\"ND, uprawa zastana\"))))","v":false},{"$f":"'Harmonogram produkcji '!V205","v":"00:00:00"},{"$f":"'Harmonogram produkcji '!F205","v":"00:00:00"},null,null,null,{"$f":"'Harmonogram produkcji '!Y205","v":0},{"$f":"'Harmonogram produkcji '!Z205","v":0},{"$f":"'Harmonogram produkcji '!W205","v":0},{"$f":"'Harmonogram produkcji '!X205","v":0}]
[{"$f":"'Harmonogram produkcji '!B206","v":0},{"$f":"'Harmonogram produkcji '!C206","v":0},{"$f":"'Harmonogram produkcji '!D206","v":0},{"$f":"'Harmonogram produkcji '!E206","v":0},{"$f":"IF('Harmonogram produkcji '!G206=\"X\",\"z pierwszych 12 miesiecy okresu konwersji\",IF('Harmonogram produkcji '!H206=\"X\",\"W okresie konwersji 2 rok \",IF('Harmonogram produkcji '!I206=\"X\",\"W okresie konwersji 3 rok \",IF('Harmonogram produkcji '!J206=\"X\",\"Ekologiczny \"))))","v":false},{"$f":"'Harmonogram produkcji '!L206","v":0},{"$f":"'Harmonogram produkcji '!M206","v":0},null,{"$f":"'Harmonogram produkcji '!P206","v":0},{"$f":"'Harmonogram produkcji '!Q206","v":0},{"$f":"IF('Harmonogram produkcji '!R206=\"X\",\"ekologiczny \",IF('Harmonogram produkcji '!S206=\"X\",\"nieekologiczny\",IF('Harmonogram produkcji '!T206=\"X\",\"z własnego gospodarstwa\",IF('Harmonogram produkcji '!U206=\"X\",\"ND, uprawa zastana\"))))","v":false},{"$f":"'Harmonogram produkcji '!V206","v":"00:00:00"},{"$f":"'Harmonogram produkcji '!F206","v":"00:00:00"},null,null,null,{"$f":"'Harmonogram produkcji '!Y206","v":0},{"$f":"'Harmonogram produkcji '!Z206","v":0},{"$f":"'Harmonogram produkcji '!W206","v":0},{"$f":"'Harmonogram produkcji '!X206","v":0}]
[{"$f":"'Harmonogram produkcji '!B207","v":0},{"$f":"'Harmonogram produkcji '!C207","v":0},{"$f":"'Harmonogram produkcji '!D207","v":0},{"$f":"'Harmonogram produkcji '!E207","v":0},{"$f":"IF('Harmonogram produkcji '!G207=\"X\",\"z pierwszych 12 miesiecy okresu konwersji\",IF('Harmonogram produkcji '!H207=\"X\",\"W okresie konwersji 2 rok \",IF('Harmonogram produkcji '!I207=\"X\",\"W okresie konwersji 3 rok \",IF('Harmonogram produkcji '!J207=\"X\",\"Ekologiczny \"))))","v":false},{"$f":"'Harmonogram produkcji '!L207","v":0},{"$f":"'Harmonogram produkcji '!M207","v":0},null,{"$f":"'Harmonogram produkcji '!P207","v":0},{"$f":"'Harmonogram produkcji '!Q207","v":0},{"$f":"IF('Harmonogram produkcji '!R207=\"X\",\"ekologiczny \",IF('Harmonogram produkcji '!S207=\"X\",\"nieekologiczny\",IF('Harmonogram produkcji '!T207=\"X\",\"z własnego gospodarstwa\",IF('Harmonogram produkcji '!U207=\"X\",\"ND, uprawa zastana\"))))","v":false},{"$f":"'Harmonogram produkcji '!V207","v":"00:00:00"},{"$f":"'Harmonogram produkcji '!F207","v":"00:00:00"},null,null,null,{"$f":"'Harmonogram produkcji '!Y207","v":0},{"$f":"'Harmonogram produkcji '!Z207","v":0},{"$f":"'Harmonogram produkcji '!W207","v":0},{"$f":"'Harmonogram produkcji '!X207","v":0}]
[{"$f":"'Harmonogram produkcji '!B208","v":0},{"$f":"'Harmonogram produkcji '!C208","v":0},{"$f":"'Harmonogram produkcji '!D208","v":0},{"$f":"'Harmonogram produkcji '!E208","v":0},{"$f":"IF('Harmonogram produkcji '!G208=\"X\",\"z pierwszych 12 miesiecy okresu konwersji\",IF('Harmonogram produkcji '!H208=\"X\",\"W okresie konwersji 2 rok \",IF('Harmonogram produkcji '!I208=\"X\",\"W okresie konwersji 3 rok \",IF('Harmonogram produkcji '!J208=\"X\",\"Ekologiczny \"))))","v":false},{"$f":"'Harmonogram produkcji '!L208","v":0},{"$f":"'Harmonogram produkcji '!M208","v":0},null,{"$f":"'Harmonogram produkcji '!P208","v":0},{"$f":"'Harmonogram produkcji '!Q208","v":0},{"$f":"IF('Harmonogram produkcji '!R208=\"X\",\"ekologiczny \",IF('Harmonogram produkcji '!S208=\"X\",\"nieekologiczny\",IF('Harmonogram produkcji '!T208=\"X\",\"z własnego gospodarstwa\",IF('Harmonogram produkcji '!U208=\"X\",\"ND, uprawa zastana\"))))","v":false},{"$f":"'Harmonogram produkcji '!V208","v":"00:00:00"},{"$f":"'Harmonogram produkcji '!F208","v":"00:00:00"},null,null,null,{"$f":"'Harmonogram produkcji '!Y208","v":0},{"$f":"'Harmonogram produkcji '!Z208","v":0},{"$f":"'Harmonogram produkcji '!W208","v":0},{"$f":"'Harmonogram produkcji '!X208","v":0}]
[{"$f":"'Harmonogram produkcji '!B209","v":0},{"$f":"'Harmonogram produkcji '!C209","v":0},{"$f":"'Harmonogram produkcji '!D209","v":0},{"$f":"'Harmonogram produkcji '!E209","v":0},{"$f":"IF('Harmonogram produkcji '!G209=\"X\",\"z pierwszych 12 miesiecy okresu konwersji\",IF('Harmonogram produkcji '!H209=\"X\",\"W okresie konwersji 2 rok \",IF('Harmonogram produkcji '!I209=\"X\",\"W okresie konwersji 3 rok \",IF('Harmonogram produkcji '!J209=\"X\",\"Ekologiczny \"))))","v":false},{"$f":"'Harmonogram produkcji '!L209","v":0},{"$f":"'Harmonogram produkcji '!M209","v":0},null,{"$f":"'Harmonogram produkcji '!P209","v":0},{"$f":"'Harmonogram produkcji '!Q209","v":0},{"$f":"IF('Harmonogram produkcji '!R209=\"X\",\"ekologiczny \",IF('Harmonogram produkcji '!S209=\"X\",\"nieekologiczny\",IF('Harmonogram produkcji '!T209=\"X\",\"z własnego gospodarstwa\",IF('Harmonogram produkcji '!U209=\"X\",\"ND, uprawa zastana\"))))","v":false},{"$f":"'Harmonogram produkcji '!V209","v":"00:00:00"},{"$f":"'Harmonogram produkcji '!F209","v":"00:00:00"},null,null,null,{"$f":"'Harmonogram produkcji '!Y209","v":0},{"$f":"'Harmonogram produkcji '!Z209","v":0},{"$f":"'Harmonogram produkcji '!W209","v":0},{"$f":"'Harmonogram produkcji '!X209","v":0}]
[{"$f":"'Harmonogram produkcji '!B210","v":0},{"$f":"'Harmonogram produkcji '!C210","v":0},{"$f":"'Harmonogram produkcji '!D210","v":0},{"$f":"'Harmonogram produkcji '!E210","v":0},{"$f":"IF('Harmonogram produkcji '!G210=\"X\",\"z pierwszych 12 miesiecy okresu konwersji\",IF('Harmonogram produkcji '!H210=\"X\",\"W okresie konwersji 2 rok \",IF('Harmonogram produkcji '!I210=\"X\",\"W okresie konwersji 3 rok \",IF('Harmonogram produkcji '!J210=\"X\",\"Ekologiczny \"))))","v":false},{"$f":"'Harmonogram produkcji '!L210","v":0},{"$f":"'Harmonogram produkcji '!M210","v":0},null,{"$f":"'Harmonogram produkcji '!P210","v":0},{"$f":"'Harmonogram produkcji '!Q210","v":0},{"$f":"IF('Harmonogram produkcji '!R210=\"X\",\"ekologiczny \",IF('Harmonogram produkcji '!S210=\"X\",\"nieekologiczny\",IF('Harmonogram produkcji '!T210=\"X\",\"z własnego gospodarstwa\",IF('Harmonogram produkcji '!U210=\"X\",\"ND, uprawa zastana\"))))","v":false},{"$f":"'Harmonogram produkcji '!V210","v":"00:00:00"},{"$f":"'Harmonogram produkcji '!F210","v":"00:00:00"},null,null,null,{"$f":"'Harmonogram produkcji '!Y210","v":0},{"$f":"'Harmonogram produkcji '!Z210","v":0},{"$f":"'Harmonogram produkcji '!W210","v":0},{"$f":"'Harmonogram produkcji '!X210","v":0}]
[{"$f":"'Harmonogram produkcji '!B211","v":0},{"$f":"'Harmonogram produkcji '!C211","v":0},{"$f":"'Harmonogram produkcji '!D211","v":0},{"$f":"'Harmonogram produkcji '!E211","v":0},{"$f":"IF('Harmonogram produkcji '!G211=\"X\",\"z pierwszych 12 miesiecy okresu konwersji\",IF('Harmonogram produkcji '!H211=\"X\",\"W okresie konwersji 2 rok \",IF('Harmonogram produkcji '!I211=\"X\",\"W okresie konwersji 3 rok \",IF('Harmonogram produkcji '!J211=\"X\",\"Ekologiczny \"))))","v":false},{"$f":"'Harmonogram produkcji '!L211","v":0},{"$f":"'Harmonogram produkcji '!M211","v":0},null,{"$f":"'Harmonogram produkcji '!P211","v":0},{"$f":"'Harmonogram produkcji '!Q211","v":0},{"$f":"IF('Harmonogram produkcji '!R211=\"X\",\"ekologiczny \",IF('Harmonogram produkcji '!S211=\"X\",\"nieekologiczny\",IF('Harmonogram produkcji '!T211=\"X\",\"z własnego gospodarstwa\",IF('Harmonogram produkcji '!U211=\"X\",\"ND, uprawa zastana\"))))","v":false},{"$f":"'Harmonogram produkcji '!V211","v":"00:00:00"},{"$f":"'Harmonogram produkcji '!F211","v":"00:00:00"},null,null,null,{"$f":"'Harmonogram produkcji '!Y211","v":0},{"$f":"'Harmonogram produkcji '!Z211","v":0},{"$f":"'Harmonogram produkcji '!W211","v":0},{"$f":"'Harmonogram produkcji '!X211","v":0}]
[{"$f":"'Harmonogram produkcji '!B212","v":0},{"$f":"'Harmonogram produkcji '!C212","v":0},{"$f":"'Harmonogram produkcji '!D212","v":0},{"$f":"'Harmonogram produkcji '!E212","v":0},{"$f":"IF('Harmonogram produkcji '!G212=\"X\",\"z pierwszych 12 miesiecy okresu konwersji\",IF('Harmonogram produkcji '!H212=\"X\",\"W okresie konwersji 2 rok \",IF('Harmonogram produkcji '!I212=\"X\",\"W okresie konwersji 3 rok \",IF('Harmonogram produkcji '!J212=\"X\",\"Ekologiczny \"))))","v":false},{"$f":"'Harmonogram produkcji '!L212","v":0},{"$f":"'Harmonogram produkcji '!M212","v":0},null,{"$f":"'Harmonogram produkcji '!P212","v":0},{"$f":"'Harmonogram produkcji '!Q212","v":0},{"$f":"IF('Harmonogram produkcji '!R212=\"X\",\"ekologiczny \",IF('Harmonogram produkcji '!S212=\"X\",\"nieekologiczny\",IF('Harmonogram produkcji '!T212=\"X\",\"z własnego gospodarstwa\",IF('Harmonogram produkcji '!U212=\"X\",\"ND, uprawa zastana\"))))","v":false},{"$f":"'Harmonogram produkcji '!V212","v":"00:00:00"},{"$f":"'Harmonogram produkcji '!F212","v":"00:00:00"},null,null,null,{"$f":"'Harmonogram produkcji '!Y212","v":0},{"$f":"'Harmonogram produkcji '!Z212","v":0},{"$f":"'Harmonogram produkcji '!W212","v":0},{"$f":"'Harmonogram produkcji '!X212","v":0}]
[{"$f":"'Harmonogram produkcji '!B213","v":0},{"$f":"'Harmonogram produkcji '!C213","v":0},{"$f":"'Harmonogram produkcji '!D213","v":0},{"$f":"'Harmonogram produkcji '!E213","v":0},{"$f":"IF('Harmonogram produkcji '!G213=\"X\",\"z pierwszych 12 miesiecy okresu konwersji\",IF('Harmonogram produkcji '!H213=\"X\",\"W okresie konwersji 2 rok \",IF('Harmonogram produkcji '!I213=\"X\",\"W okresie konwersji 3 rok \",IF('Harmonogram produkcji '!J213=\"X\",\"Ekologiczny \"))))","v":false},{"$f":"'Harmonogram produkcji '!L213","v":0},{"$f":"'Harmonogram produkcji '!M213","v":0},null,{"$f":"'Harmonogram produkcji '!P213","v":0},{"$f":"'Harmonogram produkcji '!Q213","v":0},{"$f":"IF('Harmonogram produkcji '!R213=\"X\",\"ekologiczny \",IF('Harmonogram produkcji '!S213=\"X\",\"nieekologiczny\",IF('Harmonogram produkcji '!T213=\"X\",\"z własnego gospodarstwa\",IF('Harmonogram produkcji '!U213=\"X\",\"ND, uprawa zastana\"))))","v":false},{"$f":"'Harmonogram produkcji '!V213","v":"00:00:00"},{"$f":"'Harmonogram produkcji '!F213","v":"00:00:00"},null,null,null,{"$f":"'Harmonogram produkcji '!Y213","v":0},{"$f":"'Harmonogram produkcji '!Z213","v":0},{"$f":"'Harmonogram produkcji '!W213","v":0},{"$f":"'Harmonogram produkcji '!X213","v":0}]
[{"$f":"'Harmonogram produkcji '!B214","v":0},{"$f":"'Harmonogram produkcji '!C214","v":0},{"$f":"'Harmonogram produkcji '!D214","v":0},{"$f":"'Harmonogram produkcji '!E214","v":0},{"$f":"IF('Harmonogram produkcji '!G214=\"X\",\"z pierwszych 12 miesiecy okresu konwersji\",IF('Harmonogram produkcji '!H214=\"X\",\"W okresie konwersji 2 rok \",IF('Harmonogram produkcji '!I214=\"X\",\"W okresie konwersji 3 rok \",IF('Harmonogram produkcji '!J214=\"X\",\"Ekologiczny \"))))","v":false},{"$f":"'Harmonogram produkcji '!L214","v":0},{"$f":"'Harmonogram produkcji '!M214","v":0},null,{"$f":"'Harmonogram produkcji '!P214","v":0},{"$f":"'Harmonogram produkcji '!Q214","v":0},{"$f":"IF('Harmonogram produkcji '!R214=\"X\",\"ekologiczny \",IF('Harmonogram produkcji '!S214=\"X\",\"nieekologiczny\",IF('Harmonogram produkcji '!T214=\"X\",\"z własnego gospodarstwa\",IF('Harmonogram produkcji '!U214=\"X\",\"ND, uprawa zastana\"))))","v":false},{"$f":"'Harmonogram produkcji '!V214","v":"00:00:00"},{"$f":"'Harmonogram produkcji '!F214","v":"00:00:00"},null,null,null,{"$f":"'Harmonogram produkcji '!Y214","v":0},{"$f":"'Harmonogram produkcji '!Z214","v":0},{"$f":"'Harmonogram produkcji '!W214","v":0},{"$f":"'Harmonogram produkcji '!X214","v":0}]
[{"$f":"'Harmonogram produkcji '!B215","v":0},{"$f":"'Harmonogram produkcji '!C215","v":0},{"$f":"'Harmonogram produkcji '!D215","v":0},{"$f":"'Harmonogram produkcji '!E215","v":0},{"$f":"IF('Harmonogram produkcji '!G215=\"X\",\"z pierwszych 12 miesiecy okresu konwersji\",IF('Harmonogram produkcji '!H215=\"X\",\"W okresie konwersji 2 rok \",IF('Harmonogram produkcji '!I215=\"X\",\"W okresie konwersji 3 rok \",IF('Harmonogram produkcji '!J215=\"X\",\"Ekologiczny \"))))","v":false},{"$f":"'Harmonogram produkcji '!L215","v":0},{"$f":"'Harmonogram produkcji '!M215","v":0},null,{"$f":"'Harmonogram produkcji '!P215","v":0},{"$f":"'Harmonogram produkcji '!Q215","v":0},{"$f":"IF('Harmonogram produkcji '!R215=\"X\",\"ekologiczny \",IF('Harmonogram produkcji '!S215=\"X\",\"nieekologiczny\",IF('Harmonogram produkcji '!T215=\"X\",\"z własnego gospodarstwa\",IF('Harmonogram produkcji '!U215=\"X\",\"ND, uprawa zastana\"))))","v":false},{"$f":"'Harmonogram produkcji '!V215","v":"00:00:00"},{"$f":"'Harmonogram produkcji '!F215","v":"00:00:00"},null,null,null,{"$f":"'Harmonogram produkcji '!Y215","v":0},{"$f":"'Harmonogram produkcji '!Z215","v":0},{"$f":"'Harmonogram produkcji '!W215","v":0},{"$f":"'Harmonogram produkcji '!X215","v":0}]
[{"$f":"'Harmonogram produkcji '!B216","v":0},{"$f":"'Harmonogram produkcji '!C216","v":0},{"$f":"'Harmonogram produkcji '!D216","v":0},{"$f":"'Harmonogram produkcji '!E216","v":0},{"$f":"IF('Harmonogram produkcji '!G216=\"X\",\"z pierwszych 12 miesiecy okresu konwersji\",IF('Harmonogram produkcji '!H216=\"X\",\"W okresie konwersji 2 rok \",IF('Harmonogram produkcji '!I216=\"X\",\"W okresie konwersji 3 rok \",IF('Harmonogram produkcji '!J216=\"X\",\"Ekologiczny \"))))","v":false},{"$f":"'Harmonogram produkcji '!L216","v":0},{"$f":"'Harmonogram produkcji '!M216","v":0},null,{"$f":"'Harmonogram produkcji '!P216","v":0},{"$f":"'Harmonogram produkcji '!Q216","v":0},{"$f":"IF('Harmonogram produkcji '!R216=\"X\",\"ekologiczny \",IF('Harmonogram produkcji '!S216=\"X\",\"nieekologiczny\",IF('Harmonogram produkcji '!T216=\"X\",\"z własnego gospodarstwa\",IF('Harmonogram produkcji '!U216=\"X\",\"ND, uprawa zastana\"))))","v":false},{"$f":"'Harmonogram produkcji '!V216","v":"00:00:00"},{"$f":"'Harmonogram produkcji '!F216","v":"00:00:00"},null,null,null,{"$f":"'Harmonogram produkcji '!Y216","v":0},{"$f":"'Harmonogram produkcji '!Z216","v":0},{"$f":"'Harmonogram produkcji '!W216","v":0},{"$f":"'Harmonogram produkcji '!X216","v":0}]
[{"$f":"'Harmonogram produkcji '!B217","v":0},{"$f":"'Harmonogram produkcji '!C217","v":0},{"$f":"'Harmonogram produkcji '!D217","v":0},{"$f":"'Harmonogram produkcji '!E217","v":0},{"$f":"IF('Harmonogram produkcji '!G217=\"X\",\"z pierwszych 12 miesiecy okresu konwersji\",IF('Harmonogram produkcji '!H217=\"X\",\"W okresie konwersji 2 rok \",IF('Harmonogram produkcji '!I217=\"X\",\"W okresie konwersji 3 rok \",IF('Harmonogram produkcji '!J217=\"X\",\"Ekologiczny \"))))","v":false},{"$f":"'Harmonogram produkcji '!L217","v":0},{"$f":"'Harmonogram produkcji '!M217","v":0},null,{"$f":"'Harmonogram produkcji '!P217","v":0},{"$f":"'Harmonogram produkcji '!Q217","v":0},{"$f":"IF('Harmonogram produkcji '!R217=\"X\",\"ekologiczny \",IF('Harmonogram produkcji '!S217=\"X\",\"nieekologiczny\",IF('Harmonogram produkcji '!T217=\"X\",\"z własnego gospodarstwa\",IF('Harmonogram produkcji '!U217=\"X\",\"ND, uprawa zastana\"))))","v":false},{"$f":"'Harmonogram produkcji '!V217","v":"00:00:00"},{"$f":"'Harmonogram produkcji '!F217","v":"00:00:00"},null,null,null,{"$f":"'Harmonogram produkcji '!Y217","v":0},{"$f":"'Harmonogram produkcji '!Z217","v":0},{"$f":"'Harmonogram produkcji '!W217","v":0},{"$f":"'Harmonogram produkcji '!X217","v":0}]
[{"$f":"'Harmonogram produkcji '!B218","v":0},{"$f":"'Harmonogram produkcji '!C218","v":0},{"$f":"'Harmonogram produkcji '!D218","v":0},{"$f":"'Harmonogram produkcji '!E218","v":0},{"$f":"IF('Harmonogram produkcji '!G218=\"X\",\"z pierwszych 12 miesiecy okresu konwersji\",IF('Harmonogram produkcji '!H218=\"X\",\"W okresie konwersji 2 rok \",IF('Harmonogram produkcji '!I218=\"X\",\"W okresie konwersji 3 rok \",IF('Harmonogram produkcji '!J218=\"X\",\"Ekologiczny \"))))","v":false},{"$f":"'Harmonogram produkcji '!L218","v":0},{"$f":"'Harmonogram produkcji '!M218","v":0},null,{"$f":"'Harmonogram produkcji '!P218","v":0},{"$f":"'Harmonogram produkcji '!Q218","v":0},{"$f":"IF('Harmonogram produkcji '!R218=\"X\",\"ekologiczny \",IF('Harmonogram produkcji '!S218=\"X\",\"nieekologiczny\",IF('Harmonogram produkcji '!T218=\"X\",\"z własnego gospodarstwa\",IF('Harmonogram produkcji '!U218=\"X\",\"ND, uprawa zastana\"))))","v":false},{"$f":"'Harmonogram produkcji '!V218","v":"00:00:00"},{"$f":"'Harmonogram produkcji '!F218","v":"00:00:00"},null,null,null,{"$f":"'Harmonogram produkcji '!Y218","v":0},{"$f":"'Harmonogram produkcji '!Z218","v":0},{"$f":"'Harmonogram produkcji '!W218","v":0},{"$f":"'Harmonogram produkcji '!X218","v":0}]
[{"$f":"'Harmonogram produkcji '!B219","v":0},{"$f":"'Harmonogram produkcji '!C219","v":0},{"$f":"'Harmonogram produkcji '!D219","v":0},{"$f":"'Harmonogram produkcji '!E219","v":0},{"$f":"IF('Harmonogram produkcji '!G219=\"X\",\"z pierwszych 12 miesiecy okresu konwersji\",IF('Harmonogram produkcji '!H219=\"X\",\"W okresie konwersji 2 rok \",IF('Harmonogram produkcji '!I219=\"X\",\"W okresie konwersji 3 rok \",IF('Harmonogram produkcji '!J219=\"X\",\"Ekologiczny \"))))","v":false},{"$f":"'Harmonogram produkcji '!L219","v":0},{"$f":"'Harmonogram produkcji '!M219","v":0},null,{"$f":"'Harmonogram produkcji '!P219","v":0},{"$f":"'Harmonogram produkcji '!Q219","v":0},{"$f":"IF('Harmonogram produkcji '!R219=\"X\",\"ekologiczny \",IF('Harmonogram produkcji '!S219=\"X\",\"nieekologiczny\",IF('Harmonogram produkcji '!T219=\"X\",\"z własnego gospodarstwa\",IF('Harmonogram produkcji '!U219=\"X\",\"ND, uprawa zastana\"))))","v":false},{"$f":"'Harmonogram produkcji '!V219","v":"00:00:00"},{"$f":"'Harmonogram produkcji '!F219","v":"00:00:00"},null,null,null,{"$f":"'Harmonogram produkcji '!Y219","v":0},{"$f":"'Harmonogram produkcji '!Z219","v":0},{"$f":"'Harmonogram produkcji '!W219","v":0},{"$f":"'Harmonogram produkcji '!X219","v":0}]
[{"$f":"'Harmonogram produkcji '!B220","v":0},{"$f":"'Harmonogram produkcji '!C220","v":0},{"$f":"'Harmonogram produkcji '!D220","v":0},{"$f":"'Harmonogram produkcji '!E220","v":0},{"$f":"IF('Harmonogram produkcji '!G220=\"X\",\"z pierwszych 12 miesiecy okresu konwersji\",IF('Harmonogram produkcji '!H220=\"X\",\"W okresie konwersji 2 rok \",IF('Harmonogram produkcji '!I220=\"X\",\"W okresie konwersji 3 rok \",IF('Harmonogram produkcji '!J220=\"X\",\"Ekologiczny \"))))","v":false},{"$f":"'Harmonogram produkcji '!L220","v":0},{"$f":"'Harmonogram produkcji '!M220","v":0},null,{"$f":"'Harmonogram produkcji '!P220","v":0},{"$f":"'Harmonogram produkcji '!Q220","v":0},{"$f":"IF('Harmonogram produkcji '!R220=\"X\",\"ekologiczny \",IF('Harmonogram produkcji '!S220=\"X\",\"nieekologiczny\",IF('Harmonogram produkcji '!T220=\"X\",\"z własnego gospodarstwa\",IF('Harmonogram produkcji '!U220=\"X\",\"ND, uprawa zastana\"))))","v":false},{"$f":"'Harmonogram produkcji '!V220","v":"00:00:00"},{"$f":"'Harmonogram produkcji '!F220","v":"00:00:00"},null,null,null,{"$f":"'Harmonogram produkcji '!Y220","v":0},{"$f":"'Harmonogram produkcji '!Z220","v":0},{"$f":"'Harmonogram produkcji '!W220","v":0},{"$f":"'Harmonogram produkcji '!X220","v":0}]
[{"$f":"'Harmonogram produkcji '!B221","v":0},{"$f":"'Harmonogram produkcji '!C221","v":0},{"$f":"'Harmonogram produkcji '!D221","v":0},{"$f":"'Harmonogram produkcji '!E221","v":0},{"$f":"IF('Harmonogram produkcji '!G221=\"X\",\"z pierwszych 12 miesiecy okresu konwersji\",IF('Harmonogram produkcji '!H221=\"X\",\"W okresie konwersji 2 rok \",IF('Harmonogram produkcji '!I221=\"X\",\"W okresie konwersji 3 rok \",IF('Harmonogram produkcji '!J221=\"X\",\"Ekologiczny \"))))","v":false},{"$f":"'Harmonogram produkcji '!L221","v":0},{"$f":"'Harmonogram produkcji '!M221","v":0},null,{"$f":"'Harmonogram produkcji '!P221","v":0},{"$f":"'Harmonogram produkcji '!Q221","v":0},{"$f":"IF('Harmonogram produkcji '!R221=\"X\",\"ekologiczny \",IF('Harmonogram produkcji '!S221=\"X\",\"nieekologiczny\",IF('Harmonogram produkcji '!T221=\"X\",\"z własnego gospodarstwa\",IF('Harmonogram produkcji '!U221=\"X\",\"ND, uprawa zastana\"))))","v":false},{"$f":"'Harmonogram produkcji '!V221","v":"00:00:00"},{"$f":"'Harmonogram produkcji '!F221","v":"00:00:00"},null,null,null,{"$f":"'Harmonogram produkcji '!Y221","v":0},{"$f":"'Harmonogram produkcji '!Z221","v":0},{"$f":"'Harmonogram produkcji '!W221","v":0},{"$f":"'Harmonogram produkcji '!X221","v":0}]
[{"$f":"'Harmonogram produkcji '!B222","v":0},{"$f":"'Harmonogram produkcji '!C222","v":0},{"$f":"'Harmonogram produkcji '!D222","v":0},{"$f":"'Harmonogram produkcji '!E222","v":0},{"$f":"IF('Harmonogram produkcji '!G222=\"X\",\"z pierwszych 12 miesiecy okresu konwersji\",IF('Harmonogram produkcji '!H222=\"X\",\"W okresie konwersji 2 rok \",IF('Harmonogram produkcji '!I222=\"X\",\"W okresie konwersji 3 rok \",IF('Harmonogram produkcji '!J222=\"X\",\"Ekologiczny \"))))","v":false},{"$f":"'Harmonogram produkcji '!L222","v":0},{"$f":"'Harmonogram produkcji '!M222","v":0},null,{"$f":"'Harmonogram produkcji '!P222","v":0},{"$f":"'Harmonogram produkcji '!Q222","v":0},{"$f":"IF('Harmonogram produkcji '!R222=\"X\",\"ekologiczny \",IF('Harmonogram produkcji '!S222=\"X\",\"nieekologiczny\",IF('Harmonogram produkcji '!T222=\"X\",\"z własnego gospodarstwa\",IF('Harmonogram produkcji '!U222=\"X\",\"ND, uprawa zastana\"))))","v":false},{"$f":"'Harmonogram produkcji '!V222","v":"00:00:00"},{"$f":"'Harmonogram produkcji '!F222","v":"00:00:00"},null,null,null,{"$f":"'Harmonogram produkcji '!Y222","v":0},{"$f":"'Harmonogram produkcji '!Z222","v":0},{"$f":"'Harmonogram produkcji '!W222","v":0},{"$f":"'Harmonogram produkcji '!X222","v":0}]
[{"$f":"'Harmonogram produkcji '!B223","v":0},{"$f":"'Harmonogram produkcji '!C223","v":0},{"$f":"'Harmonogram produkcji '!D223","v":0},{"$f":"'Harmonogram produkcji '!E223","v":0},{"$f":"IF('Harmonogram produkcji '!G223=\"X\",\"z pierwszych 12 miesiecy okresu konwersji\",IF('Harmonogram produkcji '!H223=\"X\",\"W okresie konwersji 2 rok \",IF('Harmonogram produkcji '!I223=\"X\",\"W okresie konwersji 3 rok \",IF('Harmonogram produkcji '!J223=\"X\",\"Ekologiczny \"))))","v":false},{"$f":"'Harmonogram produkcji '!L223","v":0},{"$f":"'Harmonogram produkcji '!M223","v":0},null,{"$f":"'Harmonogram produkcji '!P223","v":0},{"$f":"'Harmonogram produkcji '!Q223","v":0},{"$f":"IF('Harmonogram produkcji '!R223=\"X\",\"ekologiczny \",IF('Harmonogram produkcji '!S223=\"X\",\"nieekologiczny\",IF('Harmonogram produkcji '!T223=\"X\",\"z własnego gospodarstwa\",IF('Harmonogram produkcji '!U223=\"X\",\"ND, uprawa zastana\"))))","v":false},{"$f":"'Harmonogram produkcji '!V223","v":"00:00:00"},{"$f":"'Harmonogram produkcji '!F223","v":"00:00:00"},null,null,null,{"$f":"'Harmonogram produkcji '!Y223","v":0},{"$f":"'Harmonogram produkcji '!Z223","v":0},{"$f":"'Harmonogram produkcji '!W223","v":0},{"$f":"'Harmonogram produkcji '!X223","v":0}]
[{"$f":"'Harmonogram produkcji '!B224","v":0},{"$f":"'Harmonogram produkcji '!C224","v":0},{"$f":"'Harmonogram produkcji '!D224","v":0},{"$f":"'Harmonogram produkcji '!E224","v":0},{"$f":"IF('Harmonogram produkcji '!G224=\"X\",\"z pierwszych 12 miesiecy okresu konwersji\",IF('Harmonogram produkcji '!H224=\"X\",\"W okresie konwersji 2 rok \",IF('Harmonogram produkcji '!I224=\"X\",\"W okresie konwersji 3 rok \",IF('Harmonogram produkcji '!J224=\"X\",\"Ekologiczny \"))))","v":false},{"$f":"'Harmonogram produkcji '!L224","v":0},{"$f":"'Harmonogram produkcji '!M224","v":0},null,{"$f":"'Harmonogram produkcji '!P224","v":0},{"$f":"'Harmonogram produkcji '!Q224","v":0},{"$f":"IF('Harmonogram produkcji '!R224=\"X\",\"ekologiczny \",IF('Harmonogram produkcji '!S224=\"X\",\"nieekologiczny\",IF('Harmonogram produkcji '!T224=\"X\",\"z własnego gospodarstwa\",IF('Harmonogram produkcji '!U224=\"X\",\"ND, uprawa zastana\"))))","v":false},{"$f":"'Harmonogram produkcji '!V224","v":"00:00:00"},{"$f":"'Harmonogram produkcji '!F224","v":"00:00:00"},null,null,null,{"$f":"'Harmonogram produkcji '!Y224","v":0},{"$f":"'Harmonogram produkcji '!Z224","v":0},{"$f":"'Harmonogram produkcji '!W224","v":0},{"$f":"'Harmonogram produkcji '!X224","v":0}]
[{"$f":"'Harmonogram produkcji '!B225","v":0},{"$f":"'Harmonogram produkcji '!C225","v":0},{"$f":"'Harmonogram produkcji '!D225","v":0},{"$f":"'Harmonogram produkcji '!E225","v":0},{"$f":"IF('Harmonogram produkcji '!G225=\"X\",\"z pierwszych 12 miesiecy okresu konwersji\",IF('Harmonogram produkcji '!H225=\"X\",\"W okresie konwersji 2 rok \",IF('Harmonogram produkcji '!I225=\"X\",\"W okresie konwersji 3 rok \",IF('Harmonogram produkcji '!J225=\"X\",\"Ekologiczny \"))))","v":false},{"$f":"'Harmonogram produkcji '!L225","v":0},{"$f":"'Harmonogram produkcji '!M225","v":0},null,{"$f":"'Harmonogram produkcji '!P225","v":0},{"$f":"'Harmonogram produkcji '!Q225","v":0},{"$f":"IF('Harmonogram produkcji '!R225=\"X\",\"ekologiczny \",IF('Harmonogram produkcji '!S225=\"X\",\"nieekologiczny\",IF('Harmonogram produkcji '!T225=\"X\",\"z własnego gospodarstwa\",IF('Harmonogram produkcji '!U225=\"X\",\"ND, uprawa zastana\"))))","v":false},{"$f":"'Harmonogram produkcji '!V225","v":"00:00:00"},{"$f":"'Harmonogram produkcji '!F225","v":"00:00:00"},null,null,null,{"$f":"'Harmonogram produkcji '!Y225","v":0},{"$f":"'Harmonogram produkcji '!Z225","v":0},{"$f":"'Harmonogram produkcji '!W225","v":0},{"$f":"'Harmonogram produkcji '!X225","v":0}]
[{"$f":"'Harmonogram produkcji '!B226","v":0},{"$f":"'Harmonogram produkcji '!C226","v":0},{"$f":"'Harmonogram produkcji '!D226","v":0},{"$f":"'Harmonogram produkcji '!E226","v":0},{"$f":"IF('Harmonogram produkcji '!G226=\"X\",\"z pierwszych 12 miesiecy okresu konwersji\",IF('Harmonogram produkcji '!H226=\"X\",\"W okresie konwersji 2 rok \",IF('Harmonogram produkcji '!I226=\"X\",\"W okresie konwersji 3 rok \",IF('Harmonogram produkcji '!J226=\"X\",\"Ekologiczny \"))))","v":false},{"$f":"'Harmonogram produkcji '!L226","v":0},{"$f":"'Harmonogram produkcji '!M226","v":0},null,{"$f":"'Harmonogram produkcji '!P226","v":0},{"$f":"'Harmonogram produkcji '!Q226","v":0},{"$f":"IF('Harmonogram produkcji '!R226=\"X\",\"ekologiczny \",IF('Harmonogram produkcji '!S226=\"X\",\"nieekologiczny\",IF('Harmonogram produkcji '!T226=\"X\",\"z własnego gospodarstwa\",IF('Harmonogram produkcji '!U226=\"X\",\"ND, uprawa zastana\"))))","v":false},{"$f":"'Harmonogram produkcji '!V226","v":"00:00:00"},{"$f":"'Harmonogram produkcji '!F226","v":"00:00:00"},null,null,null,{"$f":"'Harmonogram produkcji '!Y226","v":0},{"$f":"'Harmonogram produkcji '!Z226","v":0},{"$f":"'Harmonogram produkcji '!W226","v":0},{"$f":"'Harmonogram produkcji '!X226","v":0}]
[{"$f":"'Harmonogram produkcji '!B227","v":0},{"$f":"'Harmonogram produkcji '!C227","v":0},{"$f":"'Harmonogram produkcji '!D227","v":0},{"$f":"'Harmonogram produkcji '!E227","v":0},{"$f":"IF('Harmonogram produkcji '!G227=\"X\",\"z pierwszych 12 miesiecy okresu konwersji\",IF('Harmonogram produkcji '!H227=\"X\",\"W okresie konwersji 2 rok \",IF('Harmonogram produkcji '!I227=\"X\",\"W okresie konwersji 3 rok \",IF('Harmonogram produkcji '!J227=\"X\",\"Ekologiczny \"))))","v":false},{"$f":"'Harmonogram produkcji '!L227","v":0},{"$f":"'Harmonogram produkcji '!M227","v":0},null,{"$f":"'Harmonogram produkcji '!P227","v":0},{"$f":"'Harmonogram produkcji '!Q227","v":0},{"$f":"IF('Harmonogram produkcji '!R227=\"X\",\"ekologiczny \",IF('Harmonogram produkcji '!S227=\"X\",\"nieekologiczny\",IF('Harmonogram produkcji '!T227=\"X\",\"z własnego gospodarstwa\",IF('Harmonogram produkcji '!U227=\"X\",\"ND, uprawa zastana\"))))","v":false},{"$f":"'Harmonogram produkcji '!V227","v":"00:00:00"},{"$f":"'Harmonogram produkcji '!F227","v":"00:00:00"},null,null,null,{"$f":"'Harmonogram produkcji '!Y227","v":0},{"$f":"'Harmonogram produkcji '!Z227","v":0},{"$f":"'Harmonogram produkcji '!W227","v":0},{"$f":"'Harmonogram produkcji '!X227","v":0}]
[{"$f":"'Harmonogram produkcji '!B228","v":0},{"$f":"'Harmonogram produkcji '!C228","v":0},{"$f":"'Harmonogram produkcji '!D228","v":0},{"$f":"'Harmonogram produkcji '!E228","v":0},{"$f":"IF('Harmonogram produkcji '!G228=\"X\",\"z pierwszych 12 miesiecy okresu konwersji\",IF('Harmonogram produkcji '!H228=\"X\",\"W okresie konwersji 2 rok \",IF('Harmonogram produkcji '!I228=\"X\",\"W okresie konwersji 3 rok \",IF('Harmonogram produkcji '!J228=\"X\",\"Ekologiczny \"))))","v":false},{"$f":"'Harmonogram produkcji '!L228","v":0},{"$f":"'Harmonogram produkcji '!M228","v":0},null,{"$f":"'Harmonogram produkcji '!P228","v":0},{"$f":"'Harmonogram produkcji '!Q228","v":0},{"$f":"IF('Harmonogram produkcji '!R228=\"X\",\"ekologiczny \",IF('Harmonogram produkcji '!S228=\"X\",\"nieekologiczny\",IF('Harmonogram produkcji '!T228=\"X\",\"z własnego gospodarstwa\",IF('Harmonogram produkcji '!U228=\"X\",\"ND, uprawa zastana\"))))","v":false},{"$f":"'Harmonogram produkcji '!V228","v":"00:00:00"},{"$f":"'Harmonogram produkcji '!F228","v":"00:00:00"},null,null,null,{"$f":"'Harmonogram produkcji '!Y228","v":0},{"$f":"'Harmonogram produkcji '!Z228","v":0},{"$f":"'Harmonogram produkcji '!W228","v":0},{"$f":"'Harmonogram produkcji '!X228","v":0}]
[{"$f":"'Harmonogram produkcji '!B229","v":0},{"$f":"'Harmonogram produkcji '!C229","v":0},{"$f":"'Harmonogram produkcji '!D229","v":0},{"$f":"'Harmonogram produkcji '!E229","v":0},{"$f":"IF('Harmonogram produkcji '!G229=\"X\",\"z pierwszych 12 miesiecy okresu konwersji\",IF('Harmonogram produkcji '!H229=\"X\",\"W okresie konwersji 2 rok \",IF('Harmonogram produkcji '!I229=\"X\",\"W okresie konwersji 3 rok \",IF('Harmonogram produkcji '!J229=\"X\",\"Ekologiczny \"))))","v":false},{"$f":"'Harmonogram produkcji '!L229","v":0},{"$f":"'Harmonogram produkcji '!M229","v":0},null,{"$f":"'Harmonogram produkcji '!P229","v":0},{"$f":"'Harmonogram produkcji '!Q229","v":0},{"$f":"IF('Harmonogram produkcji '!R229=\"X\",\"ekologiczny \",IF('Harmonogram produkcji '!S229=\"X\",\"nieekologiczny\",IF('Harmonogram produkcji '!T229=\"X\",\"z własnego gospodarstwa\",IF('Harmonogram produkcji '!U229=\"X\",\"ND, uprawa zastana\"))))","v":false},{"$f":"'Harmonogram produkcji '!V229","v":"00:00:00"},{"$f":"'Harmonogram produkcji '!F229","v":"00:00:00"},null,null,null,{"$f":"'Harmonogram produkcji '!Y229","v":0},{"$f":"'Harmonogram produkcji '!Z229","v":0},{"$f":"'Harmonogram produkcji '!W229","v":0},{"$f":"'Harmonogram produkcji '!X229","v":0}]
[{"$f":"'Harmonogram produkcji '!B230","v":0},{"$f":"'Harmonogram produkcji '!C230","v":0},{"$f":"'Harmonogram produkcji '!D230","v":0},{"$f":"'Harmonogram produkcji '!E230","v":0},{"$f":"IF('Harmonogram produkcji '!G230=\"X\",\"z pierwszych 12 miesiecy okresu konwersji\",IF('Harmonogram produkcji '!H230=\"X\",\"W okresie konwersji 2 rok \",IF('Harmonogram produkcji '!I230=\"X\",\"W okresie konwersji 3 rok \",IF('Harmonogram produkcji '!J230=\"X\",\"Ekologiczny \"))))","v":false},{"$f":"'Harmonogram produkcji '!L230","v":0},{"$f":"'Harmonogram produkcji '!M230","v":0},null,{"$f":"'Harmonogram produkcji '!P230","v":0},{"$f":"'Harmonogram produkcji '!Q230","v":0},{"$f":"IF('Harmonogram produkcji '!R230=\"X\",\"ekologiczny \",IF('Harmonogram produkcji '!S230=\"X\",\"nieekologiczny\",IF('Harmonogram produkcji '!T230=\"X\",\"z własnego gospodarstwa\",IF('Harmonogram produkcji '!U230=\"X\",\"ND, uprawa zastana\"))))","v":false},{"$f":"'Harmonogram produkcji '!V230","v":"00:00:00"},{"$f":"'Harmonogram produkcji '!F230","v":"00:00:00"},null,null,null,{"$f":"'Harmonogram produkcji '!Y230","v":0},{"$f":"'Harmonogram produkcji '!Z230","v":0},{"$f":"'Harmonogram produkcji '!W230","v":0},{"$f":"'Harmonogram produkcji '!X230","v":0}]
[{"$f":"'Harmonogram produkcji '!B231","v":0},{"$f":"'Harmonogram produkcji '!C231","v":0},{"$f":"'Harmonogram produkcji '!D231","v":0},{"$f":"'Harmonogram produkcji '!E231","v":0},{"$f":"IF('Harmonogram produkcji '!G231=\"X\",\"z pierwszych 12 miesiecy okresu konwersji\",IF('Harmonogram produkcji '!H231=\"X\",\"W okresie konwersji 2 rok \",IF('Harmonogram produkcji '!I231=\"X\",\"W okresie konwersji 3 rok \",IF('Harmonogram produkcji '!J231=\"X\",\"Ekologiczny \"))))","v":false},{"$f":"'Harmonogram produkcji '!L231","v":0},{"$f":"'Harmonogram produkcji '!M231","v":0},null,{"$f":"'Harmonogram produkcji '!P231","v":0},{"$f":"'Harmonogram produkcji '!Q231","v":0},{"$f":"IF('Harmonogram produkcji '!R231=\"X\",\"ekologiczny \",IF('Harmonogram produkcji '!S231=\"X\",\"nieekologiczny\",IF('Harmonogram produkcji '!T231=\"X\",\"z własnego gospodarstwa\",IF('Harmonogram produkcji '!U231=\"X\",\"ND, uprawa zastana\"))))","v":false},{"$f":"'Harmonogram produkcji '!V231","v":"00:00:00"},{"$f":"'Harmonogram produkcji '!F231","v":"00:00:00"},null,null,null,{"$f":"'Harmonogram produkcji '!Y231","v":0},{"$f":"'Harmonogram produkcji '!Z231","v":0},{"$f":"'Harmonogram produkcji '!W231","v":0},{"$f":"'Harmonogram produkcji '!X231","v":0}]
[{"$f":"'Harmonogram produkcji '!B232","v":0},{"$f":"'Harmonogram produkcji '!C232","v":0},{"$f":"'Harmonogram produkcji '!D232","v":0},{"$f":"'Harmonogram produkcji '!E232","v":0},{"$f":"IF('Harmonogram produkcji '!G232=\"X\",\"z pierwszych 12 miesiecy okresu konwersji\",IF('Harmonogram produkcji '!H232=\"X\",\"W okresie konwersji 2 rok \",IF('Harmonogram produkcji '!I232=\"X\",\"W okresie konwersji 3 rok \",IF('Harmonogram produkcji '!J232=\"X\",\"Ekologiczny \"))))","v":false},{"$f":"'Harmonogram produkcji '!L232","v":0},{"$f":"'Harmonogram produkcji '!M232","v":0},null,{"$f":"'Harmonogram produkcji '!P232","v":0},{"$f":"'Harmonogram produkcji '!Q232","v":0},{"$f":"IF('Harmonogram produkcji '!R232=\"X\",\"ekologiczny \",IF('Harmonogram produkcji '!S232=\"X\",\"nieekologiczny\",IF('Harmonogram produkcji '!T232=\"X\",\"z własnego gospodarstwa\",IF('Harmonogram produkcji '!U232=\"X\",\"ND, uprawa zastana\"))))","v":false},{"$f":"'Harmonogram produkcji '!V232","v":"00:00:00"},{"$f":"'Harmonogram produkcji '!F232","v":"00:00:00"},null,null,null,{"$f":"'Harmonogram produkcji '!Y232","v":0},{"$f":"'Harmonogram produkcji '!Z232","v":0},{"$f":"'Harmonogram produkcji '!W232","v":0},{"$f":"'Harmonogram produkcji '!X232","v":0}]
[{"$f":"'Harmonogram produkcji '!B233","v":0},{"$f":"'Harmonogram produkcji '!C233","v":0},{"$f":"'Harmonogram produkcji '!D233","v":0},{"$f":"'Harmonogram produkcji '!E233","v":0},{"$f":"IF('Harmonogram produkcji '!G233=\"X\",\"z pierwszych 12 miesiecy okresu konwersji\",IF('Harmonogram produkcji '!H233=\"X\",\"W okresie konwersji 2 rok \",IF('Harmonogram produkcji '!I233=\"X\",\"W okresie konwersji 3 rok \",IF('Harmonogram produkcji '!J233=\"X\",\"Ekologiczny \"))))","v":false},{"$f":"'Harmonogram produkcji '!L233","v":0},{"$f":"'Harmonogram produkcji '!M233","v":0},null,{"$f":"'Harmonogram produkcji '!P233","v":0},{"$f":"'Harmonogram produkcji '!Q233","v":0},{"$f":"IF('Harmonogram produkcji '!R233=\"X\",\"ekologiczny \",IF('Harmonogram produkcji '!S233=\"X\",\"nieekologiczny\",IF('Harmonogram produkcji '!T233=\"X\",\"z własnego gospodarstwa\",IF('Harmonogram produkcji '!U233=\"X\",\"ND, uprawa zastana\"))))","v":false},{"$f":"'Harmonogram produkcji '!V233","v":"00:00:00"},{"$f":"'Harmonogram produkcji '!F233","v":"00:00:00"},null,null,null,{"$f":"'Harmonogram produkcji '!Y233","v":0},{"$f":"'Harmonogram produkcji '!Z233","v":0},{"$f":"'Harmonogram produkcji '!W233","v":0},{"$f":"'Harmonogram produkcji '!X233","v":0}]
[{"$f":"'Harmonogram produkcji '!B234","v":0},{"$f":"'Harmonogram produkcji '!C234","v":0},{"$f":"'Harmonogram produkcji '!D234","v":0},{"$f":"'Harmonogram produkcji '!E234","v":0},{"$f":"IF('Harmonogram produkcji '!G234=\"X\",\"z pierwszych 12 miesiecy okresu konwersji\",IF('Harmonogram produkcji '!H234=\"X\",\"W okresie konwersji 2 rok \",IF('Harmonogram produkcji '!I234=\"X\",\"W okresie konwersji 3 rok \",IF('Harmonogram produkcji '!J234=\"X\",\"Ekologiczny \"))))","v":false},{"$f":"'Harmonogram produkcji '!L234","v":0},{"$f":"'Harmonogram produkcji '!M234","v":0},null,{"$f":"'Harmonogram produkcji '!P234","v":0},{"$f":"'Harmonogram produkcji '!Q234","v":0},{"$f":"IF('Harmonogram produkcji '!R234=\"X\",\"ekologiczny \",IF('Harmonogram produkcji '!S234=\"X\",\"nieekologiczny\",IF('Harmonogram produkcji '!T234=\"X\",\"z własnego gospodarstwa\",IF('Harmonogram produkcji '!U234=\"X\",\"ND, uprawa zastana\"))))","v":false},{"$f":"'Harmonogram produkcji '!V234","v":"00:00:00"},{"$f":"'Harmonogram produkcji '!F234","v":"00:00:00"},null,null,null,{"$f":"'Harmonogram produkcji '!Y234","v":0},{"$f":"'Harmonogram produkcji '!Z234","v":0},{"$f":"'Harmonogram produkcji '!W234","v":0},{"$f":"'Harmonogram produkcji '!X234","v":0}]
[{"$f":"'Harmonogram produkcji '!B235","v":0},{"$f":"'Harmonogram produkcji '!C235","v":0},{"$f":"'Harmonogram produkcji '!D235","v":0},{"$f":"'Harmonogram produkcji '!E235","v":0},{"$f":"IF('Harmonogram produkcji '!G235=\"X\",\"z pierwszych 12 miesiecy okresu konwersji\",IF('Harmonogram produkcji '!H235=\"X\",\"W okresie konwersji 2 rok \",IF('Harmonogram produkcji '!I235=\"X\",\"W okresie konwersji 3 rok \",IF('Harmonogram produkcji '!J235=\"X\",\"Ekologiczny \"))))","v":false},{"$f":"'Harmonogram produkcji '!L235","v":0},{"$f":"'Harmonogram produkcji '!M235","v":0},null,{"$f":"'Harmonogram produkcji '!P235","v":0},{"$f":"'Harmonogram produkcji '!Q235","v":0},{"$f":"IF('Harmonogram produkcji '!R235=\"X\",\"ekologiczny \",IF('Harmonogram produkcji '!S235=\"X\",\"nieekologiczny\",IF('Harmonogram produkcji '!T235=\"X\",\"z własnego gospodarstwa\",IF('Harmonogram produkcji '!U235=\"X\",\"ND, uprawa zastana\"))))","v":false},{"$f":"'Harmonogram produkcji '!V235","v":"00:00:00"},{"$f":"'Harmonogram produkcji '!F235","v":"00:00:00"},null,null,null,{"$f":"'Harmonogram produkcji '!Y235","v":0},{"$f":"'Harmonogram produkcji '!Z235","v":0},{"$f":"'Harmonogram produkcji '!W235","v":0},{"$f":"'Harmonogram produkcji '!X235","v":0}]
[{"$f":"'Harmonogram produkcji '!B236","v":0},{"$f":"'Harmonogram produkcji '!C236","v":0},{"$f":"'Harmonogram produkcji '!D236","v":0},{"$f":"'Harmonogram produkcji '!E236","v":0},{"$f":"IF('Harmonogram produkcji '!G236=\"X\",\"z pierwszych 12 miesiecy okresu konwersji\",IF('Harmonogram produkcji '!H236=\"X\",\"W okresie konwersji 2 rok \",IF('Harmonogram produkcji '!I236=\"X\",\"W okresie konwersji 3 rok \",IF('Harmonogram produkcji '!J236=\"X\",\"Ekologiczny \"))))","v":false},{"$f":"'Harmonogram produkcji '!L236","v":0},{"$f":"'Harmonogram produkcji '!M236","v":0},null,{"$f":"'Harmonogram produkcji '!P236","v":0},{"$f":"'Harmonogram produkcji '!Q236","v":0},{"$f":"IF('Harmonogram produkcji '!R236=\"X\",\"ekologiczny \",IF('Harmonogram produkcji '!S236=\"X\",\"nieekologiczny\",IF('Harmonogram produkcji '!T236=\"X\",\"z własnego gospodarstwa\",IF('Harmonogram produkcji '!U236=\"X\",\"ND, uprawa zastana\"))))","v":false},{"$f":"'Harmonogram produkcji '!V236","v":"00:00:00"},{"$f":"'Harmonogram produkcji '!F236","v":"00:00:00"},null,null,null,{"$f":"'Harmonogram produkcji '!Y236","v":0},{"$f":"'Harmonogram produkcji '!Z236","v":0},{"$f":"'Harmonogram produkcji '!W236","v":0},{"$f":"'Harmonogram produkcji '!X236","v":0}]
[{"$f":"'Harmonogram produkcji '!B237","v":0},{"$f":"'Harmonogram produkcji '!C237","v":0},{"$f":"'Harmonogram produkcji '!D237","v":0},{"$f":"'Harmonogram produkcji '!E237","v":0},{"$f":"IF('Harmonogram produkcji '!G237=\"X\",\"z pierwszych 12 miesiecy okresu konwersji\",IF('Harmonogram produkcji '!H237=\"X\",\"W okresie konwersji 2 rok \",IF('Harmonogram produkcji '!I237=\"X\",\"W okresie konwersji 3 rok \",IF('Harmonogram produkcji '!J237=\"X\",\"Ekologiczny \"))))","v":false},{"$f":"'Harmonogram produkcji '!L237","v":0},{"$f":"'Harmonogram produkcji '!M237","v":0},null,{"$f":"'Harmonogram produkcji '!P237","v":0},{"$f":"'Harmonogram produkcji '!Q237","v":0},{"$f":"IF('Harmonogram produkcji '!R237=\"X\",\"ekologiczny \",IF('Harmonogram produkcji '!S237=\"X\",\"nieekologiczny\",IF('Harmonogram produkcji '!T237=\"X\",\"z własnego gospodarstwa\",IF('Harmonogram produkcji '!U237=\"X\",\"ND, uprawa zastana\"))))","v":false},{"$f":"'Harmonogram produkcji '!V237","v":"00:00:00"},{"$f":"'Harmonogram produkcji '!F237","v":"00:00:00"},null,null,null,{"$f":"'Harmonogram produkcji '!Y237","v":0},{"$f":"'Harmonogram produkcji '!Z237","v":0},{"$f":"'Harmonogram produkcji '!W237","v":0},{"$f":"'Harmonogram produkcji '!X237","v":0}]
[{"$f":"'Harmonogram produkcji '!B238","v":0},{"$f":"'Harmonogram produkcji '!C238","v":0},{"$f":"'Harmonogram produkcji '!D238","v":0},{"$f":"'Harmonogram produkcji '!E238","v":0},{"$f":"IF('Harmonogram produkcji '!G238=\"X\",\"z pierwszych 12 miesiecy okresu konwersji\",IF('Harmonogram produkcji '!H238=\"X\",\"W okresie konwersji 2 rok \",IF('Harmonogram produkcji '!I238=\"X\",\"W okresie konwersji 3 rok \",IF('Harmonogram produkcji '!J238=\"X\",\"Ekologiczny \"))))","v":false},{"$f":"'Harmonogram produkcji '!L238","v":0},{"$f":"'Harmonogram produkcji '!M238","v":0},null,{"$f":"'Harmonogram produkcji '!P238","v":0},{"$f":"'Harmonogram produkcji '!Q238","v":0},{"$f":"IF('Harmonogram produkcji '!R238=\"X\",\"ekologiczny \",IF('Harmonogram produkcji '!S238=\"X\",\"nieekologiczny\",IF('Harmonogram produkcji '!T238=\"X\",\"z własnego gospodarstwa\",IF('Harmonogram produkcji '!U238=\"X\",\"ND, uprawa zastana\"))))","v":false},{"$f":"'Harmonogram produkcji '!V238","v":"00:00:00"},{"$f":"'Harmonogram produkcji '!F238","v":"00:00:00"},null,null,null,{"$f":"'Harmonogram produkcji '!Y238","v":0},{"$f":"'Harmonogram produkcji '!Z238","v":0},{"$f":"'Harmonogram produkcji '!W238","v":0},{"$f":"'Harmonogram produkcji '!X238","v":0}]
[{"$f":"'Harmonogram produkcji '!B239","v":0},{"$f":"'Harmonogram produkcji '!C239","v":0},{"$f":"'Harmonogram produkcji '!D239","v":0},{"$f":"'Harmonogram produkcji '!E239","v":0},{"$f":"IF('Harmonogram produkcji '!G239=\"X\",\"z pierwszych 12 miesiecy okresu konwersji\",IF('Harmonogram produkcji '!H239=\"X\",\"W okresie konwersji 2 rok \",IF('Harmonogram produkcji '!I239=\"X\",\"W okresie konwersji 3 rok \",IF('Harmonogram produkcji '!J239=\"X\",\"Ekologiczny \"))))","v":false},{"$f":"'Harmonogram produkcji '!L239","v":0},{"$f":"'Harmonogram produkcji '!M239","v":0},null,{"$f":"'Harmonogram produkcji '!P239","v":0},{"$f":"'Harmonogram produkcji '!Q239","v":0},{"$f":"IF('Harmonogram produkcji '!R239=\"X\",\"ekologiczny \",IF('Harmonogram produkcji '!S239=\"X\",\"nieekologiczny\",IF('Harmonogram produkcji '!T239=\"X\",\"z własnego gospodarstwa\",IF('Harmonogram produkcji '!U239=\"X\",\"ND, uprawa zastana\"))))","v":false},{"$f":"'Harmonogram produkcji '!V239","v":"00:00:00"},{"$f":"'Harmonogram produkcji '!F239","v":"00:00:00"},null,null,null,{"$f":"'Harmonogram produkcji '!Y239","v":0},{"$f":"'Harmonogram produkcji '!Z239","v":0},{"$f":"'Harmonogram produkcji '!W239","v":0},{"$f":"'Harmonogram produkcji '!X239","v":0}]
[{"$f":"'Harmonogram produkcji '!B240","v":0},{"$f":"'Harmonogram produkcji '!C240","v":0},{"$f":"'Harmonogram produkcji '!D240","v":0},{"$f":"'Harmonogram produkcji '!E240","v":0},{"$f":"IF('Harmonogram produkcji '!G240=\"X\",\"z pierwszych 12 miesiecy okresu konwersji\",IF('Harmonogram produkcji '!H240=\"X\",\"W okresie konwersji 2 rok \",IF('Harmonogram produkcji '!I240=\"X\",\"W okresie konwersji 3 rok \",IF('Harmonogram produkcji '!J240=\"X\",\"Ekologiczny \"))))","v":false},{"$f":"'Harmonogram produkcji '!L240","v":0},{"$f":"'Harmonogram produkcji '!M240","v":0},null,{"$f":"'Harmonogram produkcji '!P240","v":0},{"$f":"'Harmonogram produkcji '!Q240","v":0},{"$f":"IF('Harmonogram produkcji '!R240=\"X\",\"ekologiczny \",IF('Harmonogram produkcji '!S240=\"X\",\"nieekologiczny\",IF('Harmonogram produkcji '!T240=\"X\",\"z własnego gospodarstwa\",IF('Harmonogram produkcji '!U240=\"X\",\"ND, uprawa zastana\"))))","v":false},{"$f":"'Harmonogram produkcji '!V240","v":"00:00:00"},{"$f":"'Harmonogram produkcji '!F240","v":"00:00:00"},null,null,null,{"$f":"'Harmonogram produkcji '!Y240","v":0},{"$f":"'Harmonogram produkcji '!Z240","v":0},{"$f":"'Harmonogram produkcji '!W240","v":0},{"$f":"'Harmonogram produkcji '!X240","v":0}]
[{"$f":"'Harmonogram produkcji '!B241","v":0},{"$f":"'Harmonogram produkcji '!C241","v":0},{"$f":"'Harmonogram produkcji '!D241","v":0},{"$f":"'Harmonogram produkcji '!E241","v":0},{"$f":"IF('Harmonogram produkcji '!G241=\"X\",\"z pierwszych 12 miesiecy okresu konwersji\",IF('Harmonogram produkcji '!H241=\"X\",\"W okresie konwersji 2 rok \",IF('Harmonogram produkcji '!I241=\"X\",\"W okresie konwersji 3 rok \",IF('Harmonogram produkcji '!J241=\"X\",\"Ekologiczny \"))))","v":false},{"$f":"'Harmonogram produkcji '!L241","v":0},{"$f":"'Harmonogram produkcji '!M241","v":0},null,{"$f":"'Harmonogram produkcji '!P241","v":0},{"$f":"'Harmonogram produkcji '!Q241","v":0},{"$f":"IF('Harmonogram produkcji '!R241=\"X\",\"ekologiczny \",IF('Harmonogram produkcji '!S241=\"X\",\"nieekologiczny\",IF('Harmonogram produkcji '!T241=\"X\",\"z własnego gospodarstwa\",IF('Harmonogram produkcji '!U241=\"X\",\"ND, uprawa zastana\"))))","v":false},{"$f":"'Harmonogram produkcji '!V241","v":"00:00:00"},{"$f":"'Harmonogram produkcji '!F241","v":"00:00:00"},null,null,null,{"$f":"'Harmonogram produkcji '!Y241","v":0},{"$f":"'Harmonogram produkcji '!Z241","v":0},{"$f":"'Harmonogram produkcji '!W241","v":0},{"$f":"'Harmonogram produkcji '!X241","v":0}]
[{"$f":"'Harmonogram produkcji '!B242","v":0},{"$f":"'Harmonogram produkcji '!C242","v":0},{"$f":"'Harmonogram produkcji '!D242","v":0},{"$f":"'Harmonogram produkcji '!E242","v":0},{"$f":"IF('Harmonogram produkcji '!G242=\"X\",\"z pierwszych 12 miesiecy okresu konwersji\",IF('Harmonogram produkcji '!H242=\"X\",\"W okresie konwersji 2 rok \",IF('Harmonogram produkcji '!I242=\"X\",\"W okresie konwersji 3 rok \",IF('Harmonogram produkcji '!J242=\"X\",\"Ekologiczny \"))))","v":false},{"$f":"'Harmonogram produkcji '!L242","v":0},{"$f":"'Harmonogram produkcji '!M242","v":0},null,{"$f":"'Harmonogram produkcji '!P242","v":0},{"$f":"'Harmonogram produkcji '!Q242","v":0},{"$f":"IF('Harmonogram produkcji '!R242=\"X\",\"ekologiczny \",IF('Harmonogram produkcji '!S242=\"X\",\"nieekologiczny\",IF('Harmonogram produkcji '!T242=\"X\",\"z własnego gospodarstwa\",IF('Harmonogram produkcji '!U242=\"X\",\"ND, uprawa zastana\"))))","v":false},{"$f":"'Harmonogram produkcji '!V242","v":"00:00:00"},{"$f":"'Harmonogram produkcji '!F242","v":"00:00:00"},null,null,null,{"$f":"'Harmonogram produkcji '!Y242","v":0},{"$f":"'Harmonogram produkcji '!Z242","v":0},{"$f":"'Harmonogram produkcji '!W242","v":0},{"$f":"'Harmonogram produkcji '!X242","v":0}]
[{"$f":"'Harmonogram produkcji '!B243","v":0},{"$f":"'Harmonogram produkcji '!C243","v":0},{"$f":"'Harmonogram produkcji '!D243","v":0},{"$f":"'Harmonogram produkcji '!E243","v":0},{"$f":"IF('Harmonogram produkcji '!G243=\"X\",\"z pierwszych 12 miesiecy okresu konwersji\",IF('Harmonogram produkcji '!H243=\"X\",\"W okresie konwersji 2 rok \",IF('Harmonogram produkcji '!I243=\"X\",\"W okresie konwersji 3 rok \",IF('Harmonogram produkcji '!J243=\"X\",\"Ekologiczny \"))))","v":false},{"$f":"'Harmonogram produkcji '!L243","v":0},{"$f":"'Harmonogram produkcji '!M243","v":0},null,{"$f":"'Harmonogram produkcji '!P243","v":0},{"$f":"'Harmonogram produkcji '!Q243","v":0},{"$f":"IF('Harmonogram produkcji '!R243=\"X\",\"ekologiczny \",IF('Harmonogram produkcji '!S243=\"X\",\"nieekologiczny\",IF('Harmonogram produkcji '!T243=\"X\",\"z własnego gospodarstwa\",IF('Harmonogram produkcji '!U243=\"X\",\"ND, uprawa zastana\"))))","v":false},{"$f":"'Harmonogram produkcji '!V243","v":"00:00:00"},{"$f":"'Harmonogram produkcji '!F243","v":"00:00:00"},null,null,null,{"$f":"'Harmonogram produkcji '!Y243","v":0},{"$f":"'Harmonogram produkcji '!Z243","v":0},{"$f":"'Harmonogram produkcji '!W243","v":0},{"$f":"'Harmonogram produkcji '!X243","v":0}]
[{"$f":"'Harmonogram produkcji '!B244","v":0},{"$f":"'Harmonogram produkcji '!C244","v":0},{"$f":"'Harmonogram produkcji '!D244","v":0},{"$f":"'Harmonogram produkcji '!E244","v":0},{"$f":"IF('Harmonogram produkcji '!G244=\"X\",\"z pierwszych 12 miesiecy okresu konwersji\",IF('Harmonogram produkcji '!H244=\"X\",\"W okresie konwersji 2 rok \",IF('Harmonogram produkcji '!I244=\"X\",\"W okresie konwersji 3 rok \",IF('Harmonogram produkcji '!J244=\"X\",\"Ekologiczny \"))))","v":false},{"$f":"'Harmonogram produkcji '!L244","v":0},{"$f":"'Harmonogram produkcji '!M244","v":0},null,{"$f":"'Harmonogram produkcji '!P244","v":0},{"$f":"'Harmonogram produkcji '!Q244","v":0},{"$f":"IF('Harmonogram produkcji '!R244=\"X\",\"ekologiczny \",IF('Harmonogram produkcji '!S244=\"X\",\"nieekologiczny\",IF('Harmonogram produkcji '!T244=\"X\",\"z własnego gospodarstwa\",IF('Harmonogram produkcji '!U244=\"X\",\"ND, uprawa zastana\"))))","v":false},{"$f":"'Harmonogram produkcji '!V244","v":"00:00:00"},{"$f":"'Harmonogram produkcji '!F244","v":"00:00:00"},null,null,null,{"$f":"'Harmonogram produkcji '!Y244","v":0},{"$f":"'Harmonogram produkcji '!Z244","v":0},{"$f":"'Harmonogram produkcji '!W244","v":0},{"$f":"'Harmonogram produkcji '!X244","v":0}]
[{"$f":"'Harmonogram produkcji '!B245","v":0},{"$f":"'Harmonogram produkcji '!C245","v":0},{"$f":"'Harmonogram produkcji '!D245","v":0},{"$f":"'Harmonogram produkcji '!E245","v":0},{"$f":"IF('Harmonogram produkcji '!G245=\"X\",\"z pierwszych 12 miesiecy okresu konwersji\",IF('Harmonogram produkcji '!H245=\"X\",\"W okresie konwersji 2 rok \",IF('Harmonogram produkcji '!I245=\"X\",\"W okresie konwersji 3 rok \",IF('Harmonogram produkcji '!J245=\"X\",\"Ekologiczny \"))))","v":false},{"$f":"'Harmonogram produkcji '!L245","v":0},{"$f":"'Harmonogram produkcji '!M245","v":0},null,{"$f":"'Harmonogram produkcji '!P245","v":0},{"$f":"'Harmonogram produkcji '!Q245","v":0},{"$f":"IF('Harmonogram produkcji '!R245=\"X\",\"ekologiczny \",IF('Harmonogram produkcji '!S245=\"X\",\"nieekologiczny\",IF('Harmonogram produkcji '!T245=\"X\",\"z własnego gospodarstwa\",IF('Harmonogram produkcji '!U245=\"X\",\"ND, uprawa zastana\"))))","v":false},{"$f":"'Harmonogram produkcji '!V245","v":"00:00:00"},{"$f":"'Harmonogram produkcji '!F245","v":"00:00:00"},null,null,null,{"$f":"'Harmonogram produkcji '!Y245","v":0},{"$f":"'Harmonogram produkcji '!Z245","v":0},{"$f":"'Harmonogram produkcji '!W245","v":0},{"$f":"'Harmonogram produkcji '!X245","v":0}]
[{"$f":"'Harmonogram produkcji '!B246","v":0},{"$f":"'Harmonogram produkcji '!C246","v":0},{"$f":"'Harmonogram produkcji '!D246","v":0},{"$f":"'Harmonogram produkcji '!E246","v":0},{"$f":"IF('Harmonogram produkcji '!G246=\"X\",\"z pierwszych 12 miesiecy okresu konwersji\",IF('Harmonogram produkcji '!H246=\"X\",\"W okresie konwersji 2 rok \",IF('Harmonogram produkcji '!I246=\"X\",\"W okresie konwersji 3 rok \",IF('Harmonogram produkcji '!J246=\"X\",\"Ekologiczny \"))))","v":false},{"$f":"'Harmonogram produkcji '!L246","v":0},{"$f":"'Harmonogram produkcji '!M246","v":0},null,{"$f":"'Harmonogram produkcji '!P246","v":0},{"$f":"'Harmonogram produkcji '!Q246","v":0},{"$f":"IF('Harmonogram produkcji '!R246=\"X\",\"ekologiczny \",IF('Harmonogram produkcji '!S246=\"X\",\"nieekologiczny\",IF('Harmonogram produkcji '!T246=\"X\",\"z własnego gospodarstwa\",IF('Harmonogram produkcji '!U246=\"X\",\"ND, uprawa zastana\"))))","v":false},{"$f":"'Harmonogram produkcji '!V246","v":"00:00:00"},{"$f":"'Harmonogram produkcji '!F246","v":"00:00:00"},null,null,null,{"$f":"'Harmonogram produkcji '!Y246","v":0},{"$f":"'Harmonogram produkcji '!Z246","v":0},{"$f":"'Harmonogram produkcji '!W246","v":0},{"$f":"'Harmonogram produkcji '!X246","v":0}]
[{"$f":"'Harmonogram produkcji '!B247","v":0},{"$f":"'Harmonogram produkcji '!C247","v":0},{"$f":"'Harmonogram produkcji '!D247","v":0},{"$f":"'Harmonogram produkcji '!E247","v":0},{"$f":"IF('Harmonogram produkcji '!G247=\"X\",\"z pierwszych 12 miesiecy okresu konwersji\",IF('Harmonogram produkcji '!H247=\"X\",\"W okresie konwersji 2 rok \",IF('Harmonogram produkcji '!I247=\"X\",\"W okresie konwersji 3 rok \",IF('Harmonogram produkcji '!J247=\"X\",\"Ekologiczny \"))))","v":false},{"$f":"'Harmonogram produkcji '!L247","v":0},{"$f":"'Harmonogram produkcji '!M247","v":0},null,{"$f":"'Harmonogram produkcji '!P247","v":0},{"$f":"'Harmonogram produkcji '!Q247","v":0},{"$f":"IF('Harmonogram produkcji '!R247=\"X\",\"ekologiczny \",IF('Harmonogram produkcji '!S247=\"X\",\"nieekologiczny\",IF('Harmonogram produkcji '!T247=\"X\",\"z własnego gospodarstwa\",IF('Harmonogram produkcji '!U247=\"X\",\"ND, uprawa zastana\"))))","v":false},{"$f":"'Harmonogram produkcji '!V247","v":"00:00:00"},{"$f":"'Harmonogram produkcji '!F247","v":"00:00:00"},null,null,null,{"$f":"'Harmonogram produkcji '!Y247","v":0},{"$f":"'Harmonogram produkcji '!Z247","v":0},{"$f":"'Harmonogram produkcji '!W247","v":0},{"$f":"'Harmonogram produkcji '!X247","v":0}]
[{"$f":"'Harmonogram produkcji '!B248","v":0},{"$f":"'Harmonogram produkcji '!C248","v":0},{"$f":"'Harmonogram produkcji '!D248","v":0},{"$f":"'Harmonogram produkcji '!E248","v":0},{"$f":"IF('Harmonogram produkcji '!G248=\"X\",\"z pierwszych 12 miesiecy okresu konwersji\",IF('Harmonogram produkcji '!H248=\"X\",\"W okresie konwersji 2 rok \",IF('Harmonogram produkcji '!I248=\"X\",\"W okresie konwersji 3 rok \",IF('Harmonogram produkcji '!J248=\"X\",\"Ekologiczny \"))))","v":false},{"$f":"'Harmonogram produkcji '!L248","v":0},{"$f":"'Harmonogram produkcji '!M248","v":0},null,{"$f":"'Harmonogram produkcji '!P248","v":0},{"$f":"'Harmonogram produkcji '!Q248","v":0},{"$f":"IF('Harmonogram produkcji '!R248=\"X\",\"ekologiczny \",IF('Harmonogram produkcji '!S248=\"X\",\"nieekologiczny\",IF('Harmonogram produkcji '!T248=\"X\",\"z własnego gospodarstwa\",IF('Harmonogram produkcji '!U248=\"X\",\"ND, uprawa zastana\"))))","v":false},{"$f":"'Harmonogram produkcji '!V248","v":"00:00:00"},{"$f":"'Harmonogram produkcji '!F248","v":"00:00:00"},null,null,null,{"$f":"'Harmonogram produkcji '!Y248","v":0},{"$f":"'Harmonogram produkcji '!Z248","v":0},{"$f":"'Harmonogram produkcji '!W248","v":0},{"$f":"'Harmonogram produkcji '!X248","v":0}]
[{"$f":"'Harmonogram produkcji '!B249","v":0},{"$f":"'Harmonogram produkcji '!C249","v":0},{"$f":"'Harmonogram produkcji '!D249","v":0},{"$f":"'Harmonogram produkcji '!E249","v":0},{"$f":"IF('Harmonogram produkcji '!G249=\"X\",\"z pierwszych 12 miesiecy okresu konwersji\",IF('Harmonogram produkcji '!H249=\"X\",\"W okresie konwersji 2 rok \",IF('Harmonogram produkcji '!I249=\"X\",\"W okresie konwersji 3 rok \",IF('Harmonogram produkcji '!J249=\"X\",\"Ekologiczny \"))))","v":false},{"$f":"'Harmonogram produkcji '!L249","v":0},{"$f":"'Harmonogram produkcji '!M249","v":0},null,{"$f":"'Harmonogram produkcji '!P249","v":0},{"$f":"'Harmonogram produkcji '!Q249","v":0},{"$f":"IF('Harmonogram produkcji '!R249=\"X\",\"ekologiczny \",IF('Harmonogram produkcji '!S249=\"X\",\"nieekologiczny\",IF('Harmonogram produkcji '!T249=\"X\",\"z własnego gospodarstwa\",IF('Harmonogram produkcji '!U249=\"X\",\"ND, uprawa zastana\"))))","v":false},{"$f":"'Harmonogram produkcji '!V249","v":"00:00:00"},{"$f":"'Harmonogram produkcji '!F249","v":"00:00:00"},null,null,null,{"$f":"'Harmonogram produkcji '!Y249","v":0},{"$f":"'Harmonogram produkcji '!Z249","v":0},{"$f":"'Harmonogram produkcji '!W249","v":0},{"$f":"'Harmonogram produkcji '!X249","v":0}]
[{"$f":"'Harmonogram produkcji '!B250","v":0},{"$f":"'Harmonogram produkcji '!C250","v":0},{"$f":"'Harmonogram produkcji '!D250","v":0},{"$f":"'Harmonogram produkcji '!E250","v":0},{"$f":"IF('Harmonogram produkcji '!G250=\"X\",\"z pierwszych 12 miesiecy okresu konwersji\",IF('Harmonogram produkcji '!H250=\"X\",\"W okresie konwersji 2 rok \",IF('Harmonogram produkcji '!I250=\"X\",\"W okresie konwersji 3 rok \",IF('Harmonogram produkcji '!J250=\"X\",\"Ekologiczny \"))))","v":false},{"$f":"'Harmonogram produkcji '!L250","v":0},{"$f":"'Harmonogram produkcji '!M250","v":0},null,{"$f":"'Harmonogram produkcji '!P250","v":0},{"$f":"'Harmonogram produkcji '!Q250","v":0},{"$f":"IF('Harmonogram produkcji '!R250=\"X\",\"ekologiczny \",IF('Harmonogram produkcji '!S250=\"X\",\"nieekologiczny\",IF('Harmonogram produkcji '!T250=\"X\",\"z własnego gospodarstwa\",IF('Harmonogram produkcji '!U250=\"X\",\"ND, uprawa zastana\"))))","v":false},{"$f":"'Harmonogram produkcji '!V250","v":"00:00:00"},{"$f":"'Harmonogram produkcji '!F250","v":"00:00:00"},null,null,null,{"$f":"'Harmonogram produkcji '!Y250","v":0},{"$f":"'Harmonogram produkcji '!Z250","v":0},{"$f":"'Harmonogram produkcji '!W250","v":0},{"$f":"'Harmonogram produkcji '!X250","v":0}]
[{"$f":"'Harmonogram produkcji '!B251","v":0},{"$f":"'Harmonogram produkcji '!C251","v":0},{"$f":"'Harmonogram produkcji '!D251","v":0},{"$f":"'Harmonogram produkcji '!E251","v":0},{"$f":"IF('Harmonogram produkcji '!G251=\"X\",\"z pierwszych 12 miesiecy okresu konwersji\",IF('Harmonogram produkcji '!H251=\"X\",\"W okresie konwersji 2 rok \",IF('Harmonogram produkcji '!I251=\"X\",\"W okresie konwersji 3 rok \",IF('Harmonogram produkcji '!J251=\"X\",\"Ekologiczny \"))))","v":false},{"$f":"'Harmonogram produkcji '!L251","v":0},{"$f":"'Harmonogram produkcji '!M251","v":0},null,{"$f":"'Harmonogram produkcji '!P251","v":0},{"$f":"'Harmonogram produkcji '!Q251","v":0},{"$f":"IF('Harmonogram produkcji '!R251=\"X\",\"ekologiczny \",IF('Harmonogram produkcji '!S251=\"X\",\"nieekologiczny\",IF('Harmonogram produkcji '!T251=\"X\",\"z własnego gospodarstwa\",IF('Harmonogram produkcji '!U251=\"X\",\"ND, uprawa zastana\"))))","v":false},{"$f":"'Harmonogram produkcji '!V251","v":"00:00:00"},{"$f":"'Harmonogram produkcji '!F251","v":"00:00:00"},null,null,null,{"$f":"'Harmonogram produkcji '!Y251","v":0},{"$f":"'Harmonogram produkcji '!Z251","v":0},{"$f":"'Harmonogram produkcji '!W251","v":0},{"$f":"'Harmonogram produkcji '!X251","v":0}]
[{"$f":"'Harmonogram produkcji '!B252","v":0},{"$f":"'Harmonogram produkcji '!C252","v":0},{"$f":"'Harmonogram produkcji '!D252","v":0},{"$f":"'Harmonogram produkcji '!E252","v":0},{"$f":"IF('Harmonogram produkcji '!G252=\"X\",\"z pierwszych 12 miesiecy okresu konwersji\",IF('Harmonogram produkcji '!H252=\"X\",\"W okresie konwersji 2 rok \",IF('Harmonogram produkcji '!I252=\"X\",\"W okresie konwersji 3 rok \",IF('Harmonogram produkcji '!J252=\"X\",\"Ekologiczny \"))))","v":false},{"$f":"'Harmonogram produkcji '!L252","v":0},{"$f":"'Harmonogram produkcji '!M252","v":0},null,{"$f":"'Harmonogram produkcji '!P252","v":0},{"$f":"'Harmonogram produkcji '!Q252","v":0},{"$f":"IF('Harmonogram produkcji '!R252=\"X\",\"ekologiczny \",IF('Harmonogram produkcji '!S252=\"X\",\"nieekologiczny\",IF('Harmonogram produkcji '!T252=\"X\",\"z własnego gospodarstwa\",IF('Harmonogram produkcji '!U252=\"X\",\"ND, uprawa zastana\"))))","v":false},{"$f":"'Harmonogram produkcji '!V252","v":"00:00:00"},{"$f":"'Harmonogram produkcji '!F252","v":"00:00:00"},null,null,null,{"$f":"'Harmonogram produkcji '!Y252","v":0},{"$f":"'Harmonogram produkcji '!Z252","v":0},{"$f":"'Harmonogram produkcji '!W252","v":0},{"$f":"'Harmonogram produkcji '!X252","v":0}]
[{"$f":"'Harmonogram produkcji '!B253","v":0},{"$f":"'Harmonogram produkcji '!C253","v":0},{"$f":"'Harmonogram produkcji '!D253","v":0},{"$f":"'Harmonogram produkcji '!E253","v":0},{"$f":"IF('Harmonogram produkcji '!G253=\"X\",\"z pierwszych 12 miesiecy okresu konwersji\",IF('Harmonogram produkcji '!H253=\"X\",\"W okresie konwersji 2 rok \",IF('Harmonogram produkcji '!I253=\"X\",\"W okresie konwersji 3 rok \",IF('Harmonogram produkcji '!J253=\"X\",\"Ekologiczny \"))))","v":false},{"$f":"'Harmonogram produkcji '!L253","v":0},{"$f":"'Harmonogram produkcji '!M253","v":0},null,{"$f":"'Harmonogram produkcji '!P253","v":0},{"$f":"'Harmonogram produkcji '!Q253","v":0},{"$f":"IF('Harmonogram produkcji '!R253=\"X\",\"ekologiczny \",IF('Harmonogram produkcji '!S253=\"X\",\"nieekologiczny\",IF('Harmonogram produkcji '!T253=\"X\",\"z własnego gospodarstwa\",IF('Harmonogram produkcji '!U253=\"X\",\"ND, uprawa zastana\"))))","v":false},{"$f":"'Harmonogram produkcji '!V253","v":"00:00:00"},{"$f":"'Harmonogram produkcji '!F253","v":"00:00:00"},null,null,null,{"$f":"'Harmonogram produkcji '!Y253","v":0},{"$f":"'Harmonogram produkcji '!Z253","v":0},{"$f":"'Harmonogram produkcji '!W253","v":0},{"$f":"'Harmonogram produkcji '!X253","v":0}]
[{"$f":"'Harmonogram produkcji '!B254","v":0},{"$f":"'Harmonogram produkcji '!C254","v":0},{"$f":"'Harmonogram produkcji '!D254","v":0},{"$f":"'Harmonogram produkcji '!E254","v":0},{"$f":"IF('Harmonogram produkcji '!G254=\"X\",\"z pierwszych 12 miesiecy okresu konwersji\",IF('Harmonogram produkcji '!H254=\"X\",\"W okresie konwersji 2 rok \",IF('Harmonogram produkcji '!I254=\"X\",\"W okresie konwersji 3 rok \",IF('Harmonogram produkcji '!J254=\"X\",\"Ekologiczny \"))))","v":false},{"$f":"'Harmonogram produkcji '!L254","v":0},{"$f":"'Harmonogram produkcji '!M254","v":0},null,{"$f":"'Harmonogram produkcji '!P254","v":0},{"$f":"'Harmonogram produkcji '!Q254","v":0},{"$f":"IF('Harmonogram produkcji '!R254=\"X\",\"ekologiczny \",IF('Harmonogram produkcji '!S254=\"X\",\"nieekologiczny\",IF('Harmonogram produkcji '!T254=\"X\",\"z własnego gospodarstwa\",IF('Harmonogram produkcji '!U254=\"X\",\"ND, uprawa zastana\"))))","v":false},{"$f":"'Harmonogram produkcji '!V254","v":"00:00:00"},{"$f":"'Harmonogram produkcji '!F254","v":"00:00:00"},null,null,null,{"$f":"'Harmonogram produkcji '!Y254","v":0},{"$f":"'Harmonogram produkcji '!Z254","v":0},{"$f":"'Harmonogram produkcji '!W254","v":0},{"$f":"'Harmonogram produkcji '!X254","v":0}]
[{"$f":"'Harmonogram produkcji '!B255","v":0},{"$f":"'Harmonogram produkcji '!C255","v":0},{"$f":"'Harmonogram produkcji '!D255","v":0},{"$f":"'Harmonogram produkcji '!E255","v":0},{"$f":"IF('Harmonogram produkcji '!G255=\"X\",\"z pierwszych 12 miesiecy okresu konwersji\",IF('Harmonogram produkcji '!H255=\"X\",\"W okresie konwersji 2 rok \",IF('Harmonogram produkcji '!I255=\"X\",\"W okresie konwersji 3 rok \",IF('Harmonogram produkcji '!J255=\"X\",\"Ekologiczny \"))))","v":false},{"$f":"'Harmonogram produkcji '!L255","v":0},{"$f":"'Harmonogram produkcji '!M255","v":0},null,{"$f":"'Harmonogram produkcji '!P255","v":0},{"$f":"'Harmonogram produkcji '!Q255","v":0},{"$f":"IF('Harmonogram produkcji '!R255=\"X\",\"ekologiczny \",IF('Harmonogram produkcji '!S255=\"X\",\"nieekologiczny\",IF('Harmonogram produkcji '!T255=\"X\",\"z własnego gospodarstwa\",IF('Harmonogram produkcji '!U255=\"X\",\"ND, uprawa zastana\"))))","v":false},{"$f":"'Harmonogram produkcji '!V255","v":"00:00:00"},{"$f":"'Harmonogram produkcji '!F255","v":"00:00:00"},null,null,null,{"$f":"'Harmonogram produkcji '!Y255","v":0},{"$f":"'Harmonogram produkcji '!Z255","v":0},{"$f":"'Harmonogram produkcji '!W255","v":0},{"$f":"'Harmonogram produkcji '!X255","v":0}]
[{"$f":"'Harmonogram produkcji '!B256","v":0},{"$f":"'Harmonogram produkcji '!C256","v":0},{"$f":"'Harmonogram produkcji '!D256","v":0},{"$f":"'Harmonogram produkcji '!E256","v":0},{"$f":"IF('Harmonogram produkcji '!G256=\"X\",\"z pierwszych 12 miesiecy okresu konwersji\",IF('Harmonogram produkcji '!H256=\"X\",\"W okresie konwersji 2 rok \",IF('Harmonogram produkcji '!I256=\"X\",\"W okresie konwersji 3 rok \",IF('Harmonogram produkcji '!J256=\"X\",\"Ekologiczny \"))))","v":false},{"$f":"'Harmonogram produkcji '!L256","v":0},{"$f":"'Harmonogram produkcji '!M256","v":0},null,{"$f":"'Harmonogram produkcji '!P256","v":0},{"$f":"'Harmonogram produkcji '!Q256","v":0},{"$f":"IF('Harmonogram produkcji '!R256=\"X\",\"ekologiczny \",IF('Harmonogram produkcji '!S256=\"X\",\"nieekologiczny\",IF('Harmonogram produkcji '!T256=\"X\",\"z własnego gospodarstwa\",IF('Harmonogram produkcji '!U256=\"X\",\"ND, uprawa zastana\"))))","v":false},{"$f":"'Harmonogram produkcji '!V256","v":"00:00:00"},{"$f":"'Harmonogram produkcji '!F256","v":"00:00:00"},null,null,null,{"$f":"'Harmonogram produkcji '!Y256","v":0},{"$f":"'Harmonogram produkcji '!Z256","v":0},{"$f":"'Harmonogram produkcji '!W256","v":0},{"$f":"'Harmonogram produkcji '!X256","v":0}]
[{"$f":"'Harmonogram produkcji '!B257","v":0},{"$f":"'Harmonogram produkcji '!C257","v":0},{"$f":"'Harmonogram produkcji '!D257","v":0},{"$f":"'Harmonogram produkcji '!E257","v":0},{"$f":"IF('Harmonogram produkcji '!G257=\"X\",\"z pierwszych 12 miesiecy okresu konwersji\",IF('Harmonogram produkcji '!H257=\"X\",\"W okresie konwersji 2 rok \",IF('Harmonogram produkcji '!I257=\"X\",\"W okresie konwersji 3 rok \",IF('Harmonogram produkcji '!J257=\"X\",\"Ekologiczny \"))))","v":false},{"$f":"'Harmonogram produkcji '!L257","v":0},{"$f":"'Harmonogram produkcji '!M257","v":0},null,{"$f":"'Harmonogram produkcji '!P257","v":0},{"$f":"'Harmonogram produkcji '!Q257","v":0},{"$f":"IF('Harmonogram produkcji '!R257=\"X\",\"ekologiczny \",IF('Harmonogram produkcji '!S257=\"X\",\"nieekologiczny\",IF('Harmonogram produkcji '!T257=\"X\",\"z własnego gospodarstwa\",IF('Harmonogram produkcji '!U257=\"X\",\"ND, uprawa zastana\"))))","v":false},{"$f":"'Harmonogram produkcji '!V257","v":"00:00:00"},{"$f":"'Harmonogram produkcji '!F257","v":"00:00:00"},null,null,null,{"$f":"'Harmonogram produkcji '!Y257","v":0},{"$f":"'Harmonogram produkcji '!Z257","v":0},{"$f":"'Harmonogram produkcji '!W257","v":0},{"$f":"'Harmonogram produkcji '!X257","v":0}]
[{"$f":"'Harmonogram produkcji '!B258","v":0},{"$f":"'Harmonogram produkcji '!C258","v":0},{"$f":"'Harmonogram produkcji '!D258","v":0},{"$f":"'Harmonogram produkcji '!E258","v":0},{"$f":"IF('Harmonogram produkcji '!G258=\"X\",\"z pierwszych 12 miesiecy okresu konwersji\",IF('Harmonogram produkcji '!H258=\"X\",\"W okresie konwersji 2 rok \",IF('Harmonogram produkcji '!I258=\"X\",\"W okresie konwersji 3 rok \",IF('Harmonogram produkcji '!J258=\"X\",\"Ekologiczny \"))))","v":false},{"$f":"'Harmonogram produkcji '!L258","v":0},{"$f":"'Harmonogram produkcji '!M258","v":0},null,{"$f":"'Harmonogram produkcji '!P258","v":0},{"$f":"'Harmonogram produkcji '!Q258","v":0},{"$f":"IF('Harmonogram produkcji '!R258=\"X\",\"ekologiczny \",IF('Harmonogram produkcji '!S258=\"X\",\"nieekologiczny\",IF('Harmonogram produkcji '!T258=\"X\",\"z własnego gospodarstwa\",IF('Harmonogram produkcji '!U258=\"X\",\"ND, uprawa zastana\"))))","v":false},{"$f":"'Harmonogram produkcji '!V258","v":"00:00:00"},{"$f":"'Harmonogram produkcji '!F258","v":"00:00:00"},null,null,null,{"$f":"'Harmonogram produkcji '!Y258","v":0},{"$f":"'Harmonogram produkcji '!Z258","v":0},{"$f":"'Harmonogram produkcji '!W258","v":0},{"$f":"'Harmonogram produkcji '!X258","v":0}]
[{"$f":"'Harmonogram produkcji '!B259","v":0},{"$f":"'Harmonogram produkcji '!C259","v":0},{"$f":"'Harmonogram produkcji '!D259","v":0},{"$f":"'Harmonogram produkcji '!E259","v":0},{"$f":"IF('Harmonogram produkcji '!G259=\"X\",\"z pierwszych 12 miesiecy okresu konwersji\",IF('Harmonogram produkcji '!H259=\"X\",\"W okresie konwersji 2 rok \",IF('Harmonogram produkcji '!I259=\"X\",\"W okresie konwersji 3 rok \",IF('Harmonogram produkcji '!J259=\"X\",\"Ekologiczny \"))))","v":false},{"$f":"'Harmonogram produkcji '!L259","v":0},{"$f":"'Harmonogram produkcji '!M259","v":0},null,{"$f":"'Harmonogram produkcji '!P259","v":0},{"$f":"'Harmonogram produkcji '!Q259","v":0},{"$f":"IF('Harmonogram produkcji '!R259=\"X\",\"ekologiczny \",IF('Harmonogram produkcji '!S259=\"X\",\"nieekologiczny\",IF('Harmonogram produkcji '!T259=\"X\",\"z własnego gospodarstwa\",IF('Harmonogram produkcji '!U259=\"X\",\"ND, uprawa zastana\"))))","v":false},{"$f":"'Harmonogram produkcji '!V259","v":"00:00:00"},{"$f":"'Harmonogram produkcji '!F259","v":"00:00:00"},null,null,null,{"$f":"'Harmonogram produkcji '!Y259","v":0},{"$f":"'Harmonogram produkcji '!Z259","v":0},{"$f":"'Harmonogram produkcji '!W259","v":0},{"$f":"'Harmonogram produkcji '!X259","v":0}]
[{"$f":"'Harmonogram produkcji '!B260","v":0},{"$f":"'Harmonogram produkcji '!C260","v":0},{"$f":"'Harmonogram produkcji '!D260","v":0},{"$f":"'Harmonogram produkcji '!E260","v":0},{"$f":"IF('Harmonogram produkcji '!G260=\"X\",\"z pierwszych 12 miesiecy okresu konwersji\",IF('Harmonogram produkcji '!H260=\"X\",\"W okresie konwersji 2 rok \",IF('Harmonogram produkcji '!I260=\"X\",\"W okresie konwersji 3 rok \",IF('Harmonogram produkcji '!J260=\"X\",\"Ekologiczny \"))))","v":false},{"$f":"'Harmonogram produkcji '!L260","v":0},{"$f":"'Harmonogram produkcji '!M260","v":0},null,{"$f":"'Harmonogram produkcji '!P260","v":0},{"$f":"'Harmonogram produkcji '!Q260","v":0},{"$f":"IF('Harmonogram produkcji '!R260=\"X\",\"ekologiczny \",IF('Harmonogram produkcji '!S260=\"X\",\"nieekologiczny\",IF('Harmonogram produkcji '!T260=\"X\",\"z własnego gospodarstwa\",IF('Harmonogram produkcji '!U260=\"X\",\"ND, uprawa zastana\"))))","v":false},{"$f":"'Harmonogram produkcji '!V260","v":"00:00:00"},{"$f":"'Harmonogram produkcji '!F260","v":"00:00:00"},null,null,null,{"$f":"'Harmonogram produkcji '!Y260","v":0},{"$f":"'Harmonogram produkcji '!Z260","v":0},{"$f":"'Harmonogram produkcji '!W260","v":0},{"$f":"'Harmonogram produkcji '!X260","v":0}]
[{"$f":"'Harmonogram produkcji '!B261","v":0},{"$f":"'Harmonogram produkcji '!C261","v":0},{"$f":"'Harmonogram produkcji '!D261","v":0},{"$f":"'Harmonogram produkcji '!E261","v":0},{"$f":"IF('Harmonogram produkcji '!G261=\"X\",\"z pierwszych 12 miesiecy okresu konwersji\",IF('Harmonogram produkcji '!H261=\"X\",\"W okresie konwersji 2 rok \",IF('Harmonogram produkcji '!I261=\"X\",\"W okresie konwersji 3 rok \",IF('Harmonogram produkcji '!J261=\"X\",\"Ekologiczny \"))))","v":false},{"$f":"'Harmonogram produkcji '!L261","v":0},{"$f":"'Harmonogram produkcji '!M261","v":0},null,{"$f":"'Harmonogram produkcji '!P261","v":0},{"$f":"'Harmonogram produkcji '!Q261","v":0},{"$f":"IF('Harmonogram produkcji '!R261=\"X\",\"ekologiczny \",IF('Harmonogram produkcji '!S261=\"X\",\"nieekologiczny\",IF('Harmonogram produkcji '!T261=\"X\",\"z własnego gospodarstwa\",IF('Harmonogram produkcji '!U261=\"X\",\"ND, uprawa zastana\"))))","v":false},{"$f":"'Harmonogram produkcji '!V261","v":"00:00:00"},{"$f":"'Harmonogram produkcji '!F261","v":"00:00:00"},null,null,null,{"$f":"'Harmonogram produkcji '!Y261","v":0},{"$f":"'Harmonogram produkcji '!Z261","v":0},{"$f":"'Harmonogram produkcji '!W261","v":0},{"$f":"'Harmonogram produkcji '!X261","v":0}]
[{"$f":"'Harmonogram produkcji '!B262","v":0},{"$f":"'Harmonogram produkcji '!C262","v":0},{"$f":"'Harmonogram produkcji '!D262","v":0},{"$f":"'Harmonogram produkcji '!E262","v":0},{"$f":"IF('Harmonogram produkcji '!G262=\"X\",\"z pierwszych 12 miesiecy okresu konwersji\",IF('Harmonogram produkcji '!H262=\"X\",\"W okresie konwersji 2 rok \",IF('Harmonogram produkcji '!I262=\"X\",\"W okresie konwersji 3 rok \",IF('Harmonogram produkcji '!J262=\"X\",\"Ekologiczny \"))))","v":false},{"$f":"'Harmonogram produkcji '!L262","v":0},{"$f":"'Harmonogram produkcji '!M262","v":0},null,{"$f":"'Harmonogram produkcji '!P262","v":0},{"$f":"'Harmonogram produkcji '!Q262","v":0},{"$f":"IF('Harmonogram produkcji '!R262=\"X\",\"ekologiczny \",IF('Harmonogram produkcji '!S262=\"X\",\"nieekologiczny\",IF('Harmonogram produkcji '!T262=\"X\",\"z własnego gospodarstwa\",IF('Harmonogram produkcji '!U262=\"X\",\"ND, uprawa zastana\"))))","v":false},{"$f":"'Harmonogram produkcji '!V262","v":"00:00:00"},{"$f":"'Harmonogram produkcji '!F262","v":"00:00:00"},null,null,null,{"$f":"'Harmonogram produkcji '!Y262","v":0},{"$f":"'Harmonogram produkcji '!Z262","v":0},{"$f":"'Harmonogram produkcji '!W262","v":0},{"$f":"'Harmonogram produkcji '!X262","v":0}]
[{"$f":"'Harmonogram produkcji '!B263","v":0},{"$f":"'Harmonogram produkcji '!C263","v":0},{"$f":"'Harmonogram produkcji '!D263","v":0},{"$f":"'Harmonogram produkcji '!E263","v":0},{"$f":"IF('Harmonogram produkcji '!G263=\"X\",\"z pierwszych 12 miesiecy okresu konwersji\",IF('Harmonogram produkcji '!H263=\"X\",\"W okresie konwersji 2 rok \",IF('Harmonogram produkcji '!I263=\"X\",\"W okresie konwersji 3 rok \",IF('Harmonogram produkcji '!J263=\"X\",\"Ekologiczny \"))))","v":false},{"$f":"'Harmonogram produkcji '!L263","v":0},{"$f":"'Harmonogram produkcji '!M263","v":0},null,{"$f":"'Harmonogram produkcji '!P263","v":0},{"$f":"'Harmonogram produkcji '!Q263","v":0},{"$f":"IF('Harmonogram produkcji '!R263=\"X\",\"ekologiczny \",IF('Harmonogram produkcji '!S263=\"X\",\"nieekologiczny\",IF('Harmonogram produkcji '!T263=\"X\",\"z własnego gospodarstwa\",IF('Harmonogram produkcji '!U263=\"X\",\"ND, uprawa zastana\"))))","v":false},{"$f":"'Harmonogram produkcji '!V263","v":"00:00:00"},{"$f":"'Harmonogram produkcji '!F263","v":"00:00:00"},null,null,null,{"$f":"'Harmonogram produkcji '!Y263","v":0},{"$f":"'Harmonogram produkcji '!Z263","v":0},{"$f":"'Harmonogram produkcji '!W263","v":0},{"$f":"'Harmonogram produkcji '!X263","v":0}]
[{"$f":"'Harmonogram produkcji '!B264","v":0},{"$f":"'Harmonogram produkcji '!C264","v":0},{"$f":"'Harmonogram produkcji '!D264","v":0},{"$f":"'Harmonogram produkcji '!E264","v":0},{"$f":"IF('Harmonogram produkcji '!G264=\"X\",\"z pierwszych 12 miesiecy okresu konwersji\",IF('Harmonogram produkcji '!H264=\"X\",\"W okresie konwersji 2 rok \",IF('Harmonogram produkcji '!I264=\"X\",\"W okresie konwersji 3 rok \",IF('Harmonogram produkcji '!J264=\"X\",\"Ekologiczny \"))))","v":false},{"$f":"'Harmonogram produkcji '!L264","v":0},{"$f":"'Harmonogram produkcji '!M264","v":0},null,{"$f":"'Harmonogram produkcji '!P264","v":0},{"$f":"'Harmonogram produkcji '!Q264","v":0},{"$f":"IF('Harmonogram produkcji '!R264=\"X\",\"ekologiczny \",IF('Harmonogram produkcji '!S264=\"X\",\"nieekologiczny\",IF('Harmonogram produkcji '!T264=\"X\",\"z własnego gospodarstwa\",IF('Harmonogram produkcji '!U264=\"X\",\"ND, uprawa zastana\"))))","v":false},{"$f":"'Harmonogram produkcji '!V264","v":"00:00:00"},{"$f":"'Harmonogram produkcji '!F264","v":"00:00:00"},null,null,null,{"$f":"'Harmonogram produkcji '!Y264","v":0},{"$f":"'Harmonogram produkcji '!Z264","v":0},{"$f":"'Harmonogram produkcji '!W264","v":0},{"$f":"'Harmonogram produkcji '!X264","v":0}]
[{"$f":"'Harmonogram produkcji '!B265","v":0},{"$f":"'Harmonogram produkcji '!C265","v":0},{"$f":"'Harmonogram produkcji '!D265","v":0},{"$f":"'Harmonogram produkcji '!E265","v":0},{"$f":"IF('Harmonogram produkcji '!G265=\"X\",\"z pierwszych 12 miesiecy okresu konwersji\",IF('Harmonogram produkcji '!H265=\"X\",\"W okresie konwersji 2 rok \",IF('Harmonogram produkcji '!I265=\"X\",\"W okresie konwersji 3 rok \",IF('Harmonogram produkcji '!J265=\"X\",\"Ekologiczny \"))))","v":false},{"$f":"'Harmonogram produkcji '!L265","v":0},{"$f":"'Harmonogram produkcji '!M265","v":0},null,{"$f":"'Harmonogram produkcji '!P265","v":0},{"$f":"'Harmonogram produkcji '!Q265","v":0},{"$f":"IF('Harmonogram produkcji '!R265=\"X\",\"ekologiczny \",IF('Harmonogram produkcji '!S265=\"X\",\"nieekologiczny\",IF('Harmonogram produkcji '!T265=\"X\",\"z własnego gospodarstwa\",IF('Harmonogram produkcji '!U265=\"X\",\"ND, uprawa zastana\"))))","v":false},{"$f":"'Harmonogram produkcji '!V265","v":"00:00:00"},{"$f":"'Harmonogram produkcji '!F265","v":"00:00:00"},null,null,null,{"$f":"'Harmonogram produkcji '!Y265","v":0},{"$f":"'Harmonogram produkcji '!Z265","v":0},{"$f":"'Harmonogram produkcji '!W265","v":0},{"$f":"'Harmonogram produkcji '!X265","v":0}]
[{"$f":"'Harmonogram produkcji '!B266","v":0},{"$f":"'Harmonogram produkcji '!C266","v":0},{"$f":"'Harmonogram produkcji '!D266","v":0},{"$f":"'Harmonogram produkcji '!E266","v":0},{"$f":"IF('Harmonogram produkcji '!G266=\"X\",\"z pierwszych 12 miesiecy okresu konwersji\",IF('Harmonogram produkcji '!H266=\"X\",\"W okresie konwersji 2 rok \",IF('Harmonogram produkcji '!I266=\"X\",\"W okresie konwersji 3 rok \",IF('Harmonogram produkcji '!J266=\"X\",\"Ekologiczny \"))))","v":false},{"$f":"'Harmonogram produkcji '!L266","v":0},{"$f":"'Harmonogram produkcji '!M266","v":0},null,{"$f":"'Harmonogram produkcji '!P266","v":0},{"$f":"'Harmonogram produkcji '!Q266","v":0},{"$f":"IF('Harmonogram produkcji '!R266=\"X\",\"ekologiczny \",IF('Harmonogram produkcji '!S266=\"X\",\"nieekologiczny\",IF('Harmonogram produkcji '!T266=\"X\",\"z własnego gospodarstwa\",IF('Harmonogram produkcji '!U266=\"X\",\"ND, uprawa zastana\"))))","v":false},{"$f":"'Harmonogram produkcji '!V266","v":"00:00:00"},{"$f":"'Harmonogram produkcji '!F266","v":"00:00:00"},null,null,null,{"$f":"'Harmonogram produkcji '!Y266","v":0},{"$f":"'Harmonogram produkcji '!Z266","v":0},{"$f":"'Harmonogram produkcji '!W266","v":0},{"$f":"'Harmonogram produkcji '!X266","v":0}]
[{"$f":"'Harmonogram produkcji '!B267","v":0},{"$f":"'Harmonogram produkcji '!C267","v":0},{"$f":"'Harmonogram produkcji '!D267","v":0},{"$f":"'Harmonogram produkcji '!E267","v":0},{"$f":"IF('Harmonogram produkcji '!G267=\"X\",\"z pierwszych 12 miesiecy okresu konwersji\",IF('Harmonogram produkcji '!H267=\"X\",\"W okresie konwersji 2 rok \",IF('Harmonogram produkcji '!I267=\"X\",\"W okresie konwersji 3 rok \",IF('Harmonogram produkcji '!J267=\"X\",\"Ekologiczny \"))))","v":false},{"$f":"'Harmonogram produkcji '!L267","v":0},{"$f":"'Harmonogram produkcji '!M267","v":0},null,{"$f":"'Harmonogram produkcji '!P267","v":0},{"$f":"'Harmonogram produkcji '!Q267","v":0},{"$f":"IF('Harmonogram produkcji '!R267=\"X\",\"ekologiczny \",IF('Harmonogram produkcji '!S267=\"X\",\"nieekologiczny\",IF('Harmonogram produkcji '!T267=\"X\",\"z własnego gospodarstwa\",IF('Harmonogram produkcji '!U267=\"X\",\"ND, uprawa zastana\"))))","v":false},{"$f":"'Harmonogram produkcji '!V267","v":"00:00:00"},{"$f":"'Harmonogram produkcji '!F267","v":"00:00:00"},null,null,null,{"$f":"'Harmonogram produkcji '!Y267","v":0},{"$f":"'Harmonogram produkcji '!Z267","v":0},{"$f":"'Harmonogram produkcji '!W267","v":0},{"$f":"'Harmonogram produkcji '!X267","v":0}]
[{"$f":"'Harmonogram produkcji '!B268","v":0},{"$f":"'Harmonogram produkcji '!C268","v":0},{"$f":"'Harmonogram produkcji '!D268","v":0},{"$f":"'Harmonogram produkcji '!E268","v":0},{"$f":"IF('Harmonogram produkcji '!G268=\"X\",\"z pierwszych 12 miesiecy okresu konwersji\",IF('Harmonogram produkcji '!H268=\"X\",\"W okresie konwersji 2 rok \",IF('Harmonogram produkcji '!I268=\"X\",\"W okresie konwersji 3 rok \",IF('Harmonogram produkcji '!J268=\"X\",\"Ekologiczny \"))))","v":false},{"$f":"'Harmonogram produkcji '!L268","v":0},{"$f":"'Harmonogram produkcji '!M268","v":0},null,{"$f":"'Harmonogram produkcji '!P268","v":0},{"$f":"'Harmonogram produkcji '!Q268","v":0},{"$f":"IF('Harmonogram produkcji '!R268=\"X\",\"ekologiczny \",IF('Harmonogram produkcji '!S268=\"X\",\"nieekologiczny\",IF('Harmonogram produkcji '!T268=\"X\",\"z własnego gospodarstwa\",IF('Harmonogram produkcji '!U268=\"X\",\"ND, uprawa zastana\"))))","v":false},{"$f":"'Harmonogram produkcji '!V268","v":"00:00:00"},{"$f":"'Harmonogram produkcji '!F268","v":"00:00:00"},null,null,null,{"$f":"'Harmonogram produkcji '!Y268","v":0},{"$f":"'Harmonogram produkcji '!Z268","v":0},{"$f":"'Harmonogram produkcji '!W268","v":0},{"$f":"'Harmonogram produkcji '!X268","v":0}]
[{"$f":"'Harmonogram produkcji '!B269","v":0},{"$f":"'Harmonogram produkcji '!C269","v":0},{"$f":"'Harmonogram produkcji '!D269","v":0},{"$f":"'Harmonogram produkcji '!E269","v":0},{"$f":"IF('Harmonogram produkcji '!G269=\"X\",\"z pierwszych 12 miesiecy okresu konwersji\",IF('Harmonogram produkcji '!H269=\"X\",\"W okresie konwersji 2 rok \",IF('Harmonogram produkcji '!I269=\"X\",\"W okresie konwersji 3 rok \",IF('Harmonogram produkcji '!J269=\"X\",\"Ekologiczny \"))))","v":false},{"$f":"'Harmonogram produkcji '!L269","v":0},{"$f":"'Harmonogram produkcji '!M269","v":0},null,{"$f":"'Harmonogram produkcji '!P269","v":0},{"$f":"'Harmonogram produkcji '!Q269","v":0},{"$f":"IF('Harmonogram produkcji '!R269=\"X\",\"ekologiczny \",IF('Harmonogram produkcji '!S269=\"X\",\"nieekologiczny\",IF('Harmonogram produkcji '!T269=\"X\",\"z własnego gospodarstwa\",IF('Harmonogram produkcji '!U269=\"X\",\"ND, uprawa zastana\"))))","v":false},{"$f":"'Harmonogram produkcji '!V269","v":"00:00:00"},{"$f":"'Harmonogram produkcji '!F269","v":"00:00:00"},null,null,null,{"$f":"'Harmonogram produkcji '!Y269","v":0},{"$f":"'Harmonogram produkcji '!Z269","v":0},{"$f":"'Harmonogram produkcji '!W269","v":0},{"$f":"'Harmonogram produkcji '!X269","v":0}]
[{"$f":"'Harmonogram produkcji '!B270","v":0},{"$f":"'Harmonogram produkcji '!C270","v":0},{"$f":"'Harmonogram produkcji '!D270","v":0},{"$f":"'Harmonogram produkcji '!E270","v":0},{"$f":"IF('Harmonogram produkcji '!G270=\"X\",\"z pierwszych 12 miesiecy okresu konwersji\",IF('Harmonogram produkcji '!H270=\"X\",\"W okresie konwersji 2 rok \",IF('Harmonogram produkcji '!I270=\"X\",\"W okresie konwersji 3 rok \",IF('Harmonogram produkcji '!J270=\"X\",\"Ekologiczny \"))))","v":false},{"$f":"'Harmonogram produkcji '!L270","v":0},{"$f":"'Harmonogram produkcji '!M270","v":0},null,{"$f":"'Harmonogram produkcji '!P270","v":0},{"$f":"'Harmonogram produkcji '!Q270","v":0},{"$f":"IF('Harmonogram produkcji '!R270=\"X\",\"ekologiczny \",IF('Harmonogram produkcji '!S270=\"X\",\"nieekologiczny\",IF('Harmonogram produkcji '!T270=\"X\",\"z własnego gospodarstwa\",IF('Harmonogram produkcji '!U270=\"X\",\"ND, uprawa zastana\"))))","v":false},{"$f":"'Harmonogram produkcji '!V270","v":"00:00:00"},{"$f":"'Harmonogram produkcji '!F270","v":"00:00:00"},null,null,null,{"$f":"'Harmonogram produkcji '!Y270","v":0},{"$f":"'Harmonogram produkcji '!Z270","v":0},{"$f":"'Harmonogram produkcji '!W270","v":0},{"$f":"'Harmonogram produkcji '!X270","v":0}]
[{"$f":"'Harmonogram produkcji '!B271","v":0},{"$f":"'Harmonogram produkcji '!C271","v":0},{"$f":"'Harmonogram produkcji '!D271","v":0},{"$f":"'Harmonogram produkcji '!E271","v":0},{"$f":"IF('Harmonogram produkcji '!G271=\"X\",\"z pierwszych 12 miesiecy okresu konwersji\",IF('Harmonogram produkcji '!H271=\"X\",\"W okresie konwersji 2 rok \",IF('Harmonogram produkcji '!I271=\"X\",\"W okresie konwersji 3 rok \",IF('Harmonogram produkcji '!J271=\"X\",\"Ekologiczny \"))))","v":false},{"$f":"'Harmonogram produkcji '!L271","v":0},{"$f":"'Harmonogram produkcji '!M271","v":0},null,{"$f":"'Harmonogram produkcji '!P271","v":0},{"$f":"'Harmonogram produkcji '!Q271","v":0},{"$f":"IF('Harmonogram produkcji '!R271=\"X\",\"ekologiczny \",IF('Harmonogram produkcji '!S271=\"X\",\"nieekologiczny\",IF('Harmonogram produkcji '!T271=\"X\",\"z własnego gospodarstwa\",IF('Harmonogram produkcji '!U271=\"X\",\"ND, uprawa zastana\"))))","v":false},{"$f":"'Harmonogram produkcji '!V271","v":"00:00:00"},{"$f":"'Harmonogram produkcji '!F271","v":"00:00:00"},null,null,null,{"$f":"'Harmonogram produkcji '!Y271","v":0},{"$f":"'Harmonogram produkcji '!Z271","v":0},{"$f":"'Harmonogram produkcji '!W271","v":0},{"$f":"'Harmonogram produkcji '!X271","v":0}]
[{"$f":"'Harmonogram produkcji '!B272","v":0},{"$f":"'Harmonogram produkcji '!C272","v":0},{"$f":"'Harmonogram produkcji '!D272","v":0},{"$f":"'Harmonogram produkcji '!E272","v":0},{"$f":"IF('Harmonogram produkcji '!G272=\"X\",\"z pierwszych 12 miesiecy okresu konwersji\",IF('Harmonogram produkcji '!H272=\"X\",\"W okresie konwersji 2 rok \",IF('Harmonogram produkcji '!I272=\"X\",\"W okresie konwersji 3 rok \",IF('Harmonogram produkcji '!J272=\"X\",\"Ekologiczny \"))))","v":false},{"$f":"'Harmonogram produkcji '!L272","v":0},{"$f":"'Harmonogram produkcji '!M272","v":0},null,{"$f":"'Harmonogram produkcji '!P272","v":0},{"$f":"'Harmonogram produkcji '!Q272","v":0},{"$f":"IF('Harmonogram produkcji '!R272=\"X\",\"ekologiczny \",IF('Harmonogram produkcji '!S272=\"X\",\"nieekologiczny\",IF('Harmonogram produkcji '!T272=\"X\",\"z własnego gospodarstwa\",IF('Harmonogram produkcji '!U272=\"X\",\"ND, uprawa zastana\"))))","v":false},{"$f":"'Harmonogram produkcji '!V272","v":"00:00:00"},{"$f":"'Harmonogram produkcji '!F272","v":"00:00:00"},null,null,null,{"$f":"'Harmonogram produkcji '!Y272","v":0},{"$f":"'Harmonogram produkcji '!Z272","v":0},{"$f":"'Harmonogram produkcji '!W272","v":0},{"$f":"'Harmonogram produkcji '!X272","v":0}]
[{"$f":"'Harmonogram produkcji '!B273","v":0},{"$f":"'Harmonogram produkcji '!C273","v":0},{"$f":"'Harmonogram produkcji '!D273","v":0},{"$f":"'Harmonogram produkcji '!E273","v":0},{"$f":"IF('Harmonogram produkcji '!G273=\"X\",\"z pierwszych 12 miesiecy okresu konwersji\",IF('Harmonogram produkcji '!H273=\"X\",\"W okresie konwersji 2 rok \",IF('Harmonogram produkcji '!I273=\"X\",\"W okresie konwersji 3 rok \",IF('Harmonogram produkcji '!J273=\"X\",\"Ekologiczny \"))))","v":false},{"$f":"'Harmonogram produkcji '!L273","v":0},{"$f":"'Harmonogram produkcji '!M273","v":0},null,{"$f":"'Harmonogram produkcji '!P273","v":0},{"$f":"'Harmonogram produkcji '!Q273","v":0},{"$f":"IF('Harmonogram produkcji '!R273=\"X\",\"ekologiczny \",IF('Harmonogram produkcji '!S273=\"X\",\"nieekologiczny\",IF('Harmonogram produkcji '!T273=\"X\",\"z własnego gospodarstwa\",IF('Harmonogram produkcji '!U273=\"X\",\"ND, uprawa zastana\"))))","v":false},{"$f":"'Harmonogram produkcji '!V273","v":"00:00:00"},{"$f":"'Harmonogram produkcji '!F273","v":"00:00:00"},null,null,null,{"$f":"'Harmonogram produkcji '!Y273","v":0},{"$f":"'Harmonogram produkcji '!Z273","v":0},{"$f":"'Harmonogram produkcji '!W273","v":0},{"$f":"'Harmonogram produkcji '!X273","v":0}]
[{"$f":"'Harmonogram produkcji '!B274","v":0},{"$f":"'Harmonogram produkcji '!C274","v":0},{"$f":"'Harmonogram produkcji '!D274","v":0},{"$f":"'Harmonogram produkcji '!E274","v":0},{"$f":"IF('Harmonogram produkcji '!G274=\"X\",\"z pierwszych 12 miesiecy okresu konwersji\",IF('Harmonogram produkcji '!H274=\"X\",\"W okresie konwersji 2 rok \",IF('Harmonogram produkcji '!I274=\"X\",\"W okresie konwersji 3 rok \",IF('Harmonogram produkcji '!J274=\"X\",\"Ekologiczny \"))))","v":false},{"$f":"'Harmonogram produkcji '!L274","v":0},{"$f":"'Harmonogram produkcji '!M274","v":0},null,{"$f":"'Harmonogram produkcji '!P274","v":0},{"$f":"'Harmonogram produkcji '!Q274","v":0},{"$f":"IF('Harmonogram produkcji '!R274=\"X\",\"ekologiczny \",IF('Harmonogram produkcji '!S274=\"X\",\"nieekologiczny\",IF('Harmonogram produkcji '!T274=\"X\",\"z własnego gospodarstwa\",IF('Harmonogram produkcji '!U274=\"X\",\"ND, uprawa zastana\"))))","v":false},{"$f":"'Harmonogram produkcji '!V274","v":"00:00:00"},{"$f":"'Harmonogram produkcji '!F274","v":"00:00:00"},null,null,null,{"$f":"'Harmonogram produkcji '!Y274","v":0},{"$f":"'Harmonogram produkcji '!Z274","v":0},{"$f":"'Harmonogram produkcji '!W274","v":0},{"$f":"'Harmonogram produkcji '!X274","v":0}]
[{"$f":"'Harmonogram produkcji '!B275","v":0},{"$f":"'Harmonogram produkcji '!C275","v":0},{"$f":"'Harmonogram produkcji '!D275","v":0},{"$f":"'Harmonogram produkcji '!E275","v":0},{"$f":"IF('Harmonogram produkcji '!G275=\"X\",\"z pierwszych 12 miesiecy okresu konwersji\",IF('Harmonogram produkcji '!H275=\"X\",\"W okresie konwersji 2 rok \",IF('Harmonogram produkcji '!I275=\"X\",\"W okresie konwersji 3 rok \",IF('Harmonogram produkcji '!J275=\"X\",\"Ekologiczny \"))))","v":false},{"$f":"'Harmonogram produkcji '!L275","v":0},{"$f":"'Harmonogram produkcji '!M275","v":0},null,{"$f":"'Harmonogram produkcji '!P275","v":0},{"$f":"'Harmonogram produkcji '!Q275","v":0},{"$f":"IF('Harmonogram produkcji '!R275=\"X\",\"ekologiczny \",IF('Harmonogram produkcji '!S275=\"X\",\"nieekologiczny\",IF('Harmonogram produkcji '!T275=\"X\",\"z własnego gospodarstwa\",IF('Harmonogram produkcji '!U275=\"X\",\"ND, uprawa zastana\"))))","v":false},{"$f":"'Harmonogram produkcji '!V275","v":"00:00:00"},{"$f":"'Harmonogram produkcji '!F275","v":"00:00:00"},null,null,null,{"$f":"'Harmonogram produkcji '!Y275","v":0},{"$f":"'Harmonogram produkcji '!Z275","v":0},{"$f":"'Harmonogram produkcji '!W275","v":0},{"$f":"'Harmonogram produkcji '!X275","v":0}]
[{"$f":"'Harmonogram produkcji '!B276","v":0},{"$f":"'Harmonogram produkcji '!C276","v":0},{"$f":"'Harmonogram produkcji '!D276","v":0},{"$f":"'Harmonogram produkcji '!E276","v":0},{"$f":"IF('Harmonogram produkcji '!G276=\"X\",\"z pierwszych 12 miesiecy okresu konwersji\",IF('Harmonogram produkcji '!H276=\"X\",\"W okresie konwersji 2 rok \",IF('Harmonogram produkcji '!I276=\"X\",\"W okresie konwersji 3 rok \",IF('Harmonogram produkcji '!J276=\"X\",\"Ekologiczny \"))))","v":false},{"$f":"'Harmonogram produkcji '!L276","v":0},{"$f":"'Harmonogram produkcji '!M276","v":0},null,{"$f":"'Harmonogram produkcji '!P276","v":0},{"$f":"'Harmonogram produkcji '!Q276","v":0},{"$f":"IF('Harmonogram produkcji '!R276=\"X\",\"ekologiczny \",IF('Harmonogram produkcji '!S276=\"X\",\"nieekologiczny\",IF('Harmonogram produkcji '!T276=\"X\",\"z własnego gospodarstwa\",IF('Harmonogram produkcji '!U276=\"X\",\"ND, uprawa zastana\"))))","v":false},{"$f":"'Harmonogram produkcji '!V276","v":"00:00:00"},{"$f":"'Harmonogram produkcji '!F276","v":"00:00:00"},null,null,null,{"$f":"'Harmonogram produkcji '!Y276","v":0},{"$f":"'Harmonogram produkcji '!Z276","v":0},{"$f":"'Harmonogram produkcji '!W276","v":0},{"$f":"'Harmonogram produkcji '!X276","v":0}]
[{"$f":"'Harmonogram produkcji '!B277","v":0},{"$f":"'Harmonogram produkcji '!C277","v":0},{"$f":"'Harmonogram produkcji '!D277","v":0},{"$f":"'Harmonogram produkcji '!E277","v":0},{"$f":"IF('Harmonogram produkcji '!G277=\"X\",\"z pierwszych 12 miesiecy okresu konwersji\",IF('Harmonogram produkcji '!H277=\"X\",\"W okresie konwersji 2 rok \",IF('Harmonogram produkcji '!I277=\"X\",\"W okresie konwersji 3 rok \",IF('Harmonogram produkcji '!J277=\"X\",\"Ekologiczny \"))))","v":false},{"$f":"'Harmonogram produkcji '!L277","v":0},{"$f":"'Harmonogram produkcji '!M277","v":0},null,{"$f":"'Harmonogram produkcji '!P277","v":0},{"$f":"'Harmonogram produkcji '!Q277","v":0},{"$f":"IF('Harmonogram produkcji '!R277=\"X\",\"ekologiczny \",IF('Harmonogram produkcji '!S277=\"X\",\"nieekologiczny\",IF('Harmonogram produkcji '!T277=\"X\",\"z własnego gospodarstwa\",IF('Harmonogram produkcji '!U277=\"X\",\"ND, uprawa zastana\"))))","v":false},{"$f":"'Harmonogram produkcji '!V277","v":"00:00:00"},{"$f":"'Harmonogram produkcji '!F277","v":"00:00:00"},null,null,null,{"$f":"'Harmonogram produkcji '!Y277","v":0},{"$f":"'Harmonogram produkcji '!Z277","v":0},{"$f":"'Harmonogram produkcji '!W277","v":0},{"$f":"'Harmonogram produkcji '!X277","v":0}]
[{"$f":"'Harmonogram produkcji '!B278","v":0},{"$f":"'Harmonogram produkcji '!C278","v":0},{"$f":"'Harmonogram produkcji '!D278","v":0},{"$f":"'Harmonogram produkcji '!E278","v":0},{"$f":"IF('Harmonogram produkcji '!G278=\"X\",\"z pierwszych 12 miesiecy okresu konwersji\",IF('Harmonogram produkcji '!H278=\"X\",\"W okresie konwersji 2 rok \",IF('Harmonogram produkcji '!I278=\"X\",\"W okresie konwersji 3 rok \",IF('Harmonogram produkcji '!J278=\"X\",\"Ekologiczny \"))))","v":false},{"$f":"'Harmonogram produkcji '!L278","v":0},{"$f":"'Harmonogram produkcji '!M278","v":0},null,{"$f":"'Harmonogram produkcji '!P278","v":0},{"$f":"'Harmonogram produkcji '!Q278","v":0},{"$f":"IF('Harmonogram produkcji '!R278=\"X\",\"ekologiczny \",IF('Harmonogram produkcji '!S278=\"X\",\"nieekologiczny\",IF('Harmonogram produkcji '!T278=\"X\",\"z własnego gospodarstwa\",IF('Harmonogram produkcji '!U278=\"X\",\"ND, uprawa zastana\"))))","v":false},{"$f":"'Harmonogram produkcji '!V278","v":"00:00:00"},{"$f":"'Harmonogram produkcji '!F278","v":"00:00:00"},null,null,null,{"$f":"'Harmonogram produkcji '!Y278","v":0},{"$f":"'Harmonogram produkcji '!Z278","v":0},{"$f":"'Harmonogram produkcji '!W278","v":0},{"$f":"'Harmonogram produkcji '!X278","v":0}]
[{"$f":"'Harmonogram produkcji '!B279","v":0},{"$f":"'Harmonogram produkcji '!C279","v":0},{"$f":"'Harmonogram produkcji '!D279","v":0},{"$f":"'Harmonogram produkcji '!E279","v":0},{"$f":"IF('Harmonogram produkcji '!G279=\"X\",\"z pierwszych 12 miesiecy okresu konwersji\",IF('Harmonogram produkcji '!H279=\"X\",\"W okresie konwersji 2 rok \",IF('Harmonogram produkcji '!I279=\"X\",\"W okresie konwersji 3 rok \",IF('Harmonogram produkcji '!J279=\"X\",\"Ekologiczny \"))))","v":false},{"$f":"'Harmonogram produkcji '!L279","v":0},{"$f":"'Harmonogram produkcji '!M279","v":0},null,{"$f":"'Harmonogram produkcji '!P279","v":0},{"$f":"'Harmonogram produkcji '!Q279","v":0},{"$f":"IF('Harmonogram produkcji '!R279=\"X\",\"ekologiczny \",IF('Harmonogram produkcji '!S279=\"X\",\"nieekologiczny\",IF('Harmonogram produkcji '!T279=\"X\",\"z własnego gospodarstwa\",IF('Harmonogram produkcji '!U279=\"X\",\"ND, uprawa zastana\"))))","v":false},{"$f":"'Harmonogram produkcji '!V279","v":"00:00:00"},{"$f":"'Harmonogram produkcji '!F279","v":"00:00:00"},null,null,null,{"$f":"'Harmonogram produkcji '!Y279","v":0},{"$f":"'Harmonogram produkcji '!Z279","v":0},{"$f":"'Harmonogram produkcji '!W279","v":0},{"$f":"'Harmonogram produkcji '!X279","v":0}]
[{"$f":"'Harmonogram produkcji '!B280","v":0},{"$f":"'Harmonogram produkcji '!C280","v":0},{"$f":"'Harmonogram produkcji '!D280","v":0},{"$f":"'Harmonogram produkcji '!E280","v":0},{"$f":"IF('Harmonogram produkcji '!G280=\"X\",\"z pierwszych 12 miesiecy okresu konwersji\",IF('Harmonogram produkcji '!H280=\"X\",\"W okresie konwersji 2 rok \",IF('Harmonogram produkcji '!I280=\"X\",\"W okresie konwersji 3 rok \",IF('Harmonogram produkcji '!J280=\"X\",\"Ekologiczny \"))))","v":false},{"$f":"'Harmonogram produkcji '!L280","v":0},{"$f":"'Harmonogram produkcji '!M280","v":0},null,{"$f":"'Harmonogram produkcji '!P280","v":0},{"$f":"'Harmonogram produkcji '!Q280","v":0},{"$f":"IF('Harmonogram produkcji '!R280=\"X\",\"ekologiczny \",IF('Harmonogram produkcji '!S280=\"X\",\"nieekologiczny\",IF('Harmonogram produkcji '!T280=\"X\",\"z własnego gospodarstwa\",IF('Harmonogram produkcji '!U280=\"X\",\"ND, uprawa zastana\"))))","v":false},{"$f":"'Harmonogram produkcji '!V280","v":"00:00:00"},{"$f":"'Harmonogram produkcji '!F280","v":"00:00:00"},null,null,null,{"$f":"'Harmonogram produkcji '!Y280","v":0},{"$f":"'Harmonogram produkcji '!Z280","v":0},{"$f":"'Harmonogram produkcji '!W280","v":0},{"$f":"'Harmonogram produkcji '!X280","v":0}]
[{"$f":"'Harmonogram produkcji '!B281","v":0},{"$f":"'Harmonogram produkcji '!C281","v":0},{"$f":"'Harmonogram produkcji '!D281","v":0},{"$f":"'Harmonogram produkcji '!E281","v":0},{"$f":"IF('Harmonogram produkcji '!G281=\"X\",\"z pierwszych 12 miesiecy okresu konwersji\",IF('Harmonogram produkcji '!H281=\"X\",\"W okresie konwersji 2 rok \",IF('Harmonogram produkcji '!I281=\"X\",\"W okresie konwersji 3 rok \",IF('Harmonogram produkcji '!J281=\"X\",\"Ekologiczny \"))))","v":false},{"$f":"'Harmonogram produkcji '!L281","v":0},{"$f":"'Harmonogram produkcji '!M281","v":0},null,{"$f":"'Harmonogram produkcji '!P281","v":0},{"$f":"'Harmonogram produkcji '!Q281","v":0},{"$f":"IF('Harmonogram produkcji '!R281=\"X\",\"ekologiczny \",IF('Harmonogram produkcji '!S281=\"X\",\"nieekologiczny\",IF('Harmonogram produkcji '!T281=\"X\",\"z własnego gospodarstwa\",IF('Harmonogram produkcji '!U281=\"X\",\"ND, uprawa zastana\"))))","v":false},{"$f":"'Harmonogram produkcji '!V281","v":"00:00:00"},{"$f":"'Harmonogram produkcji '!F281","v":"00:00:00"},null,null,null,{"$f":"'Harmonogram produkcji '!Y281","v":0},{"$f":"'Harmonogram produkcji '!Z281","v":0},{"$f":"'Harmonogram produkcji '!W281","v":0},{"$f":"'Harmonogram produkcji '!X281","v":0}]
[{"$f":"'Harmonogram produkcji '!B282","v":0},{"$f":"'Harmonogram produkcji '!C282","v":0},{"$f":"'Harmonogram produkcji '!D282","v":0},{"$f":"'Harmonogram produkcji '!E282","v":0},{"$f":"IF('Harmonogram produkcji '!G282=\"X\",\"z pierwszych 12 miesiecy okresu konwersji\",IF('Harmonogram produkcji '!H282=\"X\",\"W okresie konwersji 2 rok \",IF('Harmonogram produkcji '!I282=\"X\",\"W okresie konwersji 3 rok \",IF('Harmonogram produkcji '!J282=\"X\",\"Ekologiczny \"))))","v":false},{"$f":"'Harmonogram produkcji '!L282","v":0},{"$f":"'Harmonogram produkcji '!M282","v":0},null,{"$f":"'Harmonogram produkcji '!P282","v":0},{"$f":"'Harmonogram produkcji '!Q282","v":0},{"$f":"IF('Harmonogram produkcji '!R282=\"X\",\"ekologiczny \",IF('Harmonogram produkcji '!S282=\"X\",\"nieekologiczny\",IF('Harmonogram produkcji '!T282=\"X\",\"z własnego gospodarstwa\",IF('Harmonogram produkcji '!U282=\"X\",\"ND, uprawa zastana\"))))","v":false},{"$f":"'Harmonogram produkcji '!V282","v":"00:00:00"},{"$f":"'Harmonogram produkcji '!F282","v":"00:00:00"},null,null,null,{"$f":"'Harmonogram produkcji '!Y282","v":0},{"$f":"'Harmonogram produkcji '!Z282","v":0},{"$f":"'Harmonogram produkcji '!W282","v":0},{"$f":"'Harmonogram produkcji '!X282","v":0}]
[{"$f":"'Harmonogram produkcji '!B283","v":0},{"$f":"'Harmonogram produkcji '!C283","v":0},{"$f":"'Harmonogram produkcji '!D283","v":0},{"$f":"'Harmonogram produkcji '!E283","v":0},{"$f":"IF('Harmonogram produkcji '!G283=\"X\",\"z pierwszych 12 miesiecy okresu konwersji\",IF('Harmonogram produkcji '!H283=\"X\",\"W okresie konwersji 2 rok \",IF('Harmonogram produkcji '!I283=\"X\",\"W okresie konwersji 3 rok \",IF('Harmonogram produkcji '!J283=\"X\",\"Ekologiczny \"))))","v":false},{"$f":"'Harmonogram produkcji '!L283","v":0},{"$f":"'Harmonogram produkcji '!M283","v":0},null,{"$f":"'Harmonogram produkcji '!P283","v":0},{"$f":"'Harmonogram produkcji '!Q283","v":0},{"$f":"IF('Harmonogram produkcji '!R283=\"X\",\"ekologiczny \",IF('Harmonogram produkcji '!S283=\"X\",\"nieekologiczny\",IF('Harmonogram produkcji '!T283=\"X\",\"z własnego gospodarstwa\",IF('Harmonogram produkcji '!U283=\"X\",\"ND, uprawa zastana\"))))","v":false},{"$f":"'Harmonogram produkcji '!V283","v":"00:00:00"},{"$f":"'Harmonogram produkcji '!F283","v":"00:00:00"},null,null,null,{"$f":"'Harmonogram produkcji '!Y283","v":0},{"$f":"'Harmonogram produkcji '!Z283","v":0},{"$f":"'Harmonogram produkcji '!W283","v":0},{"$f":"'Harmonogram produkcji '!X283","v":0}]
[{"$f":"'Harmonogram produkcji '!B284","v":0},{"$f":"'Harmonogram produkcji '!C284","v":0},{"$f":"'Harmonogram produkcji '!D284","v":0},{"$f":"'Harmonogram produkcji '!E284","v":0},{"$f":"IF('Harmonogram produkcji '!G284=\"X\",\"z pierwszych 12 miesiecy okresu konwersji\",IF('Harmonogram produkcji '!H284=\"X\",\"W okresie konwersji 2 rok \",IF('Harmonogram produkcji '!I284=\"X\",\"W okresie konwersji 3 rok \",IF('Harmonogram produkcji '!J284=\"X\",\"Ekologiczny \"))))","v":false},{"$f":"'Harmonogram produkcji '!L284","v":0},{"$f":"'Harmonogram produkcji '!M284","v":0},null,{"$f":"'Harmonogram produkcji '!P284","v":0},{"$f":"'Harmonogram produkcji '!Q284","v":0},{"$f":"IF('Harmonogram produkcji '!R284=\"X\",\"ekologiczny \",IF('Harmonogram produkcji '!S284=\"X\",\"nieekologiczny\",IF('Harmonogram produkcji '!T284=\"X\",\"z własnego gospodarstwa\",IF('Harmonogram produkcji '!U284=\"X\",\"ND, uprawa zastana\"))))","v":false},{"$f":"'Harmonogram produkcji '!V284","v":"00:00:00"},{"$f":"'Harmonogram produkcji '!F284","v":"00:00:00"},null,null,null,{"$f":"'Harmonogram produkcji '!Y284","v":0},{"$f":"'Harmonogram produkcji '!Z284","v":0},{"$f":"'Harmonogram produkcji '!W284","v":0},{"$f":"'Harmonogram produkcji '!X284","v":0}]
[{"$f":"'Harmonogram produkcji '!B285","v":0},{"$f":"'Harmonogram produkcji '!C285","v":0},{"$f":"'Harmonogram produkcji '!D285","v":0},{"$f":"'Harmonogram produkcji '!E285","v":0},{"$f":"IF('Harmonogram produkcji '!G285=\"X\",\"z pierwszych 12 miesiecy okresu konwersji\",IF('Harmonogram produkcji '!H285=\"X\",\"W okresie konwersji 2 rok \",IF('Harmonogram produkcji '!I285=\"X\",\"W okresie konwersji 3 rok \",IF('Harmonogram produkcji '!J285=\"X\",\"Ekologiczny \"))))","v":false},{"$f":"'Harmonogram produkcji '!L285","v":0},{"$f":"'Harmonogram produkcji '!M285","v":0},null,{"$f":"'Harmonogram produkcji '!P285","v":0},{"$f":"'Harmonogram produkcji '!Q285","v":0},{"$f":"IF('Harmonogram produkcji '!R285=\"X\",\"ekologiczny \",IF('Harmonogram produkcji '!S285=\"X\",\"nieekologiczny\",IF('Harmonogram produkcji '!T285=\"X\",\"z własnego gospodarstwa\",IF('Harmonogram produkcji '!U285=\"X\",\"ND, uprawa zastana\"))))","v":false},{"$f":"'Harmonogram produkcji '!V285","v":"00:00:00"},{"$f":"'Harmonogram produkcji '!F285","v":"00:00:00"},null,null,null,{"$f":"'Harmonogram produkcji '!Y285","v":0},{"$f":"'Harmonogram produkcji '!Z285","v":0},{"$f":"'Harmonogram produkcji '!W285","v":0},{"$f":"'Harmonogram produkcji '!X285","v":0}]
[{"$f":"'Harmonogram produkcji '!B286","v":0},{"$f":"'Harmonogram produkcji '!C286","v":0},{"$f":"'Harmonogram produkcji '!D286","v":0},{"$f":"'Harmonogram produkcji '!E286","v":0},{"$f":"IF('Harmonogram produkcji '!G286=\"X\",\"z pierwszych 12 miesiecy okresu konwersji\",IF('Harmonogram produkcji '!H286=\"X\",\"W okresie konwersji 2 rok \",IF('Harmonogram produkcji '!I286=\"X\",\"W okresie konwersji 3 rok \",IF('Harmonogram produkcji '!J286=\"X\",\"Ekologiczny \"))))","v":false},{"$f":"'Harmonogram produkcji '!L286","v":0},{"$f":"'Harmonogram produkcji '!M286","v":0},null,{"$f":"'Harmonogram produkcji '!P286","v":0},{"$f":"'Harmonogram produkcji '!Q286","v":0},{"$f":"IF('Harmonogram produkcji '!R286=\"X\",\"ekologiczny \",IF('Harmonogram produkcji '!S286=\"X\",\"nieekologiczny\",IF('Harmonogram produkcji '!T286=\"X\",\"z własnego gospodarstwa\",IF('Harmonogram produkcji '!U286=\"X\",\"ND, uprawa zastana\"))))","v":false},{"$f":"'Harmonogram produkcji '!V286","v":"00:00:00"},{"$f":"'Harmonogram produkcji '!F286","v":"00:00:00"},null,null,null,{"$f":"'Harmonogram produkcji '!Y286","v":0},{"$f":"'Harmonogram produkcji '!Z286","v":0},{"$f":"'Harmonogram produkcji '!W286","v":0},{"$f":"'Harmonogram produkcji '!X286","v":0}]
[{"$f":"'Harmonogram produkcji '!B287","v":0},{"$f":"'Harmonogram produkcji '!C287","v":0},{"$f":"'Harmonogram produkcji '!D287","v":0},{"$f":"'Harmonogram produkcji '!E287","v":0},{"$f":"IF('Harmonogram produkcji '!G287=\"X\",\"z pierwszych 12 miesiecy okresu konwersji\",IF('Harmonogram produkcji '!H287=\"X\",\"W okresie konwersji 2 rok \",IF('Harmonogram produkcji '!I287=\"X\",\"W okresie konwersji 3 rok \",IF('Harmonogram produkcji '!J287=\"X\",\"Ekologiczny \"))))","v":false},{"$f":"'Harmonogram produkcji '!L287","v":0},{"$f":"'Harmonogram produkcji '!M287","v":0},null,{"$f":"'Harmonogram produkcji '!P287","v":0},{"$f":"'Harmonogram produkcji '!Q287","v":0},{"$f":"IF('Harmonogram produkcji '!R287=\"X\",\"ekologiczny \",IF('Harmonogram produkcji '!S287=\"X\",\"nieekologiczny\",IF('Harmonogram produkcji '!T287=\"X\",\"z własnego gospodarstwa\",IF('Harmonogram produkcji '!U287=\"X\",\"ND, uprawa zastana\"))))","v":false},{"$f":"'Harmonogram produkcji '!V287","v":"00:00:00"},{"$f":"'Harmonogram produkcji '!F287","v":"00:00:00"},null,null,null,{"$f":"'Harmonogram produkcji '!Y287","v":0},{"$f":"'Harmonogram produkcji '!Z287","v":0},{"$f":"'Harmonogram produkcji '!W287","v":0},{"$f":"'Harmonogram produkcji '!X287","v":0}]
[{"$f":"'Harmonogram produkcji '!B288","v":0},{"$f":"'Harmonogram produkcji '!C288","v":0},{"$f":"'Harmonogram produkcji '!D288","v":0},{"$f":"'Harmonogram produkcji '!E288","v":0},{"$f":"IF('Harmonogram produkcji '!G288=\"X\",\"z pierwszych 12 miesiecy okresu konwersji\",IF('Harmonogram produkcji '!H288=\"X\",\"W okresie konwersji 2 rok \",IF('Harmonogram produkcji '!I288=\"X\",\"W okresie konwersji 3 rok \",IF('Harmonogram produkcji '!J288=\"X\",\"Ekologiczny \"))))","v":false},{"$f":"'Harmonogram produkcji '!L288","v":0},{"$f":"'Harmonogram produkcji '!M288","v":0},null,{"$f":"'Harmonogram produkcji '!P288","v":0},{"$f":"'Harmonogram produkcji '!Q288","v":0},{"$f":"IF('Harmonogram produkcji '!R288=\"X\",\"ekologiczny \",IF('Harmonogram produkcji '!S288=\"X\",\"nieekologiczny\",IF('Harmonogram produkcji '!T288=\"X\",\"z własnego gospodarstwa\",IF('Harmonogram produkcji '!U288=\"X\",\"ND, uprawa zastana\"))))","v":false},{"$f":"'Harmonogram produkcji '!V288","v":"00:00:00"},{"$f":"'Harmonogram produkcji '!F288","v":"00:00:00"},null,null,null,{"$f":"'Harmonogram produkcji '!Y288","v":0},{"$f":"'Harmonogram produkcji '!Z288","v":0},{"$f":"'Harmonogram produkcji '!W288","v":0},{"$f":"'Harmonogram produkcji '!X288","v":0}]
[{"$f":"'Harmonogram produkcji '!B289","v":0},{"$f":"'Harmonogram produkcji '!C289","v":0},{"$f":"'Harmonogram produkcji '!D289","v":0},{"$f":"'Harmonogram produkcji '!E289","v":0},{"$f":"IF('Harmonogram produkcji '!G289=\"X\",\"z pierwszych 12 miesiecy okresu konwersji\",IF('Harmonogram produkcji '!H289=\"X\",\"W okresie konwersji 2 rok \",IF('Harmonogram produkcji '!I289=\"X\",\"W okresie konwersji 3 rok \",IF('Harmonogram produkcji '!J289=\"X\",\"Ekologiczny \"))))","v":false},{"$f":"'Harmonogram produkcji '!L289","v":0},{"$f":"'Harmonogram produkcji '!M289","v":0},null,{"$f":"'Harmonogram produkcji '!P289","v":0},{"$f":"'Harmonogram produkcji '!Q289","v":0},{"$f":"IF('Harmonogram produkcji '!R289=\"X\",\"ekologiczny \",IF('Harmonogram produkcji '!S289=\"X\",\"nieekologiczny\",IF('Harmonogram produkcji '!T289=\"X\",\"z własnego gospodarstwa\",IF('Harmonogram produkcji '!U289=\"X\",\"ND, uprawa zastana\"))))","v":false},{"$f":"'Harmonogram produkcji '!V289","v":"00:00:00"},{"$f":"'Harmonogram produkcji '!F289","v":"00:00:00"},null,null,null,{"$f":"'Harmonogram produkcji '!Y289","v":0},{"$f":"'Harmonogram produkcji '!Z289","v":0},{"$f":"'Harmonogram produkcji '!W289","v":0},{"$f":"'Harmonogram produkcji '!X289","v":0}]
[{"$f":"'Harmonogram produkcji '!B290","v":0},{"$f":"'Harmonogram produkcji '!C290","v":0},{"$f":"'Harmonogram produkcji '!D290","v":0},{"$f":"'Harmonogram produkcji '!E290","v":0},{"$f":"IF('Harmonogram produkcji '!G290=\"X\",\"z pierwszych 12 miesiecy okresu konwersji\",IF('Harmonogram produkcji '!H290=\"X\",\"W okresie konwersji 2 rok \",IF('Harmonogram produkcji '!I290=\"X\",\"W okresie konwersji 3 rok \",IF('Harmonogram produkcji '!J290=\"X\",\"Ekologiczny \"))))","v":false},{"$f":"'Harmonogram produkcji '!L290","v":0},{"$f":"'Harmonogram produkcji '!M290","v":0},null,{"$f":"'Harmonogram produkcji '!P290","v":0},{"$f":"'Harmonogram produkcji '!Q290","v":0},{"$f":"IF('Harmonogram produkcji '!R290=\"X\",\"ekologiczny \",IF('Harmonogram produkcji '!S290=\"X\",\"nieekologiczny\",IF('Harmonogram produkcji '!T290=\"X\",\"z własnego gospodarstwa\",IF('Harmonogram produkcji '!U290=\"X\",\"ND, uprawa zastana\"))))","v":false},{"$f":"'Harmonogram produkcji '!V290","v":"00:00:00"},{"$f":"'Harmonogram produkcji '!F290","v":"00:00:00"},null,null,null,{"$f":"'Harmonogram produkcji '!Y290","v":0},{"$f":"'Harmonogram produkcji '!Z290","v":0},{"$f":"'Harmonogram produkcji '!W290","v":0},{"$f":"'Harmonogram produkcji '!X290","v":0}]
[{"$f":"'Harmonogram produkcji '!B291","v":0},{"$f":"'Harmonogram produkcji '!C291","v":0},{"$f":"'Harmonogram produkcji '!D291","v":0},{"$f":"'Harmonogram produkcji '!E291","v":0},{"$f":"IF('Harmonogram produkcji '!G291=\"X\",\"z pierwszych 12 miesiecy okresu konwersji\",IF('Harmonogram produkcji '!H291=\"X\",\"W okresie konwersji 2 rok \",IF('Harmonogram produkcji '!I291=\"X\",\"W okresie konwersji 3 rok \",IF('Harmonogram produkcji '!J291=\"X\",\"Ekologiczny \"))))","v":false},{"$f":"'Harmonogram produkcji '!L291","v":0},{"$f":"'Harmonogram produkcji '!M291","v":0},null,{"$f":"'Harmonogram produkcji '!P291","v":0},{"$f":"'Harmonogram produkcji '!Q291","v":0},{"$f":"IF('Harmonogram produkcji '!R291=\"X\",\"ekologiczny \",IF('Harmonogram produkcji '!S291=\"X\",\"nieekologiczny\",IF('Harmonogram produkcji '!T291=\"X\",\"z własnego gospodarstwa\",IF('Harmonogram produkcji '!U291=\"X\",\"ND, uprawa zastana\"))))","v":false},{"$f":"'Harmonogram produkcji '!V291","v":"00:00:00"},{"$f":"'Harmonogram produkcji '!F291","v":"00:00:00"},null,null,null,{"$f":"'Harmonogram produkcji '!Y291","v":0},{"$f":"'Harmonogram produkcji '!Z291","v":0},{"$f":"'Harmonogram produkcji '!W291","v":0},{"$f":"'Harmonogram produkcji '!X291","v":0}]
[{"$f":"'Harmonogram produkcji '!B292","v":0},{"$f":"'Harmonogram produkcji '!C292","v":0},{"$f":"'Harmonogram produkcji '!D292","v":0},{"$f":"'Harmonogram produkcji '!E292","v":0},{"$f":"IF('Harmonogram produkcji '!G292=\"X\",\"z pierwszych 12 miesiecy okresu konwersji\",IF('Harmonogram produkcji '!H292=\"X\",\"W okresie konwersji 2 rok \",IF('Harmonogram produkcji '!I292=\"X\",\"W okresie konwersji 3 rok \",IF('Harmonogram produkcji '!J292=\"X\",\"Ekologiczny \"))))","v":false},{"$f":"'Harmonogram produkcji '!L292","v":0},{"$f":"'Harmonogram produkcji '!M292","v":0},null,{"$f":"'Harmonogram produkcji '!P292","v":0},{"$f":"'Harmonogram produkcji '!Q292","v":0},{"$f":"IF('Harmonogram produkcji '!R292=\"X\",\"ekologiczny \",IF('Harmonogram produkcji '!S292=\"X\",\"nieekologiczny\",IF('Harmonogram produkcji '!T292=\"X\",\"z własnego gospodarstwa\",IF('Harmonogram produkcji '!U292=\"X\",\"ND, uprawa zastana\"))))","v":false},{"$f":"'Harmonogram produkcji '!V292","v":"00:00:00"},{"$f":"'Harmonogram produkcji '!F292","v":"00:00:00"},null,null,null,{"$f":"'Harmonogram produkcji '!Y292","v":0},{"$f":"'Harmonogram produkcji '!Z292","v":0},{"$f":"'Harmonogram produkcji '!W292","v":0},{"$f":"'Harmonogram produkcji '!X292","v":0}]
[{"$f":"'Harmonogram produkcji '!B293","v":0},{"$f":"'Harmonogram produkcji '!C293","v":0},{"$f":"'Harmonogram produkcji '!D293","v":0},{"$f":"'Harmonogram produkcji '!E293","v":0},{"$f":"IF('Harmonogram produkcji '!G293=\"X\",\"z pierwszych 12 miesiecy okresu konwersji\",IF('Harmonogram produkcji '!H293=\"X\",\"W okresie konwersji 2 rok \",IF('Harmonogram produkcji '!I293=\"X\",\"W okresie konwersji 3 rok \",IF('Harmonogram produkcji '!J293=\"X\",\"Ekologiczny \"))))","v":false},{"$f":"'Harmonogram produkcji '!L293","v":0},{"$f":"'Harmonogram produkcji '!M293","v":0},null,{"$f":"'Harmonogram produkcji '!P293","v":0},{"$f":"'Harmonogram produkcji '!Q293","v":0},{"$f":"IF('Harmonogram produkcji '!R293=\"X\",\"ekologiczny \",IF('Harmonogram produkcji '!S293=\"X\",\"nieekologiczny\",IF('Harmonogram produkcji '!T293=\"X\",\"z własnego gospodarstwa\",IF('Harmonogram produkcji '!U293=\"X\",\"ND, uprawa zastana\"))))","v":false},{"$f":"'Harmonogram produkcji '!V293","v":"00:00:00"},{"$f":"'Harmonogram produkcji '!F293","v":"00:00:00"},null,null,null,{"$f":"'Harmonogram produkcji '!Y293","v":0},{"$f":"'Harmonogram produkcji '!Z293","v":0},{"$f":"'Harmonogram produkcji '!W293","v":0},{"$f":"'Harmonogram produkcji '!X293","v":0}]
[{"$f":"'Harmonogram produkcji '!B294","v":0},{"$f":"'Harmonogram produkcji '!C294","v":0},{"$f":"'Harmonogram produkcji '!D294","v":0},{"$f":"'Harmonogram produkcji '!E294","v":0},{"$f":"IF('Harmonogram produkcji '!G294=\"X\",\"z pierwszych 12 miesiecy okresu konwersji\",IF('Harmonogram produkcji '!H294=\"X\",\"W okresie konwersji 2 rok \",IF('Harmonogram produkcji '!I294=\"X\",\"W okresie konwersji 3 rok \",IF('Harmonogram produkcji '!J294=\"X\",\"Ekologiczny \"))))","v":false},{"$f":"'Harmonogram produkcji '!L294","v":0},{"$f":"'Harmonogram produkcji '!M294","v":0},null,{"$f":"'Harmonogram produkcji '!P294","v":0},{"$f":"'Harmonogram produkcji '!Q294","v":0},{"$f":"IF('Harmonogram produkcji '!R294=\"X\",\"ekologiczny \",IF('Harmonogram produkcji '!S294=\"X\",\"nieekologiczny\",IF('Harmonogram produkcji '!T294=\"X\",\"z własnego gospodarstwa\",IF('Harmonogram produkcji '!U294=\"X\",\"ND, uprawa zastana\"))))","v":false},{"$f":"'Harmonogram produkcji '!V294","v":"00:00:00"},{"$f":"'Harmonogram produkcji '!F294","v":"00:00:00"},null,null,null,{"$f":"'Harmonogram produkcji '!Y294","v":0},{"$f":"'Harmonogram produkcji '!Z294","v":0},{"$f":"'Harmonogram produkcji '!W294","v":0},{"$f":"'Harmonogram produkcji '!X294","v":0}]
[{"$f":"'Harmonogram produkcji '!B295","v":0},{"$f":"'Harmonogram produkcji '!C295","v":0},{"$f":"'Harmonogram produkcji '!D295","v":0},{"$f":"'Harmonogram produkcji '!E295","v":0},{"$f":"IF('Harmonogram produkcji '!G295=\"X\",\"z pierwszych 12 miesiecy okresu konwersji\",IF('Harmonogram produkcji '!H295=\"X\",\"W okresie konwersji 2 rok \",IF('Harmonogram produkcji '!I295=\"X\",\"W okresie konwersji 3 rok \",IF('Harmonogram produkcji '!J295=\"X\",\"Ekologiczny \"))))","v":false},{"$f":"'Harmonogram produkcji '!L295","v":0},{"$f":"'Harmonogram produkcji '!M295","v":0},null,{"$f":"'Harmonogram produkcji '!P295","v":0},{"$f":"'Harmonogram produkcji '!Q295","v":0},{"$f":"IF('Harmonogram produkcji '!R295=\"X\",\"ekologiczny \",IF('Harmonogram produkcji '!S295=\"X\",\"nieekologiczny\",IF('Harmonogram produkcji '!T295=\"X\",\"z własnego gospodarstwa\",IF('Harmonogram produkcji '!U295=\"X\",\"ND, uprawa zastana\"))))","v":false},{"$f":"'Harmonogram produkcji '!V295","v":"00:00:00"},{"$f":"'Harmonogram produkcji '!F295","v":"00:00:00"},null,null,null,{"$f":"'Harmonogram produkcji '!Y295","v":0},{"$f":"'Harmonogram produkcji '!Z295","v":0},{"$f":"'Harmonogram produkcji '!W295","v":0},{"$f":"'Harmonogram produkcji '!X295","v":0}]
[{"$f":"'Harmonogram produkcji '!B296","v":0},{"$f":"'Harmonogram produkcji '!C296","v":0},{"$f":"'Harmonogram produkcji '!D296","v":0},{"$f":"'Harmonogram produkcji '!E296","v":0},{"$f":"IF('Harmonogram produkcji '!G296=\"X\",\"z pierwszych 12 miesiecy okresu konwersji\",IF('Harmonogram produkcji '!H296=\"X\",\"W okresie konwersji 2 rok \",IF('Harmonogram produkcji '!I296=\"X\",\"W okresie konwersji 3 rok \",IF('Harmonogram produkcji '!J296=\"X\",\"Ekologiczny \"))))","v":false},{"$f":"'Harmonogram produkcji '!L296","v":0},{"$f":"'Harmonogram produkcji '!M296","v":0},null,{"$f":"'Harmonogram produkcji '!P296","v":0},{"$f":"'Harmonogram produkcji '!Q296","v":0},{"$f":"IF('Harmonogram produkcji '!R296=\"X\",\"ekologiczny \",IF('Harmonogram produkcji '!S296=\"X\",\"nieekologiczny\",IF('Harmonogram produkcji '!T296=\"X\",\"z własnego gospodarstwa\",IF('Harmonogram produkcji '!U296=\"X\",\"ND, uprawa zastana\"))))","v":false},{"$f":"'Harmonogram produkcji '!V296","v":"00:00:00"},{"$f":"'Harmonogram produkcji '!F296","v":"00:00:00"},null,null,null,{"$f":"'Harmonogram produkcji '!Y296","v":0},{"$f":"'Harmonogram produkcji '!Z296","v":0},{"$f":"'Harmonogram produkcji '!W296","v":0},{"$f":"'Harmonogram produkcji '!X296","v":0}]
[{"$f":"'Harmonogram produkcji '!B297","v":0},{"$f":"'Harmonogram produkcji '!C297","v":0},{"$f":"'Harmonogram produkcji '!D297","v":0},{"$f":"'Harmonogram produkcji '!E297","v":0},{"$f":"IF('Harmonogram produkcji '!G297=\"X\",\"z pierwszych 12 miesiecy okresu konwersji\",IF('Harmonogram produkcji '!H297=\"X\",\"W okresie konwersji 2 rok \",IF('Harmonogram produkcji '!I297=\"X\",\"W okresie konwersji 3 rok \",IF('Harmonogram produkcji '!J297=\"X\",\"Ekologiczny \"))))","v":false},{"$f":"'Harmonogram produkcji '!L297","v":0},{"$f":"'Harmonogram produkcji '!M297","v":0},null,{"$f":"'Harmonogram produkcji '!P297","v":0},{"$f":"'Harmonogram produkcji '!Q297","v":0},{"$f":"IF('Harmonogram produkcji '!R297=\"X\",\"ekologiczny \",IF('Harmonogram produkcji '!S297=\"X\",\"nieekologiczny\",IF('Harmonogram produkcji '!T297=\"X\",\"z własnego gospodarstwa\",IF('Harmonogram produkcji '!U297=\"X\",\"ND, uprawa zastana\"))))","v":false},{"$f":"'Harmonogram produkcji '!V297","v":"00:00:00"},{"$f":"'Harmonogram produkcji '!F297","v":"00:00:00"},null,null,null,{"$f":"'Harmonogram produkcji '!Y297","v":0},{"$f":"'Harmonogram produkcji '!Z297","v":0},{"$f":"'Harmonogram produkcji '!W297","v":0},{"$f":"'Harmonogram produkcji '!X297","v":0}]
[{"$f":"'Harmonogram produkcji '!B298","v":0},{"$f":"'Harmonogram produkcji '!C298","v":0},{"$f":"'Harmonogram produkcji '!D298","v":0},{"$f":"'Harmonogram produkcji '!E298","v":0},{"$f":"IF('Harmonogram produkcji '!G298=\"X\",\"z pierwszych 12 miesiecy okresu konwersji\",IF('Harmonogram produkcji '!H298=\"X\",\"W okresie konwersji 2 rok \",IF('Harmonogram produkcji '!I298=\"X\",\"W okresie konwersji 3 rok \",IF('Harmonogram produkcji '!J298=\"X\",\"Ekologiczny \"))))","v":false},{"$f":"'Harmonogram produkcji '!L298","v":0},{"$f":"'Harmonogram produkcji '!M298","v":0},null,{"$f":"'Harmonogram produkcji '!P298","v":0},{"$f":"'Harmonogram produkcji '!Q298","v":0},{"$f":"IF('Harmonogram produkcji '!R298=\"X\",\"ekologiczny \",IF('Harmonogram produkcji '!S298=\"X\",\"nieekologiczny\",IF('Harmonogram produkcji '!T298=\"X\",\"z własnego gospodarstwa\",IF('Harmonogram produkcji '!U298=\"X\",\"ND, uprawa zastana\"))))","v":false},{"$f":"'Harmonogram produkcji '!V298","v":"00:00:00"},{"$f":"'Harmonogram produkcji '!F298","v":"00:00:00"},null,null,null,{"$f":"'Harmonogram produkcji '!Y298","v":0},{"$f":"'Harmonogram produkcji '!Z298","v":0},{"$f":"'Harmonogram produkcji '!W298","v":0},{"$f":"'Harmonogram produkcji '!X298","v":0}]
[{"$f":"'Harmonogram produkcji '!B299","v":0},{"$f":"'Harmonogram produkcji '!C299","v":0},{"$f":"'Harmonogram produkcji '!D299","v":0},{"$f":"'Harmonogram produkcji '!E299","v":0},{"$f":"IF('Harmonogram produkcji '!G299=\"X\",\"z pierwszych 12 miesiecy okresu konwersji\",IF('Harmonogram produkcji '!H299=\"X\",\"W okresie konwersji 2 rok \",IF('Harmonogram produkcji '!I299=\"X\",\"W okresie konwersji 3 rok \",IF('Harmonogram produkcji '!J299=\"X\",\"Ekologiczny \"))))","v":false},{"$f":"'Harmonogram produkcji '!L299","v":0},{"$f":"'Harmonogram produkcji '!M299","v":0},null,{"$f":"'Harmonogram produkcji '!P299","v":0},{"$f":"'Harmonogram produkcji '!Q299","v":0},{"$f":"IF('Harmonogram produkcji '!R299=\"X\",\"ekologiczny \",IF('Harmonogram produkcji '!S299=\"X\",\"nieekologiczny\",IF('Harmonogram produkcji '!T299=\"X\",\"z własnego gospodarstwa\",IF('Harmonogram produkcji '!U299=\"X\",\"ND, uprawa zastana\"))))","v":false},{"$f":"'Harmonogram produkcji '!V299","v":"00:00:00"},{"$f":"'Harmonogram produkcji '!F299","v":"00:00:00"},null,null,null,{"$f":"'Harmonogram produkcji '!Y299","v":0},{"$f":"'Harmonogram produkcji '!Z299","v":0},{"$f":"'Harmonogram produkcji '!W299","v":0},{"$f":"'Harmonogram produkcji '!X299","v":0}]
[{"$f":"'Harmonogram produkcji '!B300","v":0},{"$f":"'Harmonogram produkcji '!C300","v":0},{"$f":"'Harmonogram produkcji '!D300","v":0},{"$f":"'Harmonogram produkcji '!E300","v":0},{"$f":"IF('Harmonogram produkcji '!G300=\"X\",\"z pierwszych 12 miesiecy okresu konwersji\",IF('Harmonogram produkcji '!H300=\"X\",\"W okresie konwersji 2 rok \",IF('Harmonogram produkcji '!I300=\"X\",\"W okresie konwersji 3 rok \",IF('Harmonogram produkcji '!J300=\"X\",\"Ekologiczny \"))))","v":false},{"$f":"'Harmonogram produkcji '!L300","v":0},{"$f":"'Harmonogram produkcji '!M300","v":0},null,{"$f":"'Harmonogram produkcji '!P300","v":0},{"$f":"'Harmonogram produkcji '!Q300","v":0},{"$f":"IF('Harmonogram produkcji '!R300=\"X\",\"ekologiczny \",IF('Harmonogram produkcji '!S300=\"X\",\"nieekologiczny\",IF('Harmonogram produkcji '!T300=\"X\",\"z własnego gospodarstwa\",IF('Harmonogram produkcji '!U300=\"X\",\"ND, uprawa zastana\"))))","v":false},{"$f":"'Harmonogram produkcji '!V300","v":"00:00:00"},{"$f":"'Harmonogram produkcji '!F300","v":"00:00:00"},null,null,null,{"$f":"'Harmonogram produkcji '!Y300","v":0},{"$f":"'Harmonogram produkcji '!Z300","v":0},{"$f":"'Harmonogram produkcji '!W300","v":0},{"$f":"'Harmonogram produkcji '!X300","v":0}]
[{"$f":"'Harmonogram produkcji '!B301","v":0},{"$f":"'Harmonogram produkcji '!C301","v":0},{"$f":"'Harmonogram produkcji '!D301","v":0},{"$f":"'Harmonogram produkcji '!E301","v":0},{"$f":"IF('Harmonogram produkcji '!G301=\"X\",\"z pierwszych 12 miesiecy okresu konwersji\",IF('Harmonogram produkcji '!H301=\"X\",\"W okresie konwersji 2 rok \",IF('Harmonogram produkcji '!I301=\"X\",\"W okresie konwersji 3 rok \",IF('Harmonogram produkcji '!J301=\"X\",\"Ekologiczny \"))))","v":false},{"$f":"'Harmonogram produkcji '!L301","v":0},{"$f":"'Harmonogram produkcji '!M301","v":0},null,{"$f":"'Harmonogram produkcji '!P301","v":0},{"$f":"'Harmonogram produkcji '!Q301","v":0},{"$f":"IF('Harmonogram produkcji '!R301=\"X\",\"ekologiczny \",IF('Harmonogram produkcji '!S301=\"X\",\"nieekologiczny\",IF('Harmonogram produkcji '!T301=\"X\",\"z własnego gospodarstwa\",IF('Harmonogram produkcji '!U301=\"X\",\"ND, uprawa zastana\"))))","v":false},{"$f":"'Harmonogram produkcji '!V301","v":"00:00:00"},{"$f":"'Harmonogram produkcji '!F301","v":"00:00:00"},null,null,null,{"$f":"'Harmonogram produkcji '!Y301","v":0},{"$f":"'Harmonogram produkcji '!Z301","v":0},{"$f":"'Harmonogram produkcji '!W301","v":0},{"$f":"'Harmonogram produkcji '!X301","v":0}]
[{"$f":"'Harmonogram produkcji '!B302","v":0},{"$f":"'Harmonogram produkcji '!C302","v":0},{"$f":"'Harmonogram produkcji '!D302","v":0},{"$f":"'Harmonogram produkcji '!E302","v":0},{"$f":"IF('Harmonogram produkcji '!G302=\"X\",\"z pierwszych 12 miesiecy okresu konwersji\",IF('Harmonogram produkcji '!H302=\"X\",\"W okresie konwersji 2 rok \",IF('Harmonogram produkcji '!I302=\"X\",\"W okresie konwersji 3 rok \",IF('Harmonogram produkcji '!J302=\"X\",\"Ekologiczny \"))))","v":false},{"$f":"'Harmonogram produkcji '!L302","v":0},{"$f":"'Harmonogram produkcji '!M302","v":0},null,{"$f":"'Harmonogram produkcji '!P302","v":0},{"$f":"'Harmonogram produkcji '!Q302","v":0},{"$f":"IF('Harmonogram produkcji '!R302=\"X\",\"ekologiczny \",IF('Harmonogram produkcji '!S302=\"X\",\"nieekologiczny\",IF('Harmonogram produkcji '!T302=\"X\",\"z własnego gospodarstwa\",IF('Harmonogram produkcji '!U302=\"X\",\"ND, uprawa zastana\"))))","v":false},{"$f":"'Harmonogram produkcji '!V302","v":"00:00:00"},{"$f":"'Harmonogram produkcji '!F302","v":"00:00:00"},null,null,null,{"$f":"'Harmonogram produkcji '!Y302","v":0},{"$f":"'Harmonogram produkcji '!Z302","v":0},{"$f":"'Harmonogram produkcji '!W302","v":0},{"$f":"'Harmonogram produkcji '!X302","v":0}]
[{"$f":"'Harmonogram produkcji '!B303","v":0},{"$f":"'Harmonogram produkcji '!C303","v":0},{"$f":"'Harmonogram produkcji '!D303","v":0},{"$f":"'Harmonogram produkcji '!E303","v":0},{"$f":"IF('Harmonogram produkcji '!G303=\"X\",\"z pierwszych 12 miesiecy okresu konwersji\",IF('Harmonogram produkcji '!H303=\"X\",\"W okresie konwersji 2 rok \",IF('Harmonogram produkcji '!I303=\"X\",\"W okresie konwersji 3 rok \",IF('Harmonogram produkcji '!J303=\"X\",\"Ekologiczny \"))))","v":false},{"$f":"'Harmonogram produkcji '!L303","v":0},{"$f":"'Harmonogram produkcji '!M303","v":0},null,{"$f":"'Harmonogram produkcji '!P303","v":0},{"$f":"'Harmonogram produkcji '!Q303","v":0},{"$f":"IF('Harmonogram produkcji '!R303=\"X\",\"ekologiczny \",IF('Harmonogram produkcji '!S303=\"X\",\"nieekologiczny\",IF('Harmonogram produkcji '!T303=\"X\",\"z własnego gospodarstwa\",IF('Harmonogram produkcji '!U303=\"X\",\"ND, uprawa zastana\"))))","v":false},{"$f":"'Harmonogram produkcji '!V303","v":"00:00:00"},{"$f":"'Harmonogram produkcji '!F303","v":"00:00:00"},null,null,null,{"$f":"'Harmonogram produkcji '!Y303","v":0},{"$f":"'Harmonogram produkcji '!Z303","v":0},{"$f":"'Harmonogram produkcji '!W303","v":0},{"$f":"'Harmonogram produkcji '!X303","v":0}]
[{"$f":"'Harmonogram produkcji '!B304","v":0},{"$f":"'Harmonogram produkcji '!C304","v":0},{"$f":"'Harmonogram produkcji '!D304","v":0},{"$f":"'Harmonogram produkcji '!E304","v":0},{"$f":"IF('Harmonogram produkcji '!G304=\"X\",\"z pierwszych 12 miesiecy okresu konwersji\",IF('Harmonogram produkcji '!H304=\"X\",\"W okresie konwersji 2 rok \",IF('Harmonogram produkcji '!I304=\"X\",\"W okresie konwersji 3 rok \",IF('Harmonogram produkcji '!J304=\"X\",\"Ekologiczny \"))))","v":false},{"$f":"'Harmonogram produkcji '!L304","v":0},{"$f":"'Harmonogram produkcji '!M304","v":0},null,{"$f":"'Harmonogram produkcji '!P304","v":0},{"$f":"'Harmonogram produkcji '!Q304","v":0},{"$f":"IF('Harmonogram produkcji '!R304=\"X\",\"ekologiczny \",IF('Harmonogram produkcji '!S304=\"X\",\"nieekologiczny\",IF('Harmonogram produkcji '!T304=\"X\",\"z własnego gospodarstwa\",IF('Harmonogram produkcji '!U304=\"X\",\"ND, uprawa zastana\"))))","v":false},{"$f":"'Harmonogram produkcji '!V304","v":"00:00:00"},{"$f":"'Harmonogram produkcji '!F304","v":"00:00:00"},null,null,null,{"$f":"'Harmonogram produkcji '!Y304","v":0},{"$f":"'Harmonogram produkcji '!Z304","v":0},{"$f":"'Harmonogram produkcji '!W304","v":0},{"$f":"'Harmonogram produkcji '!X304","v":0}]
[{"$f":"'Harmonogram produkcji '!B305","v":0},{"$f":"'Harmonogram produkcji '!C305","v":0},{"$f":"'Harmonogram produkcji '!D305","v":0},{"$f":"'Harmonogram produkcji '!E305","v":0},{"$f":"IF('Harmonogram produkcji '!G305=\"X\",\"z pierwszych 12 miesiecy okresu konwersji\",IF('Harmonogram produkcji '!H305=\"X\",\"W okresie konwersji 2 rok \",IF('Harmonogram produkcji '!I305=\"X\",\"W okresie konwersji 3 rok \",IF('Harmonogram produkcji '!J305=\"X\",\"Ekologiczny \"))))","v":false},{"$f":"'Harmonogram produkcji '!L305","v":0},{"$f":"'Harmonogram produkcji '!M305","v":0},null,{"$f":"'Harmonogram produkcji '!P305","v":0},{"$f":"'Harmonogram produkcji '!Q305","v":0},{"$f":"IF('Harmonogram produkcji '!R305=\"X\",\"ekologiczny \",IF('Harmonogram produkcji '!S305=\"X\",\"nieekologiczny\",IF('Harmonogram produkcji '!T305=\"X\",\"z własnego gospodarstwa\",IF('Harmonogram produkcji '!U305=\"X\",\"ND, uprawa zastana\"))))","v":false},{"$f":"'Harmonogram produkcji '!V305","v":"00:00:00"},{"$f":"'Harmonogram produkcji '!F305","v":"00:00:00"},null,null,null,{"$f":"'Harmonogram produkcji '!Y305","v":0},{"$f":"'Harmonogram produkcji '!Z305","v":0},{"$f":"'Harmonogram produkcji '!W305","v":0},{"$f":"'Harmonogram produkcji '!X305","v":0}]
[{"$f":"'Harmonogram produkcji '!B306","v":0},{"$f":"'Harmonogram produkcji '!C306","v":0},{"$f":"'Harmonogram produkcji '!D306","v":0},{"$f":"'Harmonogram produkcji '!E306","v":0},{"$f":"IF('Harmonogram produkcji '!G306=\"X\",\"z pierwszych 12 miesiecy okresu konwersji\",IF('Harmonogram produkcji '!H306=\"X\",\"W okresie konwersji 2 rok \",IF('Harmonogram produkcji '!I306=\"X\",\"W okresie konwersji 3 rok \",IF('Harmonogram produkcji '!J306=\"X\",\"Ekologiczny \"))))","v":false},{"$f":"'Harmonogram produkcji '!L306","v":0},{"$f":"'Harmonogram produkcji '!M306","v":0},null,{"$f":"'Harmonogram produkcji '!P306","v":0},{"$f":"'Harmonogram produkcji '!Q306","v":0},{"$f":"IF('Harmonogram produkcji '!R306=\"X\",\"ekologiczny \",IF('Harmonogram produkcji '!S306=\"X\",\"nieekologiczny\",IF('Harmonogram produkcji '!T306=\"X\",\"z własnego gospodarstwa\",IF('Harmonogram produkcji '!U306=\"X\",\"ND, uprawa zastana\"))))","v":false},{"$f":"'Harmonogram produkcji '!V306","v":"00:00:00"},{"$f":"'Harmonogram produkcji '!F306","v":"00:00:00"},null,null,null,{"$f":"'Harmonogram produkcji '!Y306","v":0},{"$f":"'Harmonogram produkcji '!Z306","v":0},{"$f":"'Harmonogram produkcji '!W306","v":0},{"$f":"'Harmonogram produkcji '!X306","v":0}]
[{"$f":"'Harmonogram produkcji '!B307","v":0},{"$f":"'Harmonogram produkcji '!C307","v":0},{"$f":"'Harmonogram produkcji '!D307","v":0},{"$f":"'Harmonogram produkcji '!E307","v":0},{"$f":"IF('Harmonogram produkcji '!G307=\"X\",\"z pierwszych 12 miesiecy okresu konwersji\",IF('Harmonogram produkcji '!H307=\"X\",\"W okresie konwersji 2 rok \",IF('Harmonogram produkcji '!I307=\"X\",\"W okresie konwersji 3 rok \",IF('Harmonogram produkcji '!J307=\"X\",\"Ekologiczny \"))))","v":false},{"$f":"'Harmonogram produkcji '!L307","v":0},{"$f":"'Harmonogram produkcji '!M307","v":0},null,{"$f":"'Harmonogram produkcji '!P307","v":0},{"$f":"'Harmonogram produkcji '!Q307","v":0},{"$f":"IF('Harmonogram produkcji '!R307=\"X\",\"ekologiczny \",IF('Harmonogram produkcji '!S307=\"X\",\"nieekologiczny\",IF('Harmonogram produkcji '!T307=\"X\",\"z własnego gospodarstwa\",IF('Harmonogram produkcji '!U307=\"X\",\"ND, uprawa zastana\"))))","v":false},{"$f":"'Harmonogram produkcji '!V307","v":"00:00:00"},{"$f":"'Harmonogram produkcji '!F307","v":"00:00:00"},null,null,null,{"$f":"'Harmonogram produkcji '!Y307","v":0},{"$f":"'Harmonogram produkcji '!Z307","v":0},{"$f":"'Harmonogram produkcji '!W307","v":0},{"$f":"'Harmonogram produkcji '!X307","v":0}]
[{"$f":"'Harmonogram produkcji '!B308","v":0},{"$f":"'Harmonogram produkcji '!C308","v":0},{"$f":"'Harmonogram produkcji '!D308","v":0},{"$f":"'Harmonogram produkcji '!E308","v":0},{"$f":"IF('Harmonogram produkcji '!G308=\"X\",\"z pierwszych 12 miesiecy okresu konwersji\",IF('Harmonogram produkcji '!H308=\"X\",\"W okresie konwersji 2 rok \",IF('Harmonogram produkcji '!I308=\"X\",\"W okresie konwersji 3 rok \",IF('Harmonogram produkcji '!J308=\"X\",\"Ekologiczny \"))))","v":false},{"$f":"'Harmonogram produkcji '!L308","v":0},{"$f":"'Harmonogram produkcji '!M308","v":0},null,{"$f":"'Harmonogram produkcji '!P308","v":0},{"$f":"'Harmonogram produkcji '!Q308","v":0},{"$f":"IF('Harmonogram produkcji '!R308=\"X\",\"ekologiczny \",IF('Harmonogram produkcji '!S308=\"X\",\"nieekologiczny\",IF('Harmonogram produkcji '!T308=\"X\",\"z własnego gospodarstwa\",IF('Harmonogram produkcji '!U308=\"X\",\"ND, uprawa zastana\"))))","v":false},{"$f":"'Harmonogram produkcji '!V308","v":"00:00:00"},{"$f":"'Harmonogram produkcji '!F308","v":"00:00:00"},null,null,null,{"$f":"'Harmonogram produkcji '!Y308","v":0},{"$f":"'Harmonogram produkcji '!Z308","v":0},{"$f":"'Harmonogram produkcji '!W308","v":0},{"$f":"'Harmonogram produkcji '!X308","v":0}]
[{"$f":"'Harmonogram produkcji '!B309","v":0},{"$f":"'Harmonogram produkcji '!C309","v":0},{"$f":"'Harmonogram produkcji '!D309","v":0},{"$f":"'Harmonogram produkcji '!E309","v":0},{"$f":"IF('Harmonogram produkcji '!G309=\"X\",\"z pierwszych 12 miesiecy okresu konwersji\",IF('Harmonogram produkcji '!H309=\"X\",\"W okresie konwersji 2 rok \",IF('Harmonogram produkcji '!I309=\"X\",\"W okresie konwersji 3 rok \",IF('Harmonogram produkcji '!J309=\"X\",\"Ekologiczny \"))))","v":false},{"$f":"'Harmonogram produkcji '!L309","v":0},{"$f":"'Harmonogram produkcji '!M309","v":0},null,{"$f":"'Harmonogram produkcji '!P309","v":0},{"$f":"'Harmonogram produkcji '!Q309","v":0},{"$f":"IF('Harmonogram produkcji '!R309=\"X\",\"ekologiczny \",IF('Harmonogram produkcji '!S309=\"X\",\"nieekologiczny\",IF('Harmonogram produkcji '!T309=\"X\",\"z własnego gospodarstwa\",IF('Harmonogram produkcji '!U309=\"X\",\"ND, uprawa zastana\"))))","v":false},{"$f":"'Harmonogram produkcji '!V309","v":"00:00:00"},{"$f":"'Harmonogram produkcji '!F309","v":"00:00:00"},null,null,null,{"$f":"'Harmonogram produkcji '!Y309","v":0},{"$f":"'Harmonogram produkcji '!Z309","v":0},{"$f":"'Harmonogram produkcji '!W309","v":0},{"$f":"'Harmonogram produkcji '!X309","v":0}]
[{"$f":"'Harmonogram produkcji '!B310","v":0},{"$f":"'Harmonogram produkcji '!C310","v":0},{"$f":"'Harmonogram produkcji '!D310","v":0},{"$f":"'Harmonogram produkcji '!E310","v":0},{"$f":"IF('Harmonogram produkcji '!G310=\"X\",\"z pierwszych 12 miesiecy okresu konwersji\",IF('Harmonogram produkcji '!H310=\"X\",\"W okresie konwersji 2 rok \",IF('Harmonogram produkcji '!I310=\"X\",\"W okresie konwersji 3 rok \",IF('Harmonogram produkcji '!J310=\"X\",\"Ekologiczny \"))))","v":false},{"$f":"'Harmonogram produkcji '!L310","v":0},{"$f":"'Harmonogram produkcji '!M310","v":0},null,{"$f":"'Harmonogram produkcji '!P310","v":0},{"$f":"'Harmonogram produkcji '!Q310","v":0},{"$f":"IF('Harmonogram produkcji '!R310=\"X\",\"ekologiczny \",IF('Harmonogram produkcji '!S310=\"X\",\"nieekologiczny\",IF('Harmonogram produkcji '!T310=\"X\",\"z własnego gospodarstwa\",IF('Harmonogram produkcji '!U310=\"X\",\"ND, uprawa zastana\"))))","v":false},{"$f":"'Harmonogram produkcji '!V310","v":"00:00:00"},{"$f":"'Harmonogram produkcji '!F310","v":"00:00:00"},null,null,null,{"$f":"'Harmonogram produkcji '!Y310","v":0},{"$f":"'Harmonogram produkcji '!Z310","v":0},{"$f":"'Harmonogram produkcji '!W310","v":0},{"$f":"'Harmonogram produkcji '!X310","v":0}]
[{"$f":"'Harmonogram produkcji '!B311","v":0},{"$f":"'Harmonogram produkcji '!C311","v":0},{"$f":"'Harmonogram produkcji '!D311","v":0},{"$f":"'Harmonogram produkcji '!E311","v":0},{"$f":"IF('Harmonogram produkcji '!G311=\"X\",\"z pierwszych 12 miesiecy okresu konwersji\",IF('Harmonogram produkcji '!H311=\"X\",\"W okresie konwersji 2 rok \",IF('Harmonogram produkcji '!I311=\"X\",\"W okresie konwersji 3 rok \",IF('Harmonogram produkcji '!J311=\"X\",\"Ekologiczny \"))))","v":false},{"$f":"'Harmonogram produkcji '!L311","v":0},{"$f":"'Harmonogram produkcji '!M311","v":0},null,{"$f":"'Harmonogram produkcji '!P311","v":0},{"$f":"'Harmonogram produkcji '!Q311","v":0},{"$f":"IF('Harmonogram produkcji '!R311=\"X\",\"ekologiczny \",IF('Harmonogram produkcji '!S311=\"X\",\"nieekologiczny\",IF('Harmonogram produkcji '!T311=\"X\",\"z własnego gospodarstwa\",IF('Harmonogram produkcji '!U311=\"X\",\"ND, uprawa zastana\"))))","v":false},{"$f":"'Harmonogram produkcji '!V311","v":"00:00:00"},{"$f":"'Harmonogram produkcji '!F311","v":"00:00:00"},null,null,null,{"$f":"'Harmonogram produkcji '!Y311","v":0},{"$f":"'Harmonogram produkcji '!Z311","v":0},{"$f":"'Harmonogram produkcji '!W311","v":0},{"$f":"'Harmonogram produkcji '!X311","v":0}]
[{"$f":"'Harmonogram produkcji '!B312","v":0},{"$f":"'Harmonogram produkcji '!C312","v":0},{"$f":"'Harmonogram produkcji '!D312","v":0},{"$f":"'Harmonogram produkcji '!E312","v":0},{"$f":"IF('Harmonogram produkcji '!G312=\"X\",\"z pierwszych 12 miesiecy okresu konwersji\",IF('Harmonogram produkcji '!H312=\"X\",\"W okresie konwersji 2 rok \",IF('Harmonogram produkcji '!I312=\"X\",\"W okresie konwersji 3 rok \",IF('Harmonogram produkcji '!J312=\"X\",\"Ekologiczny \"))))","v":false},{"$f":"'Harmonogram produkcji '!L312","v":0},{"$f":"'Harmonogram produkcji '!M312","v":0},null,{"$f":"'Harmonogram produkcji '!P312","v":0},{"$f":"'Harmonogram produkcji '!Q312","v":0},{"$f":"IF('Harmonogram produkcji '!R312=\"X\",\"ekologiczny \",IF('Harmonogram produkcji '!S312=\"X\",\"nieekologiczny\",IF('Harmonogram produkcji '!T312=\"X\",\"z własnego gospodarstwa\",IF('Harmonogram produkcji '!U312=\"X\",\"ND, uprawa zastana\"))))","v":false},{"$f":"'Harmonogram produkcji '!V312","v":"00:00:00"},{"$f":"'Harmonogram produkcji '!F312","v":"00:00:00"},null,null,null,{"$f":"'Harmonogram produkcji '!Y312","v":0},{"$f":"'Harmonogram produkcji '!Z312","v":0},{"$f":"'Harmonogram produkcji '!W312","v":0},{"$f":"'Harmonogram produkcji '!X312","v":0}]
[{"$f":"'Harmonogram produkcji '!B313","v":0},{"$f":"'Harmonogram produkcji '!C313","v":0},{"$f":"'Harmonogram produkcji '!D313","v":0},{"$f":"'Harmonogram produkcji '!E313","v":0},{"$f":"IF('Harmonogram produkcji '!G313=\"X\",\"z pierwszych 12 miesiecy okresu konwersji\",IF('Harmonogram produkcji '!H313=\"X\",\"W okresie konwersji 2 rok \",IF('Harmonogram produkcji '!I313=\"X\",\"W okresie konwersji 3 rok \",IF('Harmonogram produkcji '!J313=\"X\",\"Ekologiczny \"))))","v":false},{"$f":"'Harmonogram produkcji '!L313","v":0},{"$f":"'Harmonogram produkcji '!M313","v":0},null,{"$f":"'Harmonogram produkcji '!P313","v":0},{"$f":"'Harmonogram produkcji '!Q313","v":0},{"$f":"IF('Harmonogram produkcji '!R313=\"X\",\"ekologiczny \",IF('Harmonogram produkcji '!S313=\"X\",\"nieekologiczny\",IF('Harmonogram produkcji '!T313=\"X\",\"z własnego gospodarstwa\",IF('Harmonogram produkcji '!U313=\"X\",\"ND, uprawa zastana\"))))","v":false},{"$f":"'Harmonogram produkcji '!V313","v":"00:00:00"},{"$f":"'Harmonogram produkcji '!F313","v":"00:00:00"},null,null,null,{"$f":"'Harmonogram produkcji '!Y313","v":0},{"$f":"'Harmonogram produkcji '!Z313","v":0},{"$f":"'Harmonogram produkcji '!W313","v":0},{"$f":"'Harmonogram produkcji '!X313","v":0}]
[{"$f":"'Harmonogram produkcji '!B314","v":0},{"$f":"'Harmonogram produkcji '!C314","v":0},{"$f":"'Harmonogram produkcji '!D314","v":0},{"$f":"'Harmonogram produkcji '!E314","v":0},{"$f":"IF('Harmonogram produkcji '!G314=\"X\",\"z pierwszych 12 miesiecy okresu konwersji\",IF('Harmonogram produkcji '!H314=\"X\",\"W okresie konwersji 2 rok \",IF('Harmonogram produkcji '!I314=\"X\",\"W okresie konwersji 3 rok \",IF('Harmonogram produkcji '!J314=\"X\",\"Ekologiczny \"))))","v":false},{"$f":"'Harmonogram produkcji '!L314","v":0},{"$f":"'Harmonogram produkcji '!M314","v":0},null,{"$f":"'Harmonogram produkcji '!P314","v":0},{"$f":"'Harmonogram produkcji '!Q314","v":0},{"$f":"IF('Harmonogram produkcji '!R314=\"X\",\"ekologiczny \",IF('Harmonogram produkcji '!S314=\"X\",\"nieekologiczny\",IF('Harmonogram produkcji '!T314=\"X\",\"z własnego gospodarstwa\",IF('Harmonogram produkcji '!U314=\"X\",\"ND, uprawa zastana\"))))","v":false},{"$f":"'Harmonogram produkcji '!V314","v":"00:00:00"},{"$f":"'Harmonogram produkcji '!F314","v":"00:00:00"},null,null,null,{"$f":"'Harmonogram produkcji '!Y314","v":0},{"$f":"'Harmonogram produkcji '!Z314","v":0},{"$f":"'Harmonogram produkcji '!W314","v":0},{"$f":"'Harmonogram produkcji '!X314","v":0}]
[{"$f":"'Harmonogram produkcji '!B315","v":0},{"$f":"'Harmonogram produkcji '!C315","v":0},{"$f":"'Harmonogram produkcji '!D315","v":0},{"$f":"'Harmonogram produkcji '!E315","v":0},{"$f":"IF('Harmonogram produkcji '!G315=\"X\",\"z pierwszych 12 miesiecy okresu konwersji\",IF('Harmonogram produkcji '!H315=\"X\",\"W okresie konwersji 2 rok \",IF('Harmonogram produkcji '!I315=\"X\",\"W okresie konwersji 3 rok \",IF('Harmonogram produkcji '!J315=\"X\",\"Ekologiczny \"))))","v":false},{"$f":"'Harmonogram produkcji '!L315","v":0},{"$f":"'Harmonogram produkcji '!M315","v":0},null,{"$f":"'Harmonogram produkcji '!P315","v":0},{"$f":"'Harmonogram produkcji '!Q315","v":0},{"$f":"IF('Harmonogram produkcji '!R315=\"X\",\"ekologiczny \",IF('Harmonogram produkcji '!S315=\"X\",\"nieekologiczny\",IF('Harmonogram produkcji '!T315=\"X\",\"z własnego gospodarstwa\",IF('Harmonogram produkcji '!U315=\"X\",\"ND, uprawa zastana\"))))","v":false},{"$f":"'Harmonogram produkcji '!V315","v":"00:00:00"},{"$f":"'Harmonogram produkcji '!F315","v":"00:00:00"},null,null,null,{"$f":"'Harmonogram produkcji '!Y315","v":0},{"$f":"'Harmonogram produkcji '!Z315","v":0},{"$f":"'Harmonogram produkcji '!W315","v":0},{"$f":"'Harmonogram produkcji '!X315","v":0}]
[{"$f":"'Harmonogram produkcji '!B316","v":0},{"$f":"'Harmonogram produkcji '!C316","v":0},{"$f":"'Harmonogram produkcji '!D316","v":0},{"$f":"'Harmonogram produkcji '!E316","v":0},{"$f":"IF('Harmonogram produkcji '!G316=\"X\",\"z pierwszych 12 miesiecy okresu konwersji\",IF('Harmonogram produkcji '!H316=\"X\",\"W okresie konwersji 2 rok \",IF('Harmonogram produkcji '!I316=\"X\",\"W okresie konwersji 3 rok \",IF('Harmonogram produkcji '!J316=\"X\",\"Ekologiczny \"))))","v":false},{"$f":"'Harmonogram produkcji '!L316","v":0},{"$f":"'Harmonogram produkcji '!M316","v":0},null,{"$f":"'Harmonogram produkcji '!P316","v":0},{"$f":"'Harmonogram produkcji '!Q316","v":0},{"$f":"IF('Harmonogram produkcji '!R316=\"X\",\"ekologiczny \",IF('Harmonogram produkcji '!S316=\"X\",\"nieekologiczny\",IF('Harmonogram produkcji '!T316=\"X\",\"z własnego gospodarstwa\",IF('Harmonogram produkcji '!U316=\"X\",\"ND, uprawa zastana\"))))","v":false},{"$f":"'Harmonogram produkcji '!V316","v":"00:00:00"},{"$f":"'Harmonogram produkcji '!F316","v":"00:00:00"},null,null,null,{"$f":"'Harmonogram produkcji '!Y316","v":0},{"$f":"'Harmonogram produkcji '!Z316","v":0},{"$f":"'Harmonogram produkcji '!W316","v":0},{"$f":"'Harmonogram produkcji '!X316","v":0}]
[{"$f":"'Harmonogram produkcji '!B317","v":0},{"$f":"'Harmonogram produkcji '!C317","v":0},{"$f":"'Harmonogram produkcji '!D317","v":0},{"$f":"'Harmonogram produkcji '!E317","v":0},{"$f":"IF('Harmonogram produkcji '!G317=\"X\",\"z pierwszych 12 miesiecy okresu konwersji\",IF('Harmonogram produkcji '!H317=\"X\",\"W okresie konwersji 2 rok \",IF('Harmonogram produkcji '!I317=\"X\",\"W okresie konwersji 3 rok \",IF('Harmonogram produkcji '!J317=\"X\",\"Ekologiczny \"))))","v":false},{"$f":"'Harmonogram produkcji '!L317","v":0},{"$f":"'Harmonogram produkcji '!M317","v":0},null,{"$f":"'Harmonogram produkcji '!P317","v":0},{"$f":"'Harmonogram produkcji '!Q317","v":0},{"$f":"IF('Harmonogram produkcji '!R317=\"X\",\"ekologiczny \",IF('Harmonogram produkcji '!S317=\"X\",\"nieekologiczny\",IF('Harmonogram produkcji '!T317=\"X\",\"z własnego gospodarstwa\",IF('Harmonogram produkcji '!U317=\"X\",\"ND, uprawa zastana\"))))","v":false},{"$f":"'Harmonogram produkcji '!V317","v":"00:00:00"},{"$f":"'Harmonogram produkcji '!F317","v":"00:00:00"},null,null,null,{"$f":"'Harmonogram produkcji '!Y317","v":0},{"$f":"'Harmonogram produkcji '!Z317","v":0},{"$f":"'Harmonogram produkcji '!W317","v":0},{"$f":"'Harmonogram produkcji '!X317","v":0}]
[{"$f":"'Harmonogram produkcji '!B318","v":0},{"$f":"'Harmonogram produkcji '!C318","v":0},{"$f":"'Harmonogram produkcji '!D318","v":0},{"$f":"'Harmonogram produkcji '!E318","v":0},{"$f":"IF('Harmonogram produkcji '!G318=\"X\",\"z pierwszych 12 miesiecy okresu konwersji\",IF('Harmonogram produkcji '!H318=\"X\",\"W okresie konwersji 2 rok \",IF('Harmonogram produkcji '!I318=\"X\",\"W okresie konwersji 3 rok \",IF('Harmonogram produkcji '!J318=\"X\",\"Ekologiczny \"))))","v":false},{"$f":"'Harmonogram produkcji '!L318","v":0},{"$f":"'Harmonogram produkcji '!M318","v":0},null,{"$f":"'Harmonogram produkcji '!P318","v":0},{"$f":"'Harmonogram produkcji '!Q318","v":0},{"$f":"IF('Harmonogram produkcji '!R318=\"X\",\"ekologiczny \",IF('Harmonogram produkcji '!S318=\"X\",\"nieekologiczny\",IF('Harmonogram produkcji '!T318=\"X\",\"z własnego gospodarstwa\",IF('Harmonogram produkcji '!U318=\"X\",\"ND, uprawa zastana\"))))","v":false},{"$f":"'Harmonogram produkcji '!V318","v":"00:00:00"},{"$f":"'Harmonogram produkcji '!F318","v":"00:00:00"},null,null,null,{"$f":"'Harmonogram produkcji '!Y318","v":0},{"$f":"'Harmonogram produkcji '!Z318","v":0},{"$f":"'Harmonogram produkcji '!W318","v":0},{"$f":"'Harmonogram produkcji '!X318","v":0}]
[{"$f":"'Harmonogram produkcji '!B319","v":0},{"$f":"'Harmonogram produkcji '!C319","v":0},{"$f":"'Harmonogram produkcji '!D319","v":0},{"$f":"'Harmonogram produkcji '!E319","v":0},{"$f":"IF('Harmonogram produkcji '!G319=\"X\",\"z pierwszych 12 miesiecy okresu konwersji\",IF('Harmonogram produkcji '!H319=\"X\",\"W okresie konwersji 2 rok \",IF('Harmonogram produkcji '!I319=\"X\",\"W okresie konwersji 3 rok \",IF('Harmonogram produkcji '!J319=\"X\",\"Ekologiczny \"))))","v":false},{"$f":"'Harmonogram produkcji '!L319","v":0},{"$f":"'Harmonogram produkcji '!M319","v":0},null,{"$f":"'Harmonogram produkcji '!P319","v":0},{"$f":"'Harmonogram produkcji '!Q319","v":0},{"$f":"IF('Harmonogram produkcji '!R319=\"X\",\"ekologiczny \",IF('Harmonogram produkcji '!S319=\"X\",\"nieekologiczny\",IF('Harmonogram produkcji '!T319=\"X\",\"z własnego gospodarstwa\",IF('Harmonogram produkcji '!U319=\"X\",\"ND, uprawa zastana\"))))","v":false},{"$f":"'Harmonogram produkcji '!V319","v":"00:00:00"},{"$f":"'Harmonogram produkcji '!F319","v":"00:00:00"},null,null,null,{"$f":"'Harmonogram produkcji '!Y319","v":0},{"$f":"'Harmonogram produkcji '!Z319","v":0},{"$f":"'Harmonogram produkcji '!W319","v":0},{"$f":"'Harmonogram produkcji '!X319","v":0}]
[{"$f":"'Harmonogram produkcji '!B320","v":0},{"$f":"'Harmonogram produkcji '!C320","v":0},{"$f":"'Harmonogram produkcji '!D320","v":0},{"$f":"'Harmonogram produkcji '!E320","v":0},{"$f":"IF('Harmonogram produkcji '!G320=\"X\",\"z pierwszych 12 miesiecy okresu konwersji\",IF('Harmonogram produkcji '!H320=\"X\",\"W okresie konwersji 2 rok \",IF('Harmonogram produkcji '!I320=\"X\",\"W okresie konwersji 3 rok \",IF('Harmonogram produkcji '!J320=\"X\",\"Ekologiczny \"))))","v":false},{"$f":"'Harmonogram produkcji '!L320","v":0},{"$f":"'Harmonogram produkcji '!M320","v":0},null,{"$f":"'Harmonogram produkcji '!P320","v":0},{"$f":"'Harmonogram produkcji '!Q320","v":0},{"$f":"IF('Harmonogram produkcji '!R320=\"X\",\"ekologiczny \",IF('Harmonogram produkcji '!S320=\"X\",\"nieekologiczny\",IF('Harmonogram produkcji '!T320=\"X\",\"z własnego gospodarstwa\",IF('Harmonogram produkcji '!U320=\"X\",\"ND, uprawa zastana\"))))","v":false},{"$f":"'Harmonogram produkcji '!V320","v":"00:00:00"},{"$f":"'Harmonogram produkcji '!F320","v":"00:00:00"},null,null,null,{"$f":"'Harmonogram produkcji '!Y320","v":0},{"$f":"'Harmonogram produkcji '!Z320","v":0},{"$f":"'Harmonogram produkcji '!W320","v":0},{"$f":"'Harmonogram produkcji '!X320","v":0}]
[{"$f":"'Harmonogram produkcji '!B321","v":0},{"$f":"'Harmonogram produkcji '!C321","v":0},{"$f":"'Harmonogram produkcji '!D321","v":0},{"$f":"'Harmonogram produkcji '!E321","v":0},{"$f":"IF('Harmonogram produkcji '!G321=\"X\",\"z pierwszych 12 miesiecy okresu konwersji\",IF('Harmonogram produkcji '!H321=\"X\",\"W okresie konwersji 2 rok \",IF('Harmonogram produkcji '!I321=\"X\",\"W okresie konwersji 3 rok \",IF('Harmonogram produkcji '!J321=\"X\",\"Ekologiczny \"))))","v":false},{"$f":"'Harmonogram produkcji '!L321","v":0},{"$f":"'Harmonogram produkcji '!M321","v":0},null,{"$f":"'Harmonogram produkcji '!P321","v":0},{"$f":"'Harmonogram produkcji '!Q321","v":0},{"$f":"IF('Harmonogram produkcji '!R321=\"X\",\"ekologiczny \",IF('Harmonogram produkcji '!S321=\"X\",\"nieekologiczny\",IF('Harmonogram produkcji '!T321=\"X\",\"z własnego gospodarstwa\",IF('Harmonogram produkcji '!U321=\"X\",\"ND, uprawa zastana\"))))","v":false},{"$f":"'Harmonogram produkcji '!V321","v":"00:00:00"},{"$f":"'Harmonogram produkcji '!F321","v":"00:00:00"},null,null,null,{"$f":"'Harmonogram produkcji '!Y321","v":0},{"$f":"'Harmonogram produkcji '!Z321","v":0},{"$f":"'Harmonogram produkcji '!W321","v":0},{"$f":"'Harmonogram produkcji '!X321","v":0}]
[{"$f":"'Harmonogram produkcji '!B322","v":0},{"$f":"'Harmonogram produkcji '!C322","v":0},{"$f":"'Harmonogram produkcji '!D322","v":0},{"$f":"'Harmonogram produkcji '!E322","v":0},{"$f":"IF('Harmonogram produkcji '!G322=\"X\",\"z pierwszych 12 miesiecy okresu konwersji\",IF('Harmonogram produkcji '!H322=\"X\",\"W okresie konwersji 2 rok \",IF('Harmonogram produkcji '!I322=\"X\",\"W okresie konwersji 3 rok \",IF('Harmonogram produkcji '!J322=\"X\",\"Ekologiczny \"))))","v":false},{"$f":"'Harmonogram produkcji '!L322","v":0},{"$f":"'Harmonogram produkcji '!M322","v":0},null,{"$f":"'Harmonogram produkcji '!P322","v":0},{"$f":"'Harmonogram produkcji '!Q322","v":0},{"$f":"IF('Harmonogram produkcji '!R322=\"X\",\"ekologiczny \",IF('Harmonogram produkcji '!S322=\"X\",\"nieekologiczny\",IF('Harmonogram produkcji '!T322=\"X\",\"z własnego gospodarstwa\",IF('Harmonogram produkcji '!U322=\"X\",\"ND, uprawa zastana\"))))","v":false},{"$f":"'Harmonogram produkcji '!V322","v":"00:00:00"},{"$f":"'Harmonogram produkcji '!F322","v":"00:00:00"},null,null,null,{"$f":"'Harmonogram produkcji '!Y322","v":0},{"$f":"'Harmonogram produkcji '!Z322","v":0},{"$f":"'Harmonogram produkcji '!W322","v":0},{"$f":"'Harmonogram produkcji '!X322","v":0}]
[{"$f":"'Harmonogram produkcji '!B323","v":0},{"$f":"'Harmonogram produkcji '!C323","v":0},{"$f":"'Harmonogram produkcji '!D323","v":0},{"$f":"'Harmonogram produkcji '!E323","v":0},{"$f":"IF('Harmonogram produkcji '!G323=\"X\",\"z pierwszych 12 miesiecy okresu konwersji\",IF('Harmonogram produkcji '!H323=\"X\",\"W okresie konwersji 2 rok \",IF('Harmonogram produkcji '!I323=\"X\",\"W okresie konwersji 3 rok \",IF('Harmonogram produkcji '!J323=\"X\",\"Ekologiczny \"))))","v":false},{"$f":"'Harmonogram produkcji '!L323","v":0},{"$f":"'Harmonogram produkcji '!M323","v":0},null,{"$f":"'Harmonogram produkcji '!P323","v":0},{"$f":"'Harmonogram produkcji '!Q323","v":0},{"$f":"IF('Harmonogram produkcji '!R323=\"X\",\"ekologiczny \",IF('Harmonogram produkcji '!S323=\"X\",\"nieekologiczny\",IF('Harmonogram produkcji '!T323=\"X\",\"z własnego gospodarstwa\",IF('Harmonogram produkcji '!U323=\"X\",\"ND, uprawa zastana\"))))","v":false},{"$f":"'Harmonogram produkcji '!V323","v":"00:00:00"},{"$f":"'Harmonogram produkcji '!F323","v":"00:00:00"},null,null,null,{"$f":"'Harmonogram produkcji '!Y323","v":0},{"$f":"'Harmonogram produkcji '!Z323","v":0},{"$f":"'Harmonogram produkcji '!W323","v":0},{"$f":"'Harmonogram produkcji '!X323","v":0}]
[{"$f":"'Harmonogram produkcji '!B324","v":0},{"$f":"'Harmonogram produkcji '!C324","v":0},{"$f":"'Harmonogram produkcji '!D324","v":0},{"$f":"'Harmonogram produkcji '!E324","v":0},{"$f":"IF('Harmonogram produkcji '!G324=\"X\",\"z pierwszych 12 miesiecy okresu konwersji\",IF('Harmonogram produkcji '!H324=\"X\",\"W okresie konwersji 2 rok \",IF('Harmonogram produkcji '!I324=\"X\",\"W okresie konwersji 3 rok \",IF('Harmonogram produkcji '!J324=\"X\",\"Ekologiczny \"))))","v":false},{"$f":"'Harmonogram produkcji '!L324","v":0},{"$f":"'Harmonogram produkcji '!M324","v":0},null,{"$f":"'Harmonogram produkcji '!P324","v":0},{"$f":"'Harmonogram produkcji '!Q324","v":0},{"$f":"IF('Harmonogram produkcji '!R324=\"X\",\"ekologiczny \",IF('Harmonogram produkcji '!S324=\"X\",\"nieekologiczny\",IF('Harmonogram produkcji '!T324=\"X\",\"z własnego gospodarstwa\",IF('Harmonogram produkcji '!U324=\"X\",\"ND, uprawa zastana\"))))","v":false},{"$f":"'Harmonogram produkcji '!V324","v":"00:00:00"},{"$f":"'Harmonogram produkcji '!F324","v":"00:00:00"},null,null,null,{"$f":"'Harmonogram produkcji '!Y324","v":0},{"$f":"'Harmonogram produkcji '!Z324","v":0},{"$f":"'Harmonogram produkcji '!W324","v":0},{"$f":"'Harmonogram produkcji '!X324","v":0}]

{"sheet":"Dane","index":4,"n_rows":304,"n_cols":25,"rows_kept":304,"cut":false,"hidden":true,"merged":[]}
["TAK",null,null,null,null,null,null,"pszenżyto jare",null,null,null,null,null,null,null,null,null,"pszenżyto jare",null,null,null,null,null,null,2023]
["NIE",null,null,null,null,null,null,"pszenżyto ozime",null,null,null,null,null,null,null,null,null,"pszenżyto ozime",null,null,null,null,null,null,2024]
[null,null,null,null,null,null,null,"żyto ozime",null,null,null,null,null,null,null,null,null,"żyto ozime",null,null,null,null,null,null,2025]
["X",null,null,null,null,null,null,"żyto jare",null,null,null,null,null,null,null,null,null,"żyto jare",null,null,null,null,null,null,2026]
[null,null,null,null,null,null,null,"proso",null,null,null,null,null,null,null,null,null,"proso"]
[null,null,null,null,null,null,null,"Owies",null,null,null,null,null,null,null,null,null,"Owies"]
[null,null,null,null,null,null,null,"soczewica jadalna",null,null,null,null,null,null,null,null,null,"soczewica jadalna"]
[null,null,null,null,null,null,null,"pszenica zwyczajna jara",null,null,null,null,null,null,null,null,null,"pszenica zwyczajna jara"]
[null,null,null,null,null,null,null,"pszenica zwyczajna ozima",null,null,null,null,null,null,null,null,null,"pszenica zwyczajna ozima"]
[null,null,null,null,null,null,null,"łubin biały na nasiona",null,null,null,null,null,null,null,null,null,"łubin biały na nasiona"]
[null,null,null,null,null,null,null,"łubin wąskolistny na nasiona",null,null,null,null,null,null,null,null,null,"łubin wąskolistny na nasiona"]
[null,null,null,null,null,null,null,"łubin żółty na nasiona",null,null,null,null,null,null,null,null,null,"łubin żółty na nasiona"]
[null,null,null,null,null,null,null,"jęczmień jary",null,null,null,null,null,null,null,null,null,"jęczmień jary"]
[null,null,null,null,null,null,null,"jęczmień ozimy",null,null,null,null,null,null,null,null,null,"jęczmień ozimy"]
[null,null,null,null,null,null,null,"kukurydza cukrowa",null,null,null,null,null,null,null,null,null,"kukurydza cukrowa"]
[null,null,null,null,null,null,null,"kukurydza na ziarno",null,null,null,null,null,null,null,null,null,"kukurydza na ziarno"]
[null,null,null,null,null,null,null,"bobik",null,null,null,null,null,null,null,null,null,"bobik"]
[null,null,null,null,null,null,null,"ostropest plamisty",null,null,null,null,null,null,null,null,null,"ostropest plamisty"]
[null,null,null,null,null,null,null,"gorczyca biała",null,null,null,null,null,null,null,null,null,"gorczyca biała"]
[null,null,null,null,null,null,null,"gryka zwyczajna",null,null,null,null,null,null,null,null,null,"gryka zwyczajna"]
[null,null,null,null,null,null,null,"mieszanka wieloletnia traw",null,null,null,null,null,null,null,null,null,"Siano z TUZ"]
[null,null,null,null,null,null,null,"mieszanka wieloletnia traw na zielony nawóz",null,null,null,null,null,null,null,null,null,"Siano z Miesz. Wielo."]
[null,null,null,null,null,null,null,"Trawy na gruntach ornych",null,null,null,null,null,null,null,null,null,"Siano z Miesz. Jedno."]
[null,null,null,null,null,null,null,"TUZ",null,null,null,null,null,null,null,null,null,"Siano z Miesz. Jedno. Moty."]
[null,null,null,null,null,null,null,"agrest (porzeczka agrest)",null,null,null,null,null,null,null,null,null,"Siano z Miesz. Wielo. Moty."]
[null,null,null,null,null,null,null,"arbuz (kawon)",null,null,null,null,null,null,null,null,null,"Siano z koniczyny Perskiej"]
[null,null,null,null,null,null,null,"arcydzięgiel litwor uprawa dwuletnia",null,null,null,null,null,null,null,null,null,"Siano z koniczyny Czerwonej"]
[null,null,null,null,null,null,null,"arcydzięgiel litwor uprawa roczna",null,null,null,null,null,null,null,null,null,"Siano z lucerny"]
[null,null,null,null,null,null,null,"aronia czarnoowocowa",null,null,null,null,null,null,null,null,null,"Siano z Traw na gruntach ornych"]
[null,null,null,null,null,null,null,"babka lancetowata",null,null,null,null,null,null,null,null,null,"Sianokiszonka z TUZ"]
[null,null,null,null,null,null,null,"babka płesznik",null,null,null,null,null,null,null,null,null,"Sianokiszonka z Miesz. Wielo."]
[null,null,null,null,null,null,null,"bazylia pospolita",null,null,null,null,null,null,null,null,null,"Sianokiszonka z Miesz. Jedno."]
[null,null,null,null,null,null,null,"bez czarny",null,null,null,null,null,null,null,null,null,"Sianokiszonka z Miesz. Jedno. Moty."]
[null,null,null,null,null,null,null,"bobik na zielony nawóz",null,null,null,null,null,null,null,null,null,"Sianokiszonka z Miesz. Wielo. Moty."]
[null,null,null,null,null,null,null,"borówka brusznica",null,null,null,null,null,null,null,null,null,"Sianokiszonka z koniczyny Perskiej"]
[null,null,null,null,null,null,null,"borówka niska",null,null,null,null,null,null,null,null,null,"Sianokiszonka z koniczyny Czerwonej"]
[null,null,null,null,null,null,null,"borówka wysoka i średnia",null,null,null,null,null,null,null,null,null,"Sianokiszonka z lucerny"]
[null,null,null,null,null,null,null,"bób",null,null,null,null,null,null,null,null,null,"Sianokiszonka z Traw na gruntach ornych"]
[null,null,null,null,null,null,null,"brokuł włoski",null,null,null,null,null,null,null,null,null,"Zielonka z TUZ"]
[null,null,null,null,null,null,null,"brukiew jadalna",null,null,null,null,null,null,null,null,null,"Zielonka z Miesz. Wielo."]
[null,null,null,null,null,null,null,"brukiew pastewna",null,null,null,null,null,null,null,null,null,"Zielonka z Miesz. Jedno."]
[null,null,null,null,null,null,null,"brzoskwinia",null,null,null,null,null,null,null,null,null,"Zielonka z Miesz. Jedno. Moty."]
[null,null,null,null,null,null,null,"burak cukrowy",null,null,null,null,null,null,null,null,null,"Zielonka z Miesz. Wielo. Moty."]
[null,null,null,null,null,null,null,"burak ćwikłowy",null,null,null,null,null,null,null,null,null,"Zielonka z koniczyny Perskiej"]
[null,null,null,null,null,null,null,"burak liściowy",null,null,null,null,null,null,null,null,null,"Zielonka z koniczyny Czerwonej"]
[null,null,null,null,null,null,null,"burak pastewny",null,null,null,null,null,null,null,null,null,"Zielonka z lucerny"]
[null,null,null,null,null,null,null,"bylica estragon",null,null,null,null,null,null,null,null,null,"Zielonka z Traw na gruntach ornych"]
[null,null,null,null,null,null,null,"cebula perłowa",null,null,null,null,null,null,null,null,null,"arbuz (kawon)"]
[null,null,null,null,null,null,null,"cebula siedmiolatka",null,null,null,null,null,null,null,null,null,"arcydzięgiel litwor uprawa dwuletnia"]
[null,null,null,null,null,null,null,"cebula szalotka",null,null,null,null,null,null,null,null,null,"arcydzięgiel litwor uprawa roczna"]
[null,null,null,null,null,null,null,"cebula zwyczajna",null,null,null,null,null,null,null,null,null,"aronia czarnoowocowa"]
[null,null,null,null,null,null,null,"chmiel",null,null,null,null,null,null,null,null,null,"babka lancetowata"]
[null,null,null,null,null,null,null,"chrzan pospolity",null,null,null,null,null,null,null,null,null,"babka płesznik"]
[null,null,null,null,null,null,null,"cukinia",null,null,null,null,null,null,null,null,null,"bazylia pospolita"]
[null,null,null,null,null,null,null,"cykoria siewna",null,null,null,null,null,null,null,null,null,"bez czarny"]
[null,null,null,null,null,null,null,"cykoria warzywna",null,null,null,null,null,null,null,null,null,"bobik na zielony nawóz"]
[null,null,null,null,null,null,null,"czarnuszka siewna",null,null,null,null,null,null,null,null,null,"borówka brusznica"]
[null,null,null,null,null,null,null,"cząber ogrodowy",null,null,null,null,null,null,null,null,null,"borówka niska"]
[null,null,null,null,null,null,null,"czereśnia",null,null,null,null,null,null,null,null,null,"borówka wysoka i średnia"]
[null,null,null,null,null,null,null,"czosnek",null,null,null,null,null,null,null,null,null,"bób"]
[null,null,null,null,null,null,null,"czosnek niedźwiedzi",null,null,null,null,null,null,null,null,null,"brokuł włoski"]
[null,null,null,null,null,null,null,"dereń jadalny",null,null,null,null,null,null,null,null,null,"brukiew jadalna"]
[null,null,null,null,null,null,null,"drapacz lekarski",null,null,null,null,null,null,null,null,null,"brukiew pastewna"]
[null,null,null,null,null,null,null,"dynia olbrzymia",null,null,null,null,null,null,null,null,null,"brzoskwinia"]
[null,null,null,null,null,null,null,"dynia oleista",null,null,null,null,null,null,null,null,null,"burak cukrowy"]
[null,null,null,null,null,null,null,"dynia pastewna",null,null,null,null,null,null,null,null,null,"burak ćwikłowy"]
[null,null,null,null,null,null,null,"dynia piżmowa",null,null,null,null,null,null,null,null,null,"burak liściowy"]
[null,null,null,null,null,null,null,"dynia zwyczajna",null,null,null,null,null,null,null,null,null,"burak pastewny"]
[null,null,null,null,null,null,null,"dziurawiec zwyczajny",null,null,null,null,null,null,null,null,null,"bylica estragon"]
[null,null,null,null,null,null,null,"esparceta siewna",null,null,null,null,null,null,null,null,null,"cebula perłowa"]
[null,null,null,null,null,null,null,"esparceta siewna na materiał siewny",null,null,null,null,null,null,null,null,null,"cebula siedmiolatka"]
[null,null,null,null,null,null,null,"esparceta siewna na zielony nawóz",null,null,null,null,null,null,null,null,null,"cebula szalotka"]
[null,null,null,null,null,null,null,"esparceta siewna na zielony nawóz w roku następnym",null,null,null,null,null,null,null,null,null,"cebula zwyczajna"]
[null,null,null,null,null,null,null,"facelia błękitna",null,null,null,null,null,null,null,null,null,"chmiel"]
[null,null,null,null,null,null,null,"fasola wielokwiatowa",null,null,null,null,null,null,null,null,null,"chrzan pospolity"]
[null,null,null,null,null,null,null,"fasola zwykła",null,null,null,null,null,null,null,null,null,"cukinia"]
[null,null,null,null,null,null,null,"gorczyca biała na zielony nawóz",null,null,null,null,null,null,null,null,null,"cykoria siewna"]
[null,null,null,null,null,null,null,"gorczyca czarna",null,null,null,null,null,null,null,null,null,"cykoria warzywna"]
[null,null,null,null,null,null,null,"gorczyca sarepska",null,null,null,null,null,null,null,null,null,"czarnuszka siewna"]
[null,null,null,null,null,null,null,"groch cukrowy",null,null,null,null,null,null,null,null,null,"cząber ogrodowy"]
[null,null,null,null,null,null,null,"groch łuskowy",null,null,null,null,null,null,null,null,null,"czereśnia"]
[null,null,null,null,null,null,null,"groch siewny (jadalny i pastewny - peluszka)",null,null,null,null,null,null,null,null,null,"czosnek"]
[null,null,null,null,null,null,null,"groch siewny na zielony nawóz",null,null,null,null,null,null,null,null,null,"czosnek niedźwiedzi"]
[null,null,null,null,null,null,null,"grusza domowa",null,null,null,null,null,null,null,null,null,"dereń jadalny"]
[null,null,null,null,null,null,null,"gryka zwyczajna na zielony nawóz",null,null,null,null,null,null,null,null,null,"drapacz lekarski"]
[null,null,null,null,null,null,null,"hyzop lekarski",null,null,null,null,null,null,null,null,null,"dynia olbrzymia"]
[null,null,null,null,null,null,null,"inne gatunki pszenic",null,null,null,null,null,null,null,null,null,"dynia oleista"]
[null,null,null,null,null,null,null,"jabłoń domowa",null,null,null,null,null,null,null,null,null,"dynia pastewna"]
[null,null,null,null,null,null,null,"jagoda kamczacka (suchodrzew jadalny)",null,null,null,null,null,null,null,null,null,"dynia piżmowa"]
[null,null,null,null,null,null,null,"jarmuż",null,null,null,null,null,null,null,null,null,"dynia zwyczajna"]
[null,null,null,null,null,null,null,"jeżówka purpurowa",null,null,null,null,null,null,null,null,null,"dziurawiec zwyczajny"]
[null,null,null,null,null,null,null,"jeżyna",null,null,null,null,null,null,null,null,null,"esparceta siewna"]
[null,null,null,null,null,null,null,"kalafior",null,null,null,null,null,null,null,null,null,"esparceta siewna na materiał siewny"]
[null,null,null,null,null,null,null,"kalarepa",null,null,null,null,null,null,null,null,null,"esparceta siewna na zielony nawóz"]
[null,null,null,null,null,null,null,"kapusta brukselska",null,null,null,null,null,null,null,null,null,"esparceta siewna na zielony nawóz w roku następnym"]
[null,null,null,null,null,null,null,"kapusta chińska",null,null,null,null,null,null,null,null,null,"facelia błękitna"]
[null,null,null,null,null,null,null,"kapusta głowiasta biała",null,null,null,null,null,null,null,null,null,"fasola wielokwiatowa"]
[null,null,null,null,null,null,null,"kapusta głowiasta czerwona",null,null,null,null,null,null,null,null,null,"fasola zwykła"]
[null,null,null,null,null,null,null,"kapusta pastewna",null,null,null,null,null,null,null,null,null,"gorczyca biała na zielony nawóz"]
[null,null,null,null,null,null,null,"kapusta pekińska",null,null,null,null,null,null,null,null,null,"gorczyca czarna"]
[null,null,null,null,null,null,null,"kapusta włoska",null,null,null,null,null,null,null,null,null,"gorczyca sarepska"]
[null,null,null,null,null,null,null,"karczoch uprawa roczna",null,null,null,null,null,null,null,null,null,"groch cukrowy"]
[null,null,null,null,null,null,null,"karczoch uprawa wieloletnia",null,null,null,null,null,null,null,null,null,"groch łuskowy"]
[null,null,null,null,null,null,null,"kminek zwyczajny",null,null,null,null,null,null,null,null,null,"groch siewny (jadalny i pastewny - peluszka)"]
[null,null,null,null,null,null,null,"kolendra siewna",null,null,null,null,null,null,null,null,null,"groch siewny na zielony nawóz"]
[null,null,null,null,null,null,null,"komonica zwyczajna",null,null,null,null,null,null,null,null,null,"gryka zwyczajna na zielony nawóz"]
[null,null,null,null,null,null,null,"komonica zwyczajna na materiał siewny",null,null,null,null,null,null,null,null,null,"hyzop lekarski"]
[null,null,null,null,null,null,null,"komonica zwyczajna na zielony nawóz",null,null,null,null,null,null,null,null,null,"inne gatunki pszenic"]
[null,null,null,null,null,null,null,"komonica zwyczajna na zielony nawóz w roku następnym",null,null,null,null,null,null,null,null,null,"jagoda kamczacka (suchodrzew jadalny)"]
[null,null,null,null,null,null,null,"koniczyna biała",null,null,null,null,null,null,null,null,null,"jarmuż"]
[null,null,null,null,null,null,null,"koniczyna biała na materiał siewny",null,null,null,null,null,null,null,null,null,"jeżówka purpurowa"]
[null,null,null,null,null,null,null,"koniczyna biała na zielony nawóz",null,null,null,null,null,null,null,null,null,"jeżyna"]
[null,null,null,null,null,null,null,"koniczyna biała na zielony nawóz w roku następnym",null,null,null,null,null,null,null,null,null,"kalafior"]
[null,null,null,null,null,null,null,"koniczyna białoróżowa",null,null,null,null,null,null,null,null,null,"kalarepa"]
[null,null,null,null,null,null,null,"koniczyna białoróżowa na materiał siewny",null,null,null,null,null,null,null,null,null,"kapusta brukselska"]
[null,null,null,null,null,null,null,"koniczyna białoróżowa na zielony nawóz",null,null,null,null,null,null,null,null,null,"kapusta chińska"]
[null,null,null,null,null,null,null,"koniczyna białoróżowa na zielony nawóz w roku następnym",null,null,null,null,null,null,null,null,null,"kapusta głowiasta biała"]
[null,null,null,null,null,null,null,"koniczyna czerwona",null,null,null,null,null,null,null,null,null,"kapusta głowiasta czerwona"]
[null,null,null,null,null,null,null,"koniczyna czerwona na materiał siewny",null,null,null,null,null,null,null,null,null,"kapusta pastewna"]
[null,null,null,null,null,null,null,"koniczyna czerwona na zielony nawóz",null,null,null,null,null,null,null,null,null,"kapusta pekińska"]
[null,null,null,null,null,null,null,"koniczyna czerwona na zielony nawóz w roku następnym",null,null,null,null,null,null,null,null,null,"kapusta włoska"]
[null,null,null,null,null,null,null,"koniczyna krwistoczerwona",null,null,null,null,null,null,null,null,null,"karczoch uprawa roczna"]
[null,null,null,null,null,null,null,"koniczyna krwistoczerwona na materiał siewny",null,null,null,null,null,null,null,null,null,"karczoch uprawa wieloletnia"]
[null,null,null,null,null,null,null,"koniczyna krwistoczerwona na zielony nawóz",null,null,null,null,null,null,null,null,null,"kminek zwyczajny"]
[null,null,null,null,null,null,null,"koniczyna perska",null,null,null,null,null,null,null,null,null,"kolendra siewna"]
[null,null,null,null,null,null,null,"koniczyna perska na materiał siewny",null,null,null,null,null,null,null,null,null,"komonica zwyczajna"]
[null,null,null,null,null,null,null,"koniczyna perska na zielony nawóz",null,null,null,null,null,null,null,null,null,"komonica zwyczajna na materiał siewny"]
[null,null,null,null,null,null,null,"konopie włókniste",null,null,null,null,null,null,null,null,null,"komonica zwyczajna na zielony nawóz"]
[null,null,null,null,null,null,null,"koper ogrodowy",null,null,null,null,null,null,null,null,null,"komonica zwyczajna na zielony nawóz w roku następnym"]
[null,null,null,null,null,null,null,"koper włoski uprawa dwuletnia",null,null,null,null,null,null,null,null,null,"koniczyna biała"]
[null,null,null,null,null,null,null,"koper włoski uprawa roczna",null,null,null,null,null,null,null,null,null,"koniczyna biała na materiał siewny"]
[null,null,null,null,null,null,null,"kozieradka pospolita",null,null,null,null,null,null,null,null,null,"koniczyna biała na zielony nawóz"]
[null,null,null,null,null,null,null,"kozłek lekarski uprawa dwuletnia",null,null,null,null,null,null,null,null,null,"koniczyna biała na zielony nawóz w roku następnym"]
[null,null,null,null,null,null,null,"kozłek lekarski uprawa roczna",null,null,null,null,null,null,null,null,null,"koniczyna białoróżowa"]
[null,null,null,null,null,null,null,"krwawnik pospolity",null,null,null,null,null,null,null,null,null,"koniczyna białoróżowa na materiał siewny"]
[null,null,null,null,null,null,null,"kukurydza na kiszonkę",null,null,null,null,null,null,null,null,null,"koniczyna białoróżowa na zielony nawóz"]
[null,null,null,null,null,null,null,"lawenda wąskolistna",null,null,null,null,null,null,null,null,null,"koniczyna białoróżowa na zielony nawóz w roku następnym"]
[null,null,null,null,null,null,null,"lebiodka pospolita",null,null,null,null,null,null,null,null,null,"koniczyna czerwona"]
[null,null,null,null,null,null,null,"len oleisty",null,null,null,null,null,null,null,null,null,"koniczyna czerwona na materiał siewny"]
[null,null,null,null,null,null,null,"len włóknisty",null,null,null,null,null,null,null,null,null,"koniczyna czerwona na zielony nawóz"]
[null,null,null,null,null,null,null,"lędźwian",null,null,null,null,null,null,null,null,null,"koniczyna czerwona na zielony nawóz w roku następnym"]
[null,null,null,null,null,null,null,"lnianka siewna (lnicznik)",null,null,null,null,null,null,null,null,null,"koniczyna krwistoczerwona"]
[null,null,null,null,null,null,null,"lubczyk ogrodowy",null,null,null,null,null,null,null,null,null,"koniczyna krwistoczerwona na materiał siewny"]
[null,null,null,null,null,null,null,"lucerna chmielowa (nerkowata)",null,null,null,null,null,null,null,null,null,"koniczyna krwistoczerwona na zielony nawóz"]
[null,null,null,null,null,null,null,"lucerna chmielowa (nerkowata) na materiał siewny",null,null,null,null,null,null,null,null,null,"koniczyna perska"]
[null,null,null,null,null,null,null,"lucerna chmielowa na zielony nawóz",null,null,null,null,null,null,null,null,null,"koniczyna perska na materiał siewny"]
[null,null,null,null,null,null,null,"lucerna chmielowa na zielony nawóz w roku następnym",null,null,null,null,null,null,null,null,null,"koniczyna perska na zielony nawóz"]
[null,null,null,null,null,null,null,"lucerna mieszańcowa",null,null,null,null,null,null,null,null,null,"konopie włókniste"]
[null,null,null,null,null,null,null,"lucerna mieszańcowa na materiał siewny",null,null,null,null,null,null,null,null,null,"koper ogrodowy"]
[null,null,null,null,null,null,null,"lucerna mieszańcowa na zielony nawóz",null,null,null,null,null,null,null,null,null,"koper włoski uprawa dwuletnia"]
[null,null,null,null,null,null,null,"lucerna mieszańcowa na zielony nawóz w roku następnym",null,null,null,null,null,null,null,null,null,"koper włoski uprawa roczna"]
[null,null,null,null,null,null,null,"lucerna sierpowata",null,null,null,null,null,null,null,null,null,"kozieradka pospolita"]
[null,null,null,null,null,null,null,"lucerna sierpowata na zielony nawóz",null,null,null,null,null,null,null,null,null,"kozłek lekarski uprawa dwuletnia"]
[null,null,null,null,null,null,null,"lucerna sierpowata na zielony nawóz w roku następnym",null,null,null,null,null,null,null,null,null,"kozłek lekarski uprawa roczna"]
[null,null,null,null,null,null,null,"lucerna siewna",null,null,null,null,null,null,null,null,null,"krwawnik pospolity"]
[null,null,null,null,null,null,null,"lucerna siewna na materiał siewny",null,null,null,null,null,null,null,null,null,"kukurydza na kiszonkę"]
[null,null,null,null,null,null,null,"lucerna siewna na zielony nawóz",null,null,null,null,null,null,null,null,null,"lawenda wąskolistna"]
[null,null,null,null,null,null,null,"lucerna siewna na zielony nawóz w roku następnym",null,null,null,null,null,null,null,null,null,"lebiodka pospolita"]
[null,null,null,null,null,null,null,"łąka przemienna",null,null,null,null,null,null,null,null,null,"len oleisty"]
[null,null,null,null,null,null,null,"łubin biały na zielony nawóz",null,null,null,null,null,null,null,null,null,"len włóknisty"]
[null,null,null,null,null,null,null,"łubin wąskolistny na zielony nawóz",null,null,null,null,null,null,null,null,null,"lędźwian"]
[null,null,null,null,null,null,null,"łubin żółty na zielony nawóz",null,null,null,null,null,null,null,null,null,"lnianka siewna (lnicznik)"]
[null,null,null,null,null,null,null,"majeranek ogrodowy",null,null,null,null,null,null,null,null,null,"lubczyk ogrodowy"]
[null,null,null,null,null,null,null,"malina",null,null,null,null,null,null,null,null,null,"lucerna chmielowa (nerkowata)"]
[null,null,null,null,null,null,null,"malwa czarna",null,null,null,null,null,null,null,null,null,"lucerna chmielowa (nerkowata) na materiał siewny"]
[null,null,null,null,null,null,null,"marchew jadalna",null,null,null,null,null,null,null,null,null,"lucerna chmielowa na zielony nawóz"]
[null,null,null,null,null,null,null,"marchew pastewna",null,null,null,null,null,null,null,null,null,"lucerna chmielowa na zielony nawóz w roku następnym"]
[null,null,null,null,null,null,null,"melisa lekarska",null,null,null,null,null,null,null,null,null,"lucerna mieszańcowa"]
[null,null,null,null,null,null,null,"mieszanka jednoroczna traw",null,null,null,null,null,null,null,null,null,"lucerna mieszańcowa na materiał siewny"]
[null,null,null,null,null,null,null,"mieszanka jednoroczna traw na zielony nawóz",null,null,null,null,null,null,null,null,null,"lucerna mieszańcowa na zielony nawóz"]
[null,null,null,null,null,null,null,"mieszanka jednoroczna traw z bobowatymi drobnonasiennymi",null,null,null,null,null,null,null,null,null,"lucerna mieszańcowa na zielony nawóz w roku następnym"]
[null,null,null,null,null,null,null,"mieszanka jednoroczna traw z bobowatymi drobnonasiennymi na zielony nawóz",null,null,null,null,null,null,null,null,null,"lucerna sierpowata"]
[null,null,null,null,null,null,null,"mieszanka strączkowa",null,null,null,null,null,null,null,null,null,"lucerna sierpowata na zielony nawóz"]
[null,null,null,null,null,null,null,"mieszanka strączkowo-gorczycowa",null,null,null,null,null,null,null,null,null,"lucerna sierpowata na zielony nawóz w roku następnym"]
[null,null,null,null,null,null,null,"mieszanka strączkowo-słonecznikowa",null,null,null,null,null,null,null,null,null,"lucerna siewna"]
[null,null,null,null,null,null,null,"mieszanka strączkowo-zbożowa",null,null,null,null,null,null,null,null,null,"lucerna siewna na materiał siewny"]
[null,null,null,null,null,null,null,"mieszanka wieloletnia traw na zielony nawóz",null,null,null,null,null,null,null,null,null,"lucerna siewna na zielony nawóz"]
[null,null,null,null,null,null,null,"mieszanka wieloletnia traw z bobowatymi drobnonasiennymi",null,null,null,null,null,null,null,null,null,"lucerna siewna na zielony nawóz w roku następnym"]
[null,null,null,null,null,null,null,"mieszanka wieloletnia traw z bobowatymi drobnonasiennymi na zielony nawóz",null,null,null,null,null,null,null,null,null,"łąka przemienna"]
[null,null,null,null,null,null,null,"mieszanka wieloletnia traw z bobowatymi drobnonasiennymi na zielony nawóz w roku następnym",null,null,null,null,null,null,null,null,null,"łubin biały na zielony nawóz"]
[null,null,null,null,null,null,null,"mieszanka zbożowa",null,null,null,null,null,null,null,null,null,"łubin wąskolistny na zielony nawóz"]
[null,null,null,null,null,null,null,"mieszanka_Uprawa wielogatunkowa",null,null,null,null,null,null,null,null,null,"łubin żółty na zielony nawóz"]
[null,null,null,null,null,null,null,"mięta kędzierzawa",null,null,null,null,null,null,null,null,null,"majeranek ogrodowy"]
[null,null,null,null,null,null,null,"mięta pieprzowa",null,null,null,null,null,null,null,null,null,"malina"]
[null,null,null,null,null,null,null,"mniszek lekarski",null,null,null,null,null,null,null,null,null,"malwa czarna"]
[null,null,null,null,null,null,null,"morela",null,null,null,null,null,null,null,null,null,"marchew jadalna"]
[null,null,null,null,null,null,null,"nagietek lekarski",null,null,null,null,null,null,null,null,null,"marchew pastewna"]
[null,null,null,null,null,null,null,"nostrzyk biały uprawa dwuletnia",null,null,null,null,null,null,null,null,null,"melisa lekarska"]
[null,null,null,null,null,null,null,"nostrzyk biały uprawa roczna",null,null,null,null,null,null,null,null,null,"mieszanka strączkowa"]
[null,null,null,null,null,null,null,"nostrzyk żółty (lekarski) uprawa dwuletnia",null,null,null,null,null,null,null,null,null,"mieszanka strączkowo-gorczycowa"]
[null,null,null,null,null,null,null,"nostrzyk żółty (lekarski) uprawa wieloletnia",null,null,null,null,null,null,null,null,null,"mieszanka strączkowo-słonecznikowa"]
[null,null,null,null,null,null,null,"oberżyna (bakłażan)",null,null,null,null,null,null,null,null,null,"mieszanka strączkowo-zbożowa"]
[null,null,null,null,null,null,null,"ogórecznik lekarski",null,null,null,null,null,null,null,null,null,"mieszanka zbożowa"]
[null,null,null,null,null,null,null,"ogórek",null,null,null,null,null,null,null,null,null,"mieszanka_Uprawa wielogatunkowa"]
[null,null,null,null,null,null,null,"owies nagi",null,null,null,null,null,null,null,null,null,"mięta kędzierzawa"]
[null,null,null,null,null,null,null,"owies szorstki",null,null,null,null,null,null,null,null,null,"mięta pieprzowa"]
[null,null,null,null,null,null,null,"papryka",null,null,null,null,null,null,null,null,null,"mniszek lekarski"]
[null,null,null,null,null,null,null,"pasternak",null,null,null,null,null,null,null,null,null,"morela"]
[null,null,null,null,null,null,null,"pastwisko przemienne",null,null,null,null,null,null,null,null,null,"nagietek lekarski"]
[null,null,null,null,null,null,null,"patison",null,null,null,null,null,null,null,null,null,"nostrzyk biały uprawa dwuletnia"]
[null,null,null,null,null,null,null,"pietruszka korzeniowa",null,null,null,null,null,null,null,null,null,"nostrzyk biały uprawa roczna"]
[null,null,null,null,null,null,null,"pietruszka naciowa",null,null,null,null,null,null,null,null,null,"nostrzyk żółty (lekarski) uprawa dwuletnia"]
[null,null,null,null,null,null,null,"pigwa pospolita",null,null,null,null,null,null,null,null,null,"nostrzyk żółty (lekarski) uprawa wieloletnia"]
[null,null,null,null,null,null,null,"pigwowiec japoński",null,null,null,null,null,null,null,null,null,"oberżyna (bakłażan)"]
[null,null,null,null,null,null,null,"pomidor",null,null,null,null,null,null,null,null,null,"ogórecznik lekarski"]
[null,null,null,null,null,null,null,"por",null,null,null,null,null,null,null,null,null,"ogórek"]
[null,null,null,null,null,null,null,"porzeczka czarna",null,null,null,null,null,null,null,null,null,"owies nagi"]
[null,null,null,null,null,null,null,"poziomka",null,null,null,null,null,null,null,null,null,"owies szorstki"]
[null,null,null,null,null,null,null,"prawoślaz lekarski",null,null,null,null,null,null,null,null,null,"papryka"]
[null,null,null,null,null,null,null,"pszenica orkisz jary",null,null,null,null,null,null,null,null,null,"pasternak"]
[null,null,null,null,null,null,null,"pszenica orkisz ozimy",null,null,null,null,null,null,null,null,null,"pastwisko przemienne"]
[null,null,null,null,null,null,null,"pszenica płaskurka jara",null,null,null,null,null,null,null,null,null,"patison"]
[null,null,null,null,null,null,null,"pszenica płaskurka ozima",null,null,null,null,null,null,null,null,null,"pietruszka korzeniowa"]
[null,null,null,null,null,null,null,"pszenica samopsza jara",null,null,null,null,null,null,null,null,null,"pietruszka naciowa"]
[null,null,null,null,null,null,null,"pszenica samopsza ozima",null,null,null,null,null,null,null,null,null,"pigwa pospolita"]
[null,null,null,null,null,null,null,"rabarbar ogrodowy",null,null,null,null,null,null,null,null,null,"pigwowiec japoński"]
[null,null,null,null,null,null,null,"Rokitnik zwyczajny",null,null,null,null,null,null,null,null,null,"pomidor"]
[null,null,null,null,null,null,null,"Roszponka (roszpunka)",null,null,null,null,null,null,null,null,null,"por"]
[null,null,null,null,null,null,null,"róża dzika",null,null,null,null,null,null,null,null,null,"porzeczka czarna"]
[null,null,null,null,null,null,null,"róża jabłkowata",null,null,null,null,null,null,null,null,null,"poziomka"]
[null,null,null,null,null,null,null,"róża pomarszczona",null,null,null,null,null,null,null,null,null,"prawoślaz lekarski"]
[null,null,null,null,null,null,null,"różeniec górski",null,null,null,null,null,null,null,null,null,"pszenica orkisz jary"]
[null,null,null,null,null,null,null,"rumian rzymski (szlachetny)",null,null,null,null,null,null,null,null,null,"pszenica orkisz ozimy"]
[null,null,null,null,null,null,null,"rumianek pospolity",null,null,null,null,null,null,null,null,null,"pszenica płaskurka jara"]
[null,null,null,null,null,null,null,"ruta zwyczajna",null,null,null,null,null,null,null,null,null,"pszenica płaskurka ozima"]
[null,null,null,null,null,null,null,"rutwica lekarska",null,null,null,null,null,null,null,null,null,"pszenica samopsza jara"]
[null,null,null,null,null,null,null,"rutwica wschodnia",null,null,null,null,null,null,null,null,null,"pszenica samopsza ozima"]
[null,null,null,null,null,null,null,"rzepa jadalna",null,null,null,null,null,null,null,null,null,"rabarbar ogrodowy"]
[null,null,null,null,null,null,null,"rzepa pastewna",null,null,null,null,null,null,null,null,null,"Rokitnik zwyczajny"]
[null,null,null,null,null,null,null,"rzepak jary",null,null,null,null,null,null,null,null,null,"Roszponka (roszpunka)"]
[null,null,null,null,null,null,null,"rzepak ozimy",null,null,null,null,null,null,null,null,null,"róża dzika"]
[null,null,null,null,null,null,null,"rzepik",null,null,null,null,null,null,null,null,null,"róża jabłkowata"]
[null,null,null,null,null,null,null,"rzewień dłoniasty",null,null,null,null,null,null,null,null,null,"róża pomarszczona"]
[null,null,null,null,null,null,null,"rzodkiew",null,null,null,null,null,null,null,null,null,"różeniec górski"]
[null,null,null,null,null,null,null,"rzodkiew oleista",null,null,null,null,null,null,null,null,null,"rumian rzymski (szlachetny)"]
[null,null,null,null,null,null,null,"rzodkiew oleista na materiał siewny",null,null,null,null,null,null,null,null,null,"rumianek pospolity"]
[null,null,null,null,null,null,null,"rzodkiewka",null,null,null,null,null,null,null,null,null,"ruta zwyczajna"]
[null,null,null,null,null,null,null,"sałata zwyczajna",null,null,null,null,null,null,null,null,null,"rutwica lekarska"]
[null,null,null,null,null,null,null,"seler korzeniowy",null,null,null,null,null,null,null,null,null,"rutwica wschodnia"]
[null,null,null,null,null,null,null,"seler naciowy",null,null,null,null,null,null,null,null,null,"rzepa jadalna"]
[null,null,null,null,null,null,null,"seradela uprawna",null,null,null,null,null,null,null,null,null,"rzepa pastewna"]
[null,null,null,null,null,null,null,"seradela uprawna na nasiona",null,null,null,null,null,null,null,null,null,"rzepak jary"]
[null,null,null,null,null,null,null,"seradela uprawna na zielony nawóz",null,null,null,null,null,null,null,null,null,"rzepak ozimy"]
[null,null,null,null,null,null,null,"serdecznik pospolity",null,null,null,null,null,null,null,null,null,"rzepik"]
[null,null,null,null,null,null,null,"skorzonera",null,null,null,null,null,null,null,null,null,"rzewień dłoniasty"]
[null,null,null,null,null,null,null,"słonecznik oleisty",null,null,null,null,null,null,null,null,null,"rzodkiew"]
[null,null,null,null,null,null,null,"słonecznik pastewny",null,null,null,null,null,null,null,null,null,"rzodkiew oleista"]
[null,null,null,null,null,null,null,"soja zwyczajna",null,null,null,null,null,null,null,null,null,"rzodkiew oleista na materiał siewny"]
[null,null,null,null,null,null,null,"soja zwyczajna na zielony nawóz",null,null,null,null,null,null,null,null,null,"rzodkiewka"]
[null,null,null,null,null,null,null,"sorgo",null,null,null,null,null,null,null,null,null,"sałata zwyczajna"]
[null,null,null,null,null,null,null,"szałwia lekarska",null,null,null,null,null,null,null,null,null,"seler korzeniowy"]
[null,null,null,null,null,null,null,"szanta zwyczajna",null,null,null,null,null,null,null,null,null,"seler naciowy"]
[null,null,null,null,null,null,null,"szarłat z wyjątkiem A. retroflexus",null,null,null,null,null,null,null,null,null,"seradela uprawna"]
[null,null,null,null,null,null,null,"szczaw",null,null,null,null,null,null,null,null,null,"seradela uprawna na nasiona"]
[null,null,null,null,null,null,null,"szczypiorek",null,null,null,null,null,null,null,null,null,"seradela uprawna na zielony nawóz"]
[null,null,null,null,null,null,null,"szparagi",null,null,null,null,null,null,null,null,null,"serdecznik pospolity"]
[null,null,null,null,null,null,null,"szpinak zwyczajny",null,null,null,null,null,null,null,null,null,"skorzonera"]
[null,null,null,null,null,null,null,"ślaz dziki",null,null,null,null,null,null,null,null,null,"słonecznik oleisty"]
[null,null,null,null,null,null,null,"śliwa domowa",null,null,null,null,null,null,null,null,null,"słonecznik pastewny"]
[null,null,null,null,null,null,null,"śliwa japońska",null,null,null,null,null,null,null,null,null,"soja zwyczajna"]
[null,null,null,null,null,null,null,"świdośliwa",null,null,null,null,null,null,null,null,null,"soja zwyczajna na zielony nawóz"]
[null,null,null,null,null,null,null,"topinambur",null,null,null,null,null,null,null,null,null,"sorgo"]
[null,null,null,null,null,null,null,"trawy w siewie czystym z przeznaczeniem na materiał siewny uprawa roczna",null,null,null,null,null,null,null,null,null,"szałwia lekarska"]
[null,null,null,null,null,null,null,"trawy w siewie czystym z przeznaczeniem na materiał siewny uprawa wieloletnia",null,null,null,null,null,null,null,null,null,"szanta zwyczajna"]
[null,null,null,null,null,null,null,"truskawka",null,null,null,null,null,null,null,null,null,"szarłat z wyjątkiem A. retroflexus"]
[null,null,null,null,null,null,null,"tymianek właściwy",null,null,null,null,null,null,null,null,null,"szczaw"]
[null,null,null,null,null,null,null,"tytoń",null,null,null,null,null,null,null,null,null,"szczypiorek"]
[null,null,null,null,null,null,null,"wiesiołek dwuletni",null,null,null,null,null,null,null,null,null,"szparagi"]
[null,null,null,null,null,null,null,"wiesiołek dziwny",null,null,null,null,null,null,null,null,null,"szpinak zwyczajny"]
[null,null,null,null,null,null,null,"winorośl",null,null,null,null,null,null,null,null,null,"ślaz dziki"]
[null,null,null,null,null,null,null,"wiśnia pospolita",null,null,null,null,null,null,null,null,null,"śliwa domowa"]
[null,null,null,null,null,null,null,"wyka kosmata (w tym z rośliną podporową) uprawa dwuletnia",null,null,null,null,null,null,null,null,null,"śliwa japońska"]
[null,null,null,null,null,null,null,"wyka kosmata (w tym z rośliną podporową) uprawa roczna",null,null,null,null,null,null,null,null,null,"świdośliwa"]
[null,null,null,null,null,null,null,"wyka kosmata na materiał siewny (w tym z rośliną podporową) uprawa dwuletnia",null,null,null,null,null,null,null,null,null,"topinambur"]
[null,null,null,null,null,null,null,"wyka kosmata na materiał siewny (w tym z rośliną podporową) uprawa roczna",null,null,null,null,null,null,null,null,null,"trawy w siewie czystym z przeznaczeniem na materiał siewny uprawa roczna"]
[null,null,null,null,null,null,null,"wyka kosmata na zielony nawóz",null,null,null,null,null,null,null,null,null,"trawy w siewie czystym z przeznaczeniem na materiał siewny uprawa wieloletnia"]
[null,null,null,null,null,null,null,"wyka siewna (jara)",null,null,null,null,null,null,null,null,null,"truskawka"]
[null,null,null,null,null,null,null,"wyka siewna na materiał siewny",null,null,null,null,null,null,null,null,null,"tymianek właściwy"]
[null,null,null,null,null,null,null,"wyka siewna na zielony nawóz",null,null,null,null,null,null,null,null,null,"tytoń"]
[null,null,null,null,null,null,null,"ziemniak",null,null,null,null,null,null,null,null,null,"wiesiołek dwuletni"]
[null,null,null,null,null,null,null,"żeń-szeń prawdziwy",null,null,null,null,null,null,null,null,null,"wiesiołek dziwny"]
[null,null,null,null,null,null,null,"żurawina",null,null,null,null,null,null,null,null,null,"winorośl"]
[null,null,null,null,null,null,null,"żyto krzyca uprawa dwuletnia",null,null,null,null,null,null,null,null,null,"wiśnia pospolita"]
[null,null,null,null,null,null,null,"żyto krzyca uprawa roczna",null,null,null,null,null,null,null,null,null,"wyka kosmata (w tym z rośliną podporową) uprawa dwuletnia"]
[null,null,null,null,null,null,null,"Ugór",null,null,null,null,null,null,null,null,null,"wyka kosmata (w tym z rośliną podporową) uprawa roczna"]
[null,null,null,null,null,null,null,"nektarynka",null,null,null,null,null,null,null,null,null,"wyka kosmata na materiał siewny (w tym z rośliną podporową) uprawa dwuletnia"]
[null,null,null,null,null,null,null,"orzech włoski",null,null,null,null,null,null,null,null,null,"wyka kosmata na materiał siewny (w tym z rośliną podporową) uprawa roczna"]
[null,null,null,null,null,null,null,"Leszczyna",null,null,null,null,null,null,null,null,null,"wyka kosmata na zielony nawóz"]
[null,null,null,null,null,null,null,"porzeczka czerwona",null,null,null,null,null,null,null,null,null,"wyka siewna (jara)"]
[null,null,null,null,null,null,null,"borówka amerykańska",null,null,null,null,null,null,null,null,null,"wyka siewna na materiał siewny"]
[null,null,null,null,null,null,null,null,null,null,null,null,null,null,null,null,null,"wyka siewna na zielony nawóz"]
[null,null,null,null,null,null,null,null,null,null,null,null,null,null,null,null,null,"ziemniak"]
[null,null,null,null,null,null,null,null,null,null,null,null,null,null,null,null,null,"żeń-szeń prawdziwy"]
[null,null,null,null,null,null,null,null,null,null,null,null,null,null,null,null,null,"żurawina"]
[null,null,null,null,null,null,null,null,null,null,null,null,null,null,null,null,null,"żyto krzyca uprawa dwuletnia"]
[null,null,null,null,null,null,null,null,null,null,null,null,null,null,null,null,null,"żyto krzyca uprawa roczna"]
[null,null,null,null,null,null,null,null,null,null,null,null,null,null,null,null,null,"Ugór"]
[null,null,null,null,null,null,null,null,null,null,null,null,null,null,null,null,null,"jabłka"]
[null,null,null,null,null,null,null,null,null,null,null,null,null,null,null,null,null,"gruszki"]
[null,null,null,null,null,null,null,null,null,null,null,null,null,null,null,null,null,"nektarynka"]
[null,null,null,null,null,null,null,null,null,null,null,null,null,null,null,null,null,"orzech włoski"]
[null,null,null,null,null,null,null,null,null,null,null,null,null,null,null,null,null,"Leszczyna"]
[null,null,null,null,null,null,null,null,null,null,null,null,null,null,null,null,null,"porzeczka czerwona"]
[null,null,null,null,null,null,null,null,null,null,null,null,null,null,null,null,null,"borówka amerykańska"]

{"sheet":"Odstępstwa ","index":5,"n_rows":14,"n_cols":6,"rows_kept":14,"cut":false,"hidden":false,"merged":[[0,0,0,5],[1,0,2,0],[1,1,2,1],[1,2,2,2],[1,3,2,3],[1,4,1,5]]}
["Wykaz odstępstw od zasad produkcji ekologicznej\n*(w razie potrzeby dodać wiersze)"]
["Lp.","Nazwa odstępstwa","Decyzja","Instytucja, która wydała odstępstwo","Okres odstępstwa"]
[null,null,null,null,"od","do"]
["1. "]
["2. "]
["3. "]
["4. "]
["5. "]
["6. "]
["7. "]
["8. "]
["9. "]
["10. "]
["()*"]

{"sheet":"Podwykonawcy","index":6,"n_rows":12,"n_cols":8,"rows_kept":12,"cut":false,"hidden":false,"merged":[[0,0,0,7]]}
["Lista podwykonawców\n*(w razie potrzeby dodać wiersze)"]
["Lp.","Nazwa podwykonawcy","Adres podwykonawcy","Przedstawiciel podwykonawcy Dane kontaktowe (telefon, e-mail)","Czy jest umowa? ","Zakres świadczonych działań przez podwykonawcę:","Nazwa jednostki certyfikującej nadzorującej podwykonawcę w zakresie świadczonych działań\n(jeśli dotyczy)","Opisz środki praktyczne podejmowane w celu zapewnienia spełniania przez podwykonawcę wymagań w zakresie rolnictwa ekologicznego dla świadczonych przez niego działań podczas całego cyklu produkcyjnego"]
["1.      "]
["2.      "]
["3.      "]
["4.      "]
["5.      "]
["6.      "]
["7.      "]
["8.      "]
["9.      "]
["()*"]

{"sheet":"Czyności zlecane","index":7,"n_rows":11,"n_cols":5,"rows_kept":11,"cut":false,"hidden":false,"merged":[[0,0,0,4]]}
["Czynności zlecane stronom trzecim podlagające bezpośredniemu nadzorowi\n*(w razie potrzeby dodać wiersze)"]
["Lp.","Nazwa czynności","Nazwa podmiotu wykonującego czynności","Czy jest umowa regulującą przedmiot zlecanych czynności?","Opisz środki ostrożności, podejmowane w ramach zlecanych czynności, w celu ograniczenia zagrożenia zanieczyszczenia niezatwierdzonymi substancjami lub produktami podczas całego cyklu produkcyjnego podmiotu gospodarczego:"]
["1. "]
["2. "]
["3. "]
["4. "]
["5. "]
["6. "]
["7. "]
["8. "]
["()*"]

{"sheet":"Karta Analiz ","index":8,"n_rows":7,"n_cols":6,"rows_kept":7,"cut":false,"hidden":false,"merged":[[0,0,0,5]]}
["Karta Analizy przyczyn w przypadku stwierdzenia nieprawidłowości przez Jednostkę Certyfikującą\n*(w razie potrzeby dodać wiersze)"]
["Lp.","Opis stwierdzonej nieprawidłowości ","Data stwierdzenia:","Analiza przyczyn ","Podejdę działania korygujące i zapobiegawcze ","Data wdrożenia "]
["1."]
["2."]
["3."]
["4."]
["()*"]

{"sheet":"Rejestr Reklamacji","index":9,"n_rows":13,"n_cols":6,"rows_kept":13,"cut":false,"hidden":false,"merged":[[0,0,0,5],[1,0,1,5]]}
["Rejestr reklamacji"]
["*(w razie potrzeby dodać wiersze)"]
["Lp.","Data otrzymania reklamacji","Dane reklamującego","Reklamowany produkt","Przyczyna reklamacji","Podjęte działania naprawcze"]
["1."]
["2."]
["3."]
["4."]
["5."]
["6."]
["7."]
["8."]
["9."]
["()*"]

{"sheet":"Ocena Ryzyka","index":10,"n_rows":8,"n_cols":5,"rows_kept":8,"cut":false,"hidden":false,"merged":[[0,0,0,4],[1,0,3,0],[1,1,1,3],[1,4,3,4],[2,1,2,3]]}
["Ocena ryzyka podejmowanych działań"]
["Charakter ryzyka","Czy istnieje ryzyko?",null,null,"W przypadku zaznaczenia w kolumnie „tak” oraz „częściowo” opisz środki podejmowane w celu zminimalizowania ryzyka"]
[null,"(wstawić x)"]
[null,"Tak","Nie","Częściowo"]
["Ryzyko zanieczyszczenia produkcji przez substancje niedozwolone w rolnictwie ekologicznym. "]
["Ryzyko użycia w jednostce produkcyjnej produktów, co do których może być podejrzenie, że zawierają GMO lub zostały wyprodukowane przy użyciu GMO."]
["Ryzyko zanieczyszczenia produktów pochodzących z produkcji ekologicznej środkami wykorzystywanymi do czyszczenia i dezynfekowania."]
["Ryzyko zanieczyszczenia produktów pochodzących z produkcji ekologicznej produktami konwencjonalnymi. "]

{"sheet":"Deklaracja ","index":11,"n_rows":12,"n_cols":2,"rows_kept":12,"cut":false,"hidden":false,"merged":[[7,1,7,2],[8,0,8,1],[9,0,9,1],[10,0,10,1],[11,0,11,2],[6,1,6,2],[5,1,5,2],[1,0,1,2],[0,0,0,2],[2,1,2,2],[3,1,3,2],[4,1,4,2]]}
["Niniejszym oświadcza się, że "]
["Zapoznano się z obowiązującymi przepisami prawa w ramach rolnictwa ekologicznego oraz zobowiązuję się zgodnie z art. 39 Rozporządzenia Parlamentu Europejskiego i Rady (UE) 2018/848 z dnia 30 Maja 2018 r. w wprawie produkcji ekologicznej i znakowania produktów ekologicznych i uchylające rozporządzenie Rady (WE) nr 834/2007 do zapewnienia:"]
[null,"·         pełnego opisu ekologicznej jednostki produkcyjnej lub jednostki produkcyjnej w okresie konwersji oraz czynności, które mają zostać przeprowadzone zgodnie z niniejszym rozporządzeniem"]
[null,"·         stosownych środków praktycznych, które mają być podejmowane w celu zapewnienia zgodności z niniejszym rozporządzeniem;"]
[null,"·         poinformowania na piśmie i bez zbędnej zwłoki nabywców produktów oraz dokonanani wymiany odpowiednich informacji z właściwym organem lub – w stosownych przypadkach – z organem kontrolnym lub jednostką certyfikującą, w przypadku uzasadnionego podejrzenia wystąpienia niezgodności, podejrzenia wystąpienia niezgodności, której nie można wykluczyć, lub stwierdzenia niezgodności wpływającej na integralność produktów,"]
[null,"·         zaakceptowania przekazania dokumentacji kontrolnej w przypadku zmiany organu kontrolnego lub jednostki certyfikującej lub – w przypadku wycofania z produkcji ekologicznej – przechowywanie przez co najmniej pięć lat dokumentacji kontrolnej przez ostatni organ kontrolny lub ostatnią jednostkę certyfikującą,"]
[null,"·         bezzwłocznego poinformowania właściwy organ lub organ lub jednostkę wyznaczone zgodnie z art. 34 ust. 4, w przypadku wycofania się z produkcji ekologicznej "]
[null,"·         zaakceptowania wymiany informacji między organami lub jednostkami wyznaczonymi zgodnie z art. 34 ust. 4, w przypadku gdy podwykonawcy są kontrolowani przez różne organy kontrolne lub jednostki certyfikujące."]
["Data"]
["Miejscowość:"]
["Podpis wnioskodawcy:"]
["Uwaga:\n- Wniosek o certyfikację należy przesyłać co roku nie później niż do dnia 15 maja lub według informacji podanych przez JC"]

{"sheet":"Uzupełnia Jednostka ","index":12,"n_rows":6,"n_cols":1,"rows_kept":6,"cut":false,"hidden":false,"merged":[[0,0,0,1],[4,0,4,1],[5,0,5,1]]}
["WYPEŁNIA Bureau Veritas"]
["Data wpłynięcia: "]
["Numer wpisu do rejestru"]
["Podpis przyjmującego:"]
["Uwagi: "]
["Informacje udzielane Jednostce Certyfikującej w czasie procesu certyfikacji i po jej zakończeniu są traktowane poufnie."]